BEGIN:VCALENDAR
PRODID:NingEventWidget-v1
VERSION:2.0
METHOD:PUBLISH
BEGIN:VTIMEZONE
TZID:America/New_York
X-LIC-LOCATION:America/New_York
BEGIN:DAYLIGHT
TZOFFSETFROM:-0500
TZOFFSETTO:-0400
TZNAME:EDT
DTSTART:19700308T020000
RRULE:FREQ=YEARLY;BYMONTH=3;BYDAY=2SU
END:DAYLIGHT
BEGIN:STANDARD
TZOFFSETFROM:-0400
TZOFFSETTO:-0500
TZNAME:EST
DTSTART:19701101T020000
RRULE:FREQ=YEARLY;BYMONTH=11;BYDAY=1SU
END:STANDARD
END:VTIMEZONE
BEGIN:VEVENT
UID:2938326:Event:323016
DTSTAMP:20260419T141610Z
SUMMARY:Healthy Eats
DESCRIPTION:Canceled due to lack of interest.\n\nBBC Players & Sidelin
 ers- we’re throwing a special lunch just for you!  Come dine on a m
 eal that won’t topple your weight-loss goals at the Muscle Maker Gri
 ll in North Brunswick.   You’ll automatically receive a 10% discou
 nt on your lunch, but if 10 or more people attend, everyone gets 20% o
 ff!  Great food, at a great price, with even better company – the o
 nly thing you stand to lose is pounds.\n \n Schedule: 11:45am Meet and
  Greet at our reserved tables. 12-1pm Lunch Time (at your cost)  Cost:
  Private and free event for Players and Sideliners who are part of the
  Better Body Challenge. Pay for the cost of your meal. Tickets are req
 uired as space is limited.  Directions: Use Google Maps please. http:/
 /musclemakergrillnorthbrunswick.com/  How to Find the Group: Look for 
 signs or ask the counter staff for our group. We'll have tables reserv
 ed for us.\n\nFor more information visit http://njyp.org/events/health
 y-eats
DTSTART;TZID=America/New_York:20120310T114500
DTEND;TZID=America/New_York:20120310T130000
CATEGORIES:"middlesex county", social, bbc
LOCATION:Muscle Maker Grill
WEBSITE:http://musclemakergrillnorthbrunswick.com/
URL:http://musclemakergrillnorthbrunswick.com/
CONTACT:
ORGANIZER;CN="Brian and Mike":http://njyp.org/profile/BrianMike
ATTACH;FMTTYPE="image/jpeg":http://storage.ning.com/topology/rest/1.0/
 file/get/1088755484?profile=original
ATTENDEE;ROLE=REQ-PARTICIPANT;PARTSTAT=ACCEPTED;RSVP=TRUE;CN="Phil Rey
 es":http://njyp.org/profile/PhilReyes
ATTENDEE;ROLE=REQ-PARTICIPANT;PARTSTAT=ACCEPTED;RSVP=TRUE;CN="Jordan S
 pitzer-London":http://njyp.org/profile/JordanSpitzerLondon
ATTENDEE;ROLE=REQ-PARTICIPANT;PARTSTAT=ACCEPTED;RSVP=TRUE;CN=Diana:htt
 p://njyp.org/profile/Diana437
ATTENDEE;ROLE=REQ-PARTICIPANT;PARTSTAT=ACCEPTED;RSVP=TRUE;CN=Sheila:ht
 tp://njyp.org/profile/Sheila
ATTENDEE;ROLE=REQ-PARTICIPANT;PARTSTAT=ACCEPTED;RSVP=TRUE;CN="Michelle
  Iden":http://njyp.org/profile/MichelleIden
ATTENDEE;ROLE=REQ-PARTICIPANT;PARTSTAT=TENTATIVE;RSVP=TRUE;CN=Lorette:
 http://njyp.org/profile/Lorette
ATTENDEE;ROLE=REQ-PARTICIPANT;PARTSTAT=TENTATIVE;RSVP=TRUE;CN=Raj:http
 ://njyp.org/profile/Raj516
ATTENDEE;ROLE=REQ-PARTICIPANT;PARTSTAT=TENTATIVE;RSVP=TRUE;CN=Soumya:h
 ttp://njyp.org/profile/Soumya
ATTENDEE;ROLE=REQ-PARTICIPANT;PARTSTAT=TENTATIVE;RSVP=TRUE;CN=Robert:h
 ttp://njyp.org/profile/Robert882
ATTENDEE;ROLE=REQ-PARTICIPANT;PARTSTAT=TENTATIVE;RSVP=TRUE;CN=Amanda:h
 ttp://njyp.org/profile/Amanda710
END:VEVENT
END:VCALENDAR
