BEGIN:VCALENDAR
PRODID:NingEventWidget-v1
VERSION:2.0
METHOD:PUBLISH
BEGIN:VTIMEZONE
TZID:America/New_York
X-LIC-LOCATION:America/New_York
BEGIN:DAYLIGHT
TZOFFSETFROM:-0500
TZOFFSETTO:-0400
TZNAME:EDT
DTSTART:19700308T020000
RRULE:FREQ=YEARLY;BYMONTH=3;BYDAY=2SU
END:DAYLIGHT
BEGIN:STANDARD
TZOFFSETFROM:-0400
TZOFFSETTO:-0500
TZNAME:EST
DTSTART:19701101T020000
RRULE:FREQ=YEARLY;BYMONTH=11;BYDAY=1SU
END:STANDARD
END:VTIMEZONE
BEGIN:VEVENT
UID:2938326:Event:513163
DTSTAMP:20260422T090843Z
SUMMARY:Hike and Hot Chocolate
DESCRIPTION:Due to snow hike moved from 2.15.14 to 3.1.14. Request ref
 unds by 2.25.14 via Laura@NJYP.org\n\nDid you buy the Winter Hike Pass
 ? Remember you can attend this hike at no cost, http://www.njyp.org/pa
 ge/winter-hike-pass\nÂ \nAlthough your relationship status might have 
 affected your plans the night before it can't keep you from the hike t
 hat has it all: fields, forest, a scenic overlook, and a river walk! T
 his 4.5 miler is sure make for happy hearts, all while doing the cardi
 ovascular system good.Â  What better way to celebrate the end of Valen
 tine's Day than with some good ol' fresh air, exercise, and then a tre
 at of hot chocolate for your hard work! A sweet and steamy beverage th
 at is sure to warm you from the inside out.\nÂ \nSpecs: Difficulty lev
 el is 2.5, http://www.njyp.org/page/hike-ratings 4.5 miles. As with al
 l hikes you must be in reasonable athletic shape.\n \n Member Cost: $1
 0 online $20 at the door (so please register online)\nÂ \nNon-Member C
 ost: $20 online and at the door\nÂ \nTickets: There are a limited numb
 er of Tickets for sale. Tickets are not mailed, but your name will be 
 kept at the door. Actual hike is subject to change depending on weathe
 r conditions, fallen trees, etc. All sales are final.\nÂ \nSweeper: If
  the group is large we are going to look for 2 volunteers to act as sw
 eepers. Sweepers will walk at the end of the hike line and will make s
 ure the group stays together.\nÂ \nHike Leader: Maren will be leading 
 this hike.\nÂ \nWhat to bring: Hiking boots or sneakers 2 Liters of Wa
 ter (required). Snacks, a light lunch, etc. Toilet paper, tissues, pla
 stic bags for garbage, etc.\nÂ \nInclement Weather: Most heavy precipi
 tation will cancel this hike; drizzle/flurries may not. Please check y
 our inbox for updates. Tickets will be refunded.\nÂ \nDirections: From
  I-80 West, take exit 26 to merge on US-46 West toward Budd Lake/Hacke
 ttstown. After about 5 miles turn left onto Naughright Road, followed 
 by a right turn onto Flocktown Road about 3 miles later. In 2 miles tu
 rn left onto NJ-24/Schooleys Mountain Road and then take the first rig
 ht onto Pleasant Grove Road. Continue onto Penwell Road and the parkin
 g lot will come up quickly on the right.Â \nhttp://www.co.hunterdon.nj
 .us/depts/parks/ParkAreas/PointMountainCentralSouth/TrailMapALL.pdf\nÂ
  \nhttps://maps.google.com/maps?oe=utf-8&client=firefox-a&ie=UTF-8&lay
 er=c&z=17&iwloc=A&sll=40.776943,-74.892505&cbp=13,73.8,0,0,0&cbll=40.7
 76939,-74.892522&q=417+Penwell+Road,+Port+Murray,+NJ+07865&ei=MynHUoWf
 EbHjsASVioK4DQ&ved=0CCwQxB0wAA\nÂ \nHow to find the group: Meet in the
  Penwell Road lot. We will not wait for latecomers.\n\nFor more inform
 ation visit http://njyp.org/events/hike-and-hot-chocolate
DTSTART;TZID=America/New_York:20140301T103000
DTEND;TZID=America/New_York:20140301T133000
CATEGORIES:"warren county", "hunterdon county", athletic, pass
LOCATION:Point Mountain Reservation
WEBSITE:http://www.co.hunterdon.nj.us/depts/parks/ParkAreas/PointMount
 ainCentralSouth/TrailMapALL.pdf
URL:http://www.co.hunterdon.nj.us/depts/parks/ParkAreas/PointMountainC
 entralSouth/TrailMapALL.pdf
CONTACT:
ORGANIZER;CN="Brian and Mike":http://njyp.org/profile/BrianMike
ATTACH;FMTTYPE="image/jpeg":http://storage.ning.com/topology/rest/1.0/
 file/get/1088704526?profile=original
ATTENDEE;ROLE=REQ-PARTICIPANT;PARTSTAT=ACCEPTED;RSVP=TRUE;CN=Laura:htt
 p://njyp.org/profile/Laura228
ATTENDEE;ROLE=REQ-PARTICIPANT;PARTSTAT=ACCEPTED;RSVP=TRUE;CN=Maren:htt
 p://njyp.org/profile/Maren160
ATTENDEE;ROLE=REQ-PARTICIPANT;PARTSTAT=ACCEPTED;RSVP=TRUE;CN=John:http
 ://njyp.org/profile/JohnE
ATTENDEE;ROLE=REQ-PARTICIPANT;PARTSTAT=ACCEPTED;RSVP=TRUE;CN=Anup:http
 ://njyp.org/profile/Anup
ATTENDEE;ROLE=REQ-PARTICIPANT;PARTSTAT=ACCEPTED;RSVP=TRUE;CN=Peter:htt
 p://njyp.org/profile/PeterMcDonnell
ATTENDEE;ROLE=REQ-PARTICIPANT;PARTSTAT=ACCEPTED;RSVP=TRUE;CN="Brian an
 d Mike":http://njyp.org/profile/BrianMike
ATTENDEE;ROLE=REQ-PARTICIPANT;PARTSTAT=TENTATIVE;RSVP=TRUE;CN=Michelle
 :http://njyp.org/profile/Michelle768
ATTENDEE;ROLE=REQ-PARTICIPANT;PARTSTAT=TENTATIVE;RSVP=TRUE;CN=Ardavan:
 http://njyp.org/profile/Ardavan
ATTENDEE;ROLE=REQ-PARTICIPANT;PARTSTAT=TENTATIVE;RSVP=TRUE;CN=Sara:htt
 p://njyp.org/profile/Sara263
ATTENDEE;ROLE=REQ-PARTICIPANT;PARTSTAT=TENTATIVE;RSVP=TRUE;CN=Marcus:h
 ttp://njyp.org/profile/MGarf
ATTENDEE;ROLE=REQ-PARTICIPANT;PARTSTAT=TENTATIVE;RSVP=TRUE;CN=Katrina:
 http://njyp.org/profile/Katrina
END:VEVENT
END:VCALENDAR
