BEGIN:VCALENDAR
PRODID:NingEventWidget-v1
VERSION:2.0
METHOD:PUBLISH
BEGIN:VTIMEZONE
TZID:America/New_York
X-LIC-LOCATION:America/New_York
BEGIN:DAYLIGHT
TZOFFSETFROM:-0500
TZOFFSETTO:-0400
TZNAME:EDT
DTSTART:19700308T020000
RRULE:FREQ=YEARLY;BYMONTH=3;BYDAY=2SU
END:DAYLIGHT
BEGIN:STANDARD
TZOFFSETFROM:-0400
TZOFFSETTO:-0500
TZNAME:EST
DTSTART:19701101T020000
RRULE:FREQ=YEARLY;BYMONTH=11;BYDAY=1SU
END:STANDARD
END:VTIMEZONE
BEGIN:VEVENT
UID:2938326:Event:91999
DTSTAMP:20260420T105109Z
SUMMARY:Hike and Hound
DESCRIPTION:Calling all dog owners and dog lovers! You and your furry 
 friends will enjoy this moderate loop hike that runs around the scenic
  Ramapo lake. We will also climb trough the ruins of an old stone cast
 le and take in some panoramic views as well. Woof! Woof!\n\nDogs:\nYou
  do NOT need to bring a dog to participate!\nAll pets must be leashed 
 the entire time, no matter what.\nBring water and a doggie dish as wel
 l as a plastic bag, or two.\n\n\n\nMember Cost:\n$5 for the first 5 to
  buy a ticket\n$10 for the next 6-25 to buy a ticket\n$20 at the door 
 (so please register online)\n\nNon-Member Cost:\n$20 online and at the
  door\n\nTickets:\nThere are a limited number of Tickets for sale.\nTi
 ckets are not mailed, but your name will be kept at the door.\nActual 
 hike is subject to change depending on weather conditions, fallen tree
 s, etc.\nAll sales are final.\n\nSpecs:\nThe hike is classified as mod
 erate and is about 3.2 miles long.\nThe hike should take 2-3 hours.\nA
 s with all hikes you must be in good, athletic shape.\n\nSweeper:\nIf 
 our hiking group is large we might look for 2 volunteers to act as swe
 epers. Sweepers will walk at the end of the hike line and will make su
 re the group stays together.\n\nHike Leader:\nNoah will be leading thi
 s hike.\n\nWhat to bring:\nHiking boots and water (required).\nSnacks,
  a light lunch, etc.\nToilet paper, tissues, plastic bags for garbage,
  etc.\n\nInclement Weather:\nLight rain might not cancel this hike. Pl
 ease check your inbox for updates and the NJYP.org calendar. Tickets w
 ill be refunded.\n\nDirections:\nTake Interstate Route 287 to Exit 57 
 (Skyline Drive) and proceed north on Skyline Drive. Just ahead on the 
 left is the Ramapo Mountain State Forest parking area.\n\nFor more inf
 ormation visit http://njyp.org/events/hike-and-hound
DTSTART;TZID=America/New_York:20100918T103000
DTEND;TZID=America/New_York:20100918T133000
CATEGORIES:"passaic county", athletic
LOCATION:Ramapo Mountain State Forest
WEBSITE:
URL:
CONTACT:
ORGANIZER;CN="Brian and Mike":http://njyp.org/profile/BrianMike
ATTACH;FMTTYPE="image/jpeg":http://storage.ning.com/topology/rest/1.0/
 file/get/1088632572?profile=original
ATTENDEE;ROLE=REQ-PARTICIPANT;PARTSTAT=ACCEPTED;RSVP=TRUE;CN=Noah:http
 ://njyp.org/profile/NoahFine
ATTENDEE;ROLE=REQ-PARTICIPANT;PARTSTAT=ACCEPTED;RSVP=TRUE;CN="Tara Bur
 ns":http://njyp.org/profile/TaraBurns
ATTENDEE;ROLE=REQ-PARTICIPANT;PARTSTAT=ACCEPTED;RSVP=TRUE;CN=Keira:htt
 p://njyp.org/profile/Keira
ATTENDEE;ROLE=REQ-PARTICIPANT;PARTSTAT=ACCEPTED;RSVP=TRUE;CN=Becky:htt
 p://njyp.org/profile/BeckyCapuano
ATTENDEE;ROLE=REQ-PARTICIPANT;PARTSTAT=ACCEPTED;RSVP=TRUE;CN="Brian an
 d Mike":http://njyp.org/profile/BrianMike
ATTENDEE;ROLE=REQ-PARTICIPANT;PARTSTAT=TENTATIVE;RSVP=TRUE;CN="Adrienn
 e Lukaski":http://njyp.org/profile/AdrienneLukaski
ATTENDEE;ROLE=REQ-PARTICIPANT;PARTSTAT=TENTATIVE;RSVP=TRUE;CN=Catherin
 e:http://njyp.org/profile/Catherine949
ATTENDEE;ROLE=REQ-PARTICIPANT;PARTSTAT=TENTATIVE;RSVP=TRUE;CN=Patricia
 :http://njyp.org/profile/TrishaOSha
ATTENDEE;ROLE=REQ-PARTICIPANT;PARTSTAT=TENTATIVE;RSVP=TRUE;CN="Cindy L
 in":http://njyp.org/profile/CindyLin
ATTENDEE;ROLE=REQ-PARTICIPANT;PARTSTAT=TENTATIVE;RSVP=TRUE;CN="Ken S."
 :http://njyp.org/profile/KennethSirower
ATTENDEE;ROLE=REQ-PARTICIPANT;PARTSTAT=TENTATIVE;RSVP=TRUE;CN="Jennife
 r Redmond":http://njyp.org/profile/JenniferRedmond
ATTENDEE;ROLE=REQ-PARTICIPANT;PARTSTAT=TENTATIVE;RSVP=TRUE;CN="Kevin H
 aughwout":http://njyp.org/profile/KevinHaughwout
ATTENDEE;ROLE=REQ-PARTICIPANT;PARTSTAT=TENTATIVE;RSVP=TRUE;CN="Michell
 e V.":http://njyp.org/profile/Michelle
ATTENDEE;ROLE=REQ-PARTICIPANT;PARTSTAT=TENTATIVE;RSVP=TRUE;CN=Tara:htt
 p://njyp.org/profile/TaraMorey
ATTENDEE;ROLE=REQ-PARTICIPANT;PARTSTAT=TENTATIVE;RSVP=TRUE;CN=Tracie:h
 ttp://njyp.org/profile/Tracie423
ATTENDEE;ROLE=REQ-PARTICIPANT;PARTSTAT=TENTATIVE;RSVP=TRUE;CN=MaryGrac
 e:http://njyp.org/profile/MaryGrace
END:VEVENT
END:VCALENDAR
