BEGIN:VCALENDAR
PRODID:NingEventWidget-v1
VERSION:2.0
METHOD:PUBLISH
BEGIN:VTIMEZONE
TZID:America/New_York
X-LIC-LOCATION:America/New_York
BEGIN:DAYLIGHT
TZOFFSETFROM:-0500
TZOFFSETTO:-0400
TZNAME:EDT
DTSTART:19700308T020000
RRULE:FREQ=YEARLY;BYMONTH=3;BYDAY=2SU
END:DAYLIGHT
BEGIN:STANDARD
TZOFFSETFROM:-0400
TZOFFSETTO:-0500
TZNAME:EST
DTSTART:19701101T020000
RRULE:FREQ=YEARLY;BYMONTH=11;BYDAY=1SU
END:STANDARD
END:VTIMEZONE
BEGIN:VEVENT
UID:2938326:Event:325113
DTSTAMP:20260419T105509Z
SUMMARY:Hike: Angry Birds
DESCRIPTION:Nestled in the center of Somerset County, this convenientl
 y located park offers hikers a refuge from suburbia with miles of trai
 ls through undeveloped woods.  Our hike will make you forget that you
 're mere minutes from the mall, as we take in Buttermilk Falls and sto
 p for a hawk spotting break.  Afterward, the group will go for lunch 
 'n drinks...always optional, but sure to be fun.\n Member Cost: $5 for
  the first 5 $10 for the next 6 to 25 $20 at the door Non-Member Cost:
  $20 online and at the door.\n\nAre you a Sideliner or Player? Go here
  for ticket discount info, http://www.njyp.org/group/the-better-body-c
 hallenge-main-group  Specs: Classified as moderate and includes severa
 l climbs. Length of the hike will be about 6 miles. We will walk at a 
 moderate pace. The hike should take 3 hours. As with all hikes you mus
 t be in good, athletic shape. Sweeper: If the group size is larger tha
 n 10, we are going to look for a volunteer to act as a sweeper. Sweepe
 rs will walk at the end of the hike line and will make sure the group 
 stays together. Hike Leader: Keira will be leading this hike. What to 
 bring: Hiking boots and at least 2 liters of water (required). We will
  stop for lunch/snack about half way through the hike so we recommend 
 you bring something to eat. We also recommend tissues, plastic bags fo
 r garbage, and similar items. Inclement Weather: Heavy precipitation w
 ill cancel this hike; drizzle will not. Please check your inbox for up
 dates and the NJYP.org calendar. Tickets will be refunded. Finding the
  Group: Meet in the parking lot PROMPTLY at 10:30.  Please allow extr
 a travel time as many of these parks are harder to find. Map: http://m
 aps.google.com/maps?q=40.596155,-74.574144&ll=40.596129,-74.574178&spn
 =0.004407,0.010568&sll=40.596843,-74.573486&sspn=0.015633,0.01568&num=
 1&layer=c&cbll=40.596129,-74.574178&panoid=Y8hy1dAsQYYpC1qgq2FFwA&cbp=
 12,99.39,,0,16.31&t=h&z=17 Driving Directions: From Route 22 Follow Ro
 ute 22 to Chimney Rock/Thompson Roads exit in Bridgewater. Traveling e
 astbound, you will need to make the u-turn and cross back over Route 2
 2. Traveling westbound, just make a right onto Thompson Road. At the e
 nd of Thompson bear right onto Chimney Rock Road. Drive approximately 
 1.5 miles until the road ends. Turn left onto Washington Valley Road. 
 Make the first left onto Newman's Lane. Travel on Newman's Lane until 
 you cross over a small bridge. There will then be a paved parking lot 
 on the left side. The park is immediately on the left. Useful Link: ht
 tp://www.somersetcountyparks.org/parksfacilities/washValley/Washington
 ValleyPk.html\n\nFor more information visit http://njyp.org/events/hik
 e-angry-birds-1
DTSTART;TZID=America/New_York:20120311T103000
DTEND;TZID=America/New_York:20120311T133000
CATEGORIES:"somerset county", athletic, bbc
LOCATION:Washington Valley Park
WEBSITE:http://maps.google.com/maps?q=40.596155,-74.574144&ll=40.59564
 9,-74.569767&spn=0.004578,0.010568&sll=40.596843,-74.573486&sspn=0.015
 633,0.01568&num=1&layer=c&cbll=40.596129,-74.574178&panoid=Y8hy1dAsQYY
 pC1qgq2FFwA&cbp=12,99.39,,0,16.31&t=h&z=17
URL:http://maps.google.com/maps?q=40.596155,-74.574144&ll=40.595649,-7
 4.569767&spn=0.004578,0.010568&sll=40.596843,-74.573486&sspn=0.015633,
 0.01568&num=1&layer=c&cbll=40.596129,-74.574178&panoid=Y8hy1dAsQYYpC1q
 gq2FFwA&cbp=12,99.39,,0,16.31&t=h&z=17
CONTACT:
ORGANIZER;CN="Brian and Mike":http://njyp.org/profile/BrianMike
ATTACH;FMTTYPE="image/jpeg":http://storage.ning.com/topology/rest/1.0/
 file/get/1088705273?profile=original
ATTENDEE;ROLE=REQ-PARTICIPANT;PARTSTAT=ACCEPTED;RSVP=TRUE;CN=Avi:http:
 //njyp.org/profile/Avi556
ATTENDEE;ROLE=REQ-PARTICIPANT;PARTSTAT=ACCEPTED;RSVP=TRUE;CN=Beth:http
 ://njyp.org/profile/Beth759
ATTENDEE;ROLE=REQ-PARTICIPANT;PARTSTAT=ACCEPTED;RSVP=TRUE;CN=Larry:htt
 p://njyp.org/profile/LarryYang
ATTENDEE;ROLE=REQ-PARTICIPANT;PARTSTAT=ACCEPTED;RSVP=TRUE;CN="Jeffrey 
 Rieske":http://njyp.org/profile/jwr
ATTENDEE;ROLE=REQ-PARTICIPANT;PARTSTAT=ACCEPTED;RSVP=TRUE;CN="Brittany
  Waldman":http://njyp.org/profile/BrittanyWaldman
ATTENDEE;ROLE=REQ-PARTICIPANT;PARTSTAT=ACCEPTED;RSVP=TRUE;CN=Dar:http:
 //njyp.org/profile/Darlene
ATTENDEE;ROLE=REQ-PARTICIPANT;PARTSTAT=ACCEPTED;RSVP=TRUE;CN=Katie:htt
 p://njyp.org/profile/Katie863
ATTENDEE;ROLE=REQ-PARTICIPANT;PARTSTAT=ACCEPTED;RSVP=TRUE;CN="Heather 
 Sears":http://njyp.org/profile/HeatherSears
ATTENDEE;ROLE=REQ-PARTICIPANT;PARTSTAT=ACCEPTED;RSVP=TRUE;CN="Jenny M"
 :http://njyp.org/profile/JennyMulcahy
ATTENDEE;ROLE=REQ-PARTICIPANT;PARTSTAT=ACCEPTED;RSVP=TRUE;CN=Chris:htt
 p://njyp.org/profile/ce
ATTENDEE;ROLE=REQ-PARTICIPANT;PARTSTAT=ACCEPTED;RSVP=TRUE;CN=Diana:htt
 p://njyp.org/profile/Diana437
ATTENDEE;ROLE=REQ-PARTICIPANT;PARTSTAT=ACCEPTED;RSVP=TRUE;CN=Peter:htt
 p://njyp.org/profile/PeterMcDonnell
ATTENDEE;ROLE=REQ-PARTICIPANT;PARTSTAT=ACCEPTED;RSVP=TRUE;CN=Sheila:ht
 tp://njyp.org/profile/Sheila
ATTENDEE;ROLE=REQ-PARTICIPANT;PARTSTAT=ACCEPTED;RSVP=TRUE;CN="Karen S.
 ":http://njyp.org/profile/KarenS
ATTENDEE;ROLE=REQ-PARTICIPANT;PARTSTAT=ACCEPTED;RSVP=TRUE;CN=Joseph:ht
 tp://njyp.org/profile/Joseph158
ATTENDEE;ROLE=REQ-PARTICIPANT;PARTSTAT=ACCEPTED;RSVP=TRUE;CN=Carrie:ht
 tp://njyp.org/profile/Carrie571
ATTENDEE;ROLE=REQ-PARTICIPANT;PARTSTAT=ACCEPTED;RSVP=TRUE;CN="Robert F
  Farley":http://njyp.org/profile/RobertFFarley
ATTENDEE;ROLE=REQ-PARTICIPANT;PARTSTAT=ACCEPTED;RSVP=TRUE;CN=David:htt
 p://njyp.org/profile/David16
ATTENDEE;ROLE=REQ-PARTICIPANT;PARTSTAT=ACCEPTED;RSVP=TRUE;CN="Brian an
 d Mike":http://njyp.org/profile/BrianMike
ATTENDEE;ROLE=REQ-PARTICIPANT;PARTSTAT=ACCEPTED;RSVP=TRUE;CN=Keira:htt
 p://njyp.org/profile/Keira
ATTENDEE;ROLE=REQ-PARTICIPANT;PARTSTAT=TENTATIVE;RSVP=TRUE;CN=Amanda:h
 ttp://njyp.org/profile/Amanda710
ATTENDEE;ROLE=REQ-PARTICIPANT;PARTSTAT=TENTATIVE;RSVP=TRUE;CN=Jenn:htt
 p://njyp.org/profile/Jenn583
ATTENDEE;ROLE=REQ-PARTICIPANT;PARTSTAT=TENTATIVE;RSVP=TRUE;CN=Andrew:h
 ttp://njyp.org/profile/Andrew292
ATTENDEE;ROLE=REQ-PARTICIPANT;PARTSTAT=TENTATIVE;RSVP=TRUE;CN=James:ht
 tp://njyp.org/profile/JamesShow
ATTENDEE;ROLE=REQ-PARTICIPANT;PARTSTAT=TENTATIVE;RSVP=TRUE;CN=Lisa:htt
 p://njyp.org/profile/Lisa258
ATTENDEE;ROLE=REQ-PARTICIPANT;PARTSTAT=TENTATIVE;RSVP=TRUE;CN=Dejan:ht
 tp://njyp.org/profile/Dejan
ATTENDEE;ROLE=REQ-PARTICIPANT;PARTSTAT=TENTATIVE;RSVP=TRUE;CN=David:ht
 tp://njyp.org/profile/DavidCollins
ATTENDEE;ROLE=REQ-PARTICIPANT;PARTSTAT=TENTATIVE;RSVP=TRUE;CN=Robert:h
 ttp://njyp.org/profile/Robert882
END:VEVENT
END:VCALENDAR
