BEGIN:VCALENDAR
PRODID:NingEventWidget-v1
VERSION:2.0
METHOD:PUBLISH
BEGIN:VTIMEZONE
TZID:America/New_York
X-LIC-LOCATION:America/New_York
BEGIN:DAYLIGHT
TZOFFSETFROM:-0500
TZOFFSETTO:-0400
TZNAME:EDT
DTSTART:19700308T020000
RRULE:FREQ=YEARLY;BYMONTH=3;BYDAY=2SU
END:DAYLIGHT
BEGIN:STANDARD
TZOFFSETFROM:-0400
TZOFFSETTO:-0500
TZNAME:EST
DTSTART:19701101T020000
RRULE:FREQ=YEARLY;BYMONTH=11;BYDAY=1SU
END:STANDARD
END:VTIMEZONE
BEGIN:VEVENT
UID:2938326:Event:171940
DTSTAMP:20260420T033319Z
SUMMARY:Hike: Chocolate Bunny Challenge
DESCRIPTION:This beautiful hike in Chester Township runs along the sce
 nic Black River, starting off by a historic gristmill, following an ab
 andoned railroad grade for part of the way and passing through a spect
 acular rocky gorge.  With its contrasting sections of moderate terrai
 n followed by the more challenging descent/ascent through the gorge, t
 his hike is a great way to work off those chocolate bunnies you may ha
 ve fallen victim to during April!  After the hike the group may go ou
 t for drinks and a late lunch.\n  \nMember Cost:$5 for the first 5$10
  for the next 6 to 25$20 at the doorNon-Member Cost:$20 online and at 
 the door.Tickets:There are a limited number of Tickets for sale. Ticke
 ts are not mailed, but your name will be kept at the door. All sales a
 re final.\n \nSpecs:The hike is classified as moderate due to length 
 and some uphill and downhill spots.The total length of the hike will b
 e about 6.5 miles.  We will walk at a moderate pace.The hike should t
 ake 3.5 - 4 hours.As with any spring hike, sections of the trail may b
 e muddy.As with all hikes you must be in good, athletic shape.Sweeper:
 If the group size is larger than 10,  we are going to look for a volu
 nteer to act as a sweeper. Sweepers will walk at the end of the hike l
 ine and will make sure the group stays together.Hike Leader:Keira will
  be leading this hike.What to bring:Hiking boots and at least 2 liters
  of water (required). We will stop for a light lunch/snack at the gorg
 e so we recommend you bring something to eat.  We also recommend tiss
 ues, plastic bags for garbage, and similar items.Inclement Weather:Hea
 vy precipitation will cancel this hike; drizzle will not. Please check
  your inbox for updates and the NJYP.org calendar. Tickets will be ref
 unded.Finding the Group:Meet in the parking lot PROMPTLY at 10:30.  P
 lease allow extra travel time as many of these parks are harder to fin
 d. This hike will start on time.Directions:Via Google Maps - http://go
 o.gl/maps/IIW2From Southern Points: From I-287 North, take Exit 22B to
  merger onto US 202/US 206 North toward Bedminster.  In 1.3 miles, ke
 ep left on US 206 North.  Continue 8.8 miles on US 206 North into Che
 ster.  Turn left onto West Main Street/County Route 513 (formerly des
 ignated as N.J. Route 24) and follow it for 1.2 miles to the entrance 
 to Cooper Mill Park, on the left side of the road.  (The Old Mill Tav
 ern is directly across from the parking lot on the right side of the r
 oad.)From Northern Points: Take I- 80 West to Exit 27A and continue so
 uth on US Route 206 for 8.0 miles. Turn right onto County Route 513 (f
 ormerly designated as N.J. Route 24) and follow it for 1.2 miles to th
 e entrance to Cooper Mill Park, on the left side of the road.Useful li
 nks:http://www.njhiking.com/best_hikes_in_nj_black_river.php http://mo
 rrisparks.net/aspparks/coopermillmain.asp\n\nFor more information visi
 t http://njyp.org/events/hike-chocolate-bunny-challenge
DTSTART;TZID=America/New_York:20110430T103000
DTEND;TZID=America/New_York:20110430T143000
CATEGORIES:"morris county", athletic
LOCATION:Black River Park
WEBSITE:http://goo.gl/maps/IIW2
URL:http://goo.gl/maps/IIW2
CONTACT:
ORGANIZER;CN="Brian and Mike":http://njyp.org/profile/BrianMike
ATTACH;FMTTYPE="image/jpeg":http://storage.ning.com/topology/rest/1.0/
 file/get/1088685921?profile=original
ATTENDEE;ROLE=REQ-PARTICIPANT;PARTSTAT=ACCEPTED;RSVP=TRUE;CN=Larry:htt
 p://njyp.org/profile/LarryYang
ATTENDEE;ROLE=REQ-PARTICIPANT;PARTSTAT=ACCEPTED;RSVP=TRUE;CN=Joe:http:
 //njyp.org/profile/Joe776
ATTENDEE;ROLE=REQ-PARTICIPANT;PARTSTAT=ACCEPTED;RSVP=TRUE;CN=Phillip:h
 ttp://njyp.org/profile/Phillip725
ATTENDEE;ROLE=REQ-PARTICIPANT;PARTSTAT=ACCEPTED;RSVP=TRUE;CN="Jose G."
 :http://njyp.org/profile/MrG
ATTENDEE;ROLE=REQ-PARTICIPANT;PARTSTAT=ACCEPTED;RSVP=TRUE;CN=Andrew:ht
 tp://njyp.org/profile/Andrew
ATTENDEE;ROLE=REQ-PARTICIPANT;PARTSTAT=ACCEPTED;RSVP=TRUE;CN="Jenny M"
 :http://njyp.org/profile/JennyMulcahy
ATTENDEE;ROLE=REQ-PARTICIPANT;PARTSTAT=ACCEPTED;RSVP=TRUE;CN=Eileen:ht
 tp://njyp.org/profile/Eileen703
ATTENDEE;ROLE=REQ-PARTICIPANT;PARTSTAT=ACCEPTED;RSVP=TRUE;CN=Eric:http
 ://njyp.org/profile/Eric980
ATTENDEE;ROLE=REQ-PARTICIPANT;PARTSTAT=ACCEPTED;RSVP=TRUE;CN=Melissa:h
 ttp://njyp.org/profile/Melissa117
ATTENDEE;ROLE=REQ-PARTICIPANT;PARTSTAT=ACCEPTED;RSVP=TRUE;CN=Stephanie
 :http://njyp.org/profile/Stephanie871
ATTENDEE;ROLE=REQ-PARTICIPANT;PARTSTAT=ACCEPTED;RSVP=TRUE;CN="John B":
 http://njyp.org/profile/johnb
ATTENDEE;ROLE=REQ-PARTICIPANT;PARTSTAT=ACCEPTED;RSVP=TRUE;CN=Stacey:ht
 tp://njyp.org/profile/Stacey63
ATTENDEE;ROLE=REQ-PARTICIPANT;PARTSTAT=ACCEPTED;RSVP=TRUE;CN="rachel i
 rene":http://njyp.org/profile/rachel_irene
ATTENDEE;ROLE=REQ-PARTICIPANT;PARTSTAT=ACCEPTED;RSVP=TRUE;CN=Adrienne:
 http://njyp.org/profile/Adrienne
ATTENDEE;ROLE=REQ-PARTICIPANT;PARTSTAT=ACCEPTED;RSVP=TRUE;CN=David:htt
 p://njyp.org/profile/David17
ATTENDEE;ROLE=REQ-PARTICIPANT;PARTSTAT=ACCEPTED;RSVP=TRUE;CN=Jonathan:
 http://njyp.org/profile/Jonathan
ATTENDEE;ROLE=REQ-PARTICIPANT;PARTSTAT=ACCEPTED;RSVP=TRUE;CN=Susan:htt
 p://njyp.org/profile/Susan617
ATTENDEE;ROLE=REQ-PARTICIPANT;PARTSTAT=ACCEPTED;RSVP=TRUE;CN=Tara:http
 ://njyp.org/profile/Tara632
ATTENDEE;ROLE=REQ-PARTICIPANT;PARTSTAT=ACCEPTED;RSVP=TRUE;CN=Peter:htt
 p://njyp.org/profile/PeterMcDonnell
ATTENDEE;ROLE=REQ-PARTICIPANT;PARTSTAT=ACCEPTED;RSVP=TRUE;CN=Keira:htt
 p://njyp.org/profile/Keira
ATTENDEE;ROLE=REQ-PARTICIPANT;PARTSTAT=ACCEPTED;RSVP=TRUE;CN="Brian an
 d Mike":http://njyp.org/profile/BrianMike
ATTENDEE;ROLE=REQ-PARTICIPANT;PARTSTAT=TENTATIVE;RSVP=TRUE;CN=Meghan:h
 ttp://njyp.org/profile/Meghan55
ATTENDEE;ROLE=REQ-PARTICIPANT;PARTSTAT=TENTATIVE;RSVP=TRUE;CN=Kim:http
 ://njyp.org/profile/Kim17
ATTENDEE;ROLE=REQ-PARTICIPANT;PARTSTAT=TENTATIVE;RSVP=TRUE;CN=Connor:h
 ttp://njyp.org/profile/Connor
ATTENDEE;ROLE=REQ-PARTICIPANT;PARTSTAT=TENTATIVE;RSVP=TRUE;CN=Jef:http
 ://njyp.org/profile/Jef
ATTENDEE;ROLE=REQ-PARTICIPANT;PARTSTAT=TENTATIVE;RSVP=TRUE;CN=Patrick:
 http://njyp.org/profile/Patrick
ATTENDEE;ROLE=REQ-PARTICIPANT;PARTSTAT=TENTATIVE;RSVP=TRUE;CN=Diane:ht
 tp://njyp.org/profile/Diane
ATTENDEE;ROLE=REQ-PARTICIPANT;PARTSTAT=TENTATIVE;RSVP=TRUE;CN=Dejan:ht
 tp://njyp.org/profile/Dejan
ATTENDEE;ROLE=REQ-PARTICIPANT;PARTSTAT=TENTATIVE;RSVP=TRUE;CN=akhtar:h
 ttp://njyp.org/profile/nasser
ATTENDEE;ROLE=REQ-PARTICIPANT;PARTSTAT=TENTATIVE;RSVP=TRUE;CN=Amanda:h
 ttp://njyp.org/profile/Amanda710
ATTENDEE;ROLE=REQ-PARTICIPANT;PARTSTAT=TENTATIVE;RSVP=TRUE;CN=geeta:ht
 tp://njyp.org/profile/geeta
ATTENDEE;ROLE=REQ-PARTICIPANT;PARTSTAT=TENTATIVE;RSVP=TRUE;CN=Douglas:
 http://njyp.org/profile/Douglas657
ATTENDEE;ROLE=REQ-PARTICIPANT;PARTSTAT=TENTATIVE;RSVP=TRUE;CN=Peter:ht
 tp://njyp.org/profile/Peter70
ATTENDEE;ROLE=REQ-PARTICIPANT;PARTSTAT=TENTATIVE;RSVP=TRUE;CN="Sarah M
 iddleton":http://njyp.org/profile/SarahM
ATTENDEE;ROLE=REQ-PARTICIPANT;PARTSTAT=TENTATIVE;RSVP=TRUE;CN="Jennife
 r Redmond":http://njyp.org/profile/JenniferRedmond
ATTENDEE;ROLE=REQ-PARTICIPANT;PARTSTAT=TENTATIVE;RSVP=TRUE;CN=Ahsan:ht
 tp://njyp.org/profile/Ahsan
ATTENDEE;ROLE=REQ-PARTICIPANT;PARTSTAT=TENTATIVE;RSVP=TRUE;CN=Kevin:ht
 tp://njyp.org/profile/Kevin84
ATTENDEE;ROLE=REQ-PARTICIPANT;PARTSTAT=TENTATIVE;RSVP=TRUE;CN="Rob M":
 http://njyp.org/profile/RobM
ATTENDEE;ROLE=REQ-PARTICIPANT;PARTSTAT=TENTATIVE;RSVP=TRUE;CN="Jahnavi
  Utukuri":http://njyp.org/profile/JahnaviUtukuri
ATTENDEE;ROLE=REQ-PARTICIPANT;PARTSTAT=TENTATIVE;RSVP=TRUE;CN=Lizzie:h
 ttp://njyp.org/profile/ElizabethKuhns
ATTENDEE;ROLE=REQ-PARTICIPANT;PARTSTAT=TENTATIVE;RSVP=TRUE;CN="Allison
  Froehlich":http://njyp.org/profile/AllisonFroehlich
END:VEVENT
END:VCALENDAR
