BEGIN:VCALENDAR
PRODID:NingEventWidget-v1
VERSION:2.0
METHOD:PUBLISH
BEGIN:VTIMEZONE
TZID:America/New_York
X-LIC-LOCATION:America/New_York
BEGIN:DAYLIGHT
TZOFFSETFROM:-0500
TZOFFSETTO:-0400
TZNAME:EDT
DTSTART:19700308T020000
RRULE:FREQ=YEARLY;BYMONTH=3;BYDAY=2SU
END:DAYLIGHT
BEGIN:STANDARD
TZOFFSETFROM:-0400
TZOFFSETTO:-0500
TZNAME:EST
DTSTART:19701101T020000
RRULE:FREQ=YEARLY;BYMONTH=11;BYDAY=1SU
END:STANDARD
END:VTIMEZONE
BEGIN:VEVENT
UID:2938326:Event:647679
DTSTAMP:20260420T023600Z
SUMMARY:Hike: Fresh Spring Allaire
DESCRIPTION:Did you buy the Winter Hike Pass? Remember you can attend 
 this hike at no cost, http://www.njyp.org/page/winter-hike-pass\n\nHi
 story and hiking, huzzah! We will walk through a Pine Barrens ecosyste
 m typical of the area, while seeing what remains of the Howell Works C
 ompany, an iron producing community established almost two centuries a
 go in the 1830’s. There may even be a chance to visit the functional
  period-correct bakery (supposed to open mid-February).  Afterward, t
 he group will go for a late lunch and drinks...totally optional but al
 ways fun!\n\n\n\nMember Cost: $10 online $20 the day of and at the doo
 r\n\nNon-Member Cost: $20 online and at the door.\n \nTickets: There 
 are a limited number of tickets for sale. Tickets are not mailed, but 
 your name will be kept at the door. All sales are final.\n \nSpecs: D
 ifficulty level is 1.0, http://www.njyp.org/page/hike-ratings Length 
 of the hike is about 3-4 miles long and we will walk at a moderate pac
 e.  The hike should take about 2.5 hours.   As with all hikes you mus
 t be in good, athletic shape.\n \nSweeper: If the group size is large
  we are going to look for a volunteer to act as a sweeper. Sweepers wi
 ll walk at the end of the hike line and will make sure the group stays
  together.\n \nHike Leader: Maren will be leading this hike. She will
  make sure the hike starts on time so please arrive on time.\n \nWhat
  to bring: Water (required). Hiking boots and bug spray recommended. A
  light snack.\n \nInclement Weather: Heavy precipitation will cancel 
 this hike; drizzle will not. Please check your inbox for updates and t
 he NJYP.org calendar. Tickets will be refunded.\n \nDirections: Meet 
 the group in the parking lot.  The hike will start on time. Parking L
 ot Coordinates, 40.158877,-74.13012 https://goo.gl/maps/6xZnl\n\nhtt
 p://www.state.nj.us/dep/parksandforests/parks/maps/allaire_final_trail
 _map.pdf\n\n\nFor more information visit http://njyp.org/events/hike-f
 resh-winter-allaire
DTSTART;TZID=America/New_York:20150426T103000
DTEND;TZID=America/New_York:20150426T130000
CATEGORIES:"monmouth county", athletic, pass2015
LOCATION:Allaire State Park
WEBSITE:https://goo.gl/maps/6xZnl
URL:https://goo.gl/maps/6xZnl
CONTACT:
ORGANIZER;CN="Brian and Mike":http://njyp.org/profile/BrianMike
ATTACH;FMTTYPE="image/jpeg":http://storage.ning.com/topology/rest/1.0/
 file/get/1088789471?profile=original
ATTENDEE;ROLE=REQ-PARTICIPANT;PARTSTAT=ACCEPTED;RSVP=TRUE;CN=Maren:htt
 p://njyp.org/profile/Maren160
ATTENDEE;ROLE=REQ-PARTICIPANT;PARTSTAT=ACCEPTED;RSVP=TRUE;CN="Brian an
 d Mike":http://njyp.org/profile/BrianMike
ATTENDEE;ROLE=REQ-PARTICIPANT;PARTSTAT=TENTATIVE;RSVP=TRUE;CN=Jennifer
 :http://njyp.org/profile/Jennifer949
ATTENDEE;ROLE=REQ-PARTICIPANT;PARTSTAT=TENTATIVE;RSVP=TRUE;CN=Rasika:h
 ttp://njyp.org/profile/Rasika
ATTENDEE;ROLE=REQ-PARTICIPANT;PARTSTAT=TENTATIVE;RSVP=TRUE;CN=Ken:http
 ://njyp.org/profile/Ken547
ATTENDEE;ROLE=REQ-PARTICIPANT;PARTSTAT=TENTATIVE;RSVP=TRUE;CN=Joseph:h
 ttp://njyp.org/profile/JosephTakach
ATTENDEE;ROLE=REQ-PARTICIPANT;PARTSTAT=TENTATIVE;RSVP=TRUE;CN=Nicole:h
 ttp://njyp.org/profile/Nicole267
END:VEVENT
END:VCALENDAR
