BEGIN:VCALENDAR
PRODID:NingEventWidget-v1
VERSION:2.0
METHOD:PUBLISH
BEGIN:VTIMEZONE
TZID:America/New_York
X-LIC-LOCATION:America/New_York
BEGIN:DAYLIGHT
TZOFFSETFROM:-0500
TZOFFSETTO:-0400
TZNAME:EDT
DTSTART:19700308T020000
RRULE:FREQ=YEARLY;BYMONTH=3;BYDAY=2SU
END:DAYLIGHT
BEGIN:STANDARD
TZOFFSETFROM:-0400
TZOFFSETTO:-0500
TZNAME:EST
DTSTART:19701101T020000
RRULE:FREQ=YEARLY;BYMONTH=11;BYDAY=1SU
END:STANDARD
END:VTIMEZONE
BEGIN:VEVENT
UID:2938326:Event:104364
DTSTAMP:20260420T123626Z
SUMMARY:Hike: Full Moon at Blue Mountain Lakes
DESCRIPTION:Get ready for awesome!!! Not only will we hike in one of t
 he most beautiful and remote areas of NJ, we’re going to do part of 
 it under the stars and moonlight! Join us in our evening adventure and
  experience the forest in a whole new light. We will be hiking about 6
  to 7 miles total with at least a full mile of it under the moonlight.
  At some point in our adventure, we will roast marshmallows and enjoy 
 tasty s’mores by camp stove or campfire.\n\n $20 at the door if you 
 do not buy a ticket online.\n\nHike Leader:\nDavid will be leading thi
 s hike.\nDavid will not be waiting for late people. In fairness to tho
 se who arrive on time, the hike will start on time.\n\nSpecs:\nThe hik
 e is classified as moderately strenuous with a lot of uphill and downh
 ill.\nWe will be hiking a total of about 6 to 7 miles and will take ap
 prox 4.5 hours.\n\nSweeper:\nIf the group size is larger than 10, we a
 re going to look for a volunteer to act as a sweeper. Sweepers will wa
 lk at the end of the hike line and will make sure the group stays toge
 ther.\n\nWhat to bring:\nHiking boots and 3 liters of water (required)
 . This hike is going to be taxing and you need to have the right gear 
 and supply of water.\nAlso, bring a light source. We will try to navig
 ate by the moonlight with our eyes adapted to the limited light, but w
 e still may need an external light source.\nBring a light snack or mea
 l to keep your appetite satisfied.\n\nInclement Weather:\nAny precipit
 ation will cancel this hike. Please check your inbox for updates. Tick
 ets will be refunded.\n\nDirections:\nTake RT 80 west to exit 12. At t
 he end of the exit ramp, take a right onto RT 521 (Hope / Blairstown R
 d). Take that to the end and make a left onto RT 94 South. At the firs
 t light, make the weaker right onto Bridge St. Do not take the sharpes
 t right, make sure you are on Bridge St. Follow that up the hill and m
 ake a right onto Millbrook Rd. Follow that for 6.4 miles until you see
  Historical Millbrook Village on your right and turn right onto Old Mi
 ne Rd (North) there (the sign for Old Mine Rd was gone last time, so p
 lease look for the Historical Millbrook Village and count your mileage
 ). Continue on Old Mine Rd for 1.5 miles and make your first right (yo
 u’ll see a sign for Blue Mountain Lakes) onto Flatrockville Stillwat
 er Rd (also known as Blue Mountain Lakes Rd). The parking area is 1.3 
 miles up on the left.\n\nPlease give plenty of time to arrive here. On
 ce at that lot, we will carpool to the smaller lot approx 10 min away 
 via dirt road. Although never required, please consider sharing your v
 ehicle for a carpool.\n\nPlease Note If you decide to use GPS and not 
 these directions, please note that you can only approach the destinati
 on from the western side. The eastern side is gated off even though it
  may show as a continuous road.\n\nhttp://maps.google.com/maps?f=d&sou
 rce=s_d&saddr=&daddr=Co+Rd+624%2FFlatbrookville+Stillwater+Rd&hl=en&ge
 ocode=FQAbcwIdk5SI-w&mra=mr&sll=41.10445,-74.942722&sspn=0.099857,0.15
 3637&ie=UTF8&ll=41.097853,-74.931049&spn=0.099867,0.153637&z=13\n\nHow
  to find the group:\nMeet in the parking lot just off the road. We wil
 l be carpooling to another lot about 10 min away so please be willing 
 to share your car or leave it behind for a while.\n\nFor more informat
 ion visit http://njyp.org/events/hike-full-moon-at-blue-1
DTSTART;TZID=America/New_York:20101023T150000
DTEND;TZID=America/New_York:20101023T200000
CATEGORIES:"sussex county", athletic
LOCATION:Blue Mountain Lakes
WEBSITE:http://maps.google.com/maps?f=d&source=s_d&saddr=&daddr=Co+Rd+
 624%2FFlatbrookville+Stillwater+Rd&hl=en&geocode=FQAbcwIdk5SI-w&mra=mr
 &sll=41.10445,-74.942722&sspn=0.099857,0.153637&ie=UTF8&ll=41.097853,-
 74.931049&spn=0.099867,0.153637&z=13
URL:http://maps.google.com/maps?f=d&source=s_d&saddr=&daddr=Co+Rd+624%
 2FFlatbrookville+Stillwater+Rd&hl=en&geocode=FQAbcwIdk5SI-w&mra=mr&sll
 =41.10445,-74.942722&sspn=0.099857,0.153637&ie=UTF8&ll=41.097853,-74.9
 31049&spn=0.099867,0.153637&z=13
CONTACT:
ORGANIZER;CN="Brian and Mike":http://njyp.org/profile/BrianMike
ATTACH;FMTTYPE="image/jpeg":http://storage.ning.com/topology/rest/1.0/
 file/get/1088645582?profile=original
ATTENDEE;ROLE=REQ-PARTICIPANT;PARTSTAT=ACCEPTED;RSVP=TRUE;CN=Jennifer:
 http://njyp.org/profile/JenniferGates
ATTENDEE;ROLE=REQ-PARTICIPANT;PARTSTAT=ACCEPTED;RSVP=TRUE;CN=David:htt
 p://njyp.org/profile/DavidCollins
ATTENDEE;ROLE=REQ-PARTICIPANT;PARTSTAT=ACCEPTED;RSVP=TRUE;CN=Laura:htt
 p://njyp.org/profile/Laura104
ATTENDEE;ROLE=REQ-PARTICIPANT;PARTSTAT=ACCEPTED;RSVP=TRUE;CN=Joseph:ht
 tp://njyp.org/profile/Joseph739
ATTENDEE;ROLE=REQ-PARTICIPANT;PARTSTAT=ACCEPTED;RSVP=TRUE;CN=Mike:http
 ://njyp.org/profile/Mike30
ATTENDEE;ROLE=REQ-PARTICIPANT;PARTSTAT=ACCEPTED;RSVP=TRUE;CN="Tara Bur
 ns":http://njyp.org/profile/TaraBurns
ATTENDEE;ROLE=REQ-PARTICIPANT;PARTSTAT=ACCEPTED;RSVP=TRUE;CN=NorthNJDa
 vid:http://njyp.org/profile/NorthNJDavid
ATTENDEE;ROLE=REQ-PARTICIPANT;PARTSTAT=ACCEPTED;RSVP=TRUE;CN="Brian an
 d Mike":http://njyp.org/profile/BrianMike
ATTENDEE;ROLE=REQ-PARTICIPANT;PARTSTAT=TENTATIVE;RSVP=TRUE;CN="Allison
  Froehlich":http://njyp.org/profile/AllisonFroehlich
ATTENDEE;ROLE=REQ-PARTICIPANT;PARTSTAT=TENTATIVE;RSVP=TRUE;CN="Melanie
  Wische":http://njyp.org/profile/MelanieWische
ATTENDEE;ROLE=REQ-PARTICIPANT;PARTSTAT=TENTATIVE;RSVP=TRUE;CN=Avi:http
 ://njyp.org/profile/AviN
ATTENDEE;ROLE=REQ-PARTICIPANT;PARTSTAT=TENTATIVE;RSVP=TRUE;CN=Ade:http
 ://njyp.org/profile/Clement
ATTENDEE;ROLE=REQ-PARTICIPANT;PARTSTAT=TENTATIVE;RSVP=TRUE;CN=Alison:h
 ttp://njyp.org/profile/Alison671
ATTENDEE;ROLE=REQ-PARTICIPANT;PARTSTAT=TENTATIVE;RSVP=TRUE;CN=Keira:ht
 tp://njyp.org/profile/Keira
ATTENDEE;ROLE=REQ-PARTICIPANT;PARTSTAT=TENTATIVE;RSVP=TRUE;CN=Robert:h
 ttp://njyp.org/profile/Robert367
ATTENDEE;ROLE=REQ-PARTICIPANT;PARTSTAT=TENTATIVE;RSVP=TRUE;CN=Jennifer
 :http://njyp.org/profile/Jennifer234
ATTENDEE;ROLE=REQ-PARTICIPANT;PARTSTAT=TENTATIVE;RSVP=TRUE;CN=Adrienne
 :http://njyp.org/profile/Adrienne
ATTENDEE;ROLE=REQ-PARTICIPANT;PARTSTAT=TENTATIVE;RSVP=TRUE;CN="John B"
 :http://njyp.org/profile/johnb
ATTENDEE;ROLE=REQ-PARTICIPANT;PARTSTAT=TENTATIVE;RSVP=TRUE;CN=Megan:ht
 tp://njyp.org/profile/Margaret107
ATTENDEE;ROLE=REQ-PARTICIPANT;PARTSTAT=TENTATIVE;RSVP=TRUE;CN=Tara:htt
 p://njyp.org/profile/TaraMorey
END:VEVENT
END:VCALENDAR
