BEGIN:VCALENDAR
PRODID:NingEventWidget-v1
VERSION:2.0
METHOD:PUBLISH
BEGIN:VTIMEZONE
TZID:America/New_York
X-LIC-LOCATION:America/New_York
BEGIN:DAYLIGHT
TZOFFSETFROM:-0500
TZOFFSETTO:-0400
TZNAME:EDT
DTSTART:19700308T020000
RRULE:FREQ=YEARLY;BYMONTH=3;BYDAY=2SU
END:DAYLIGHT
BEGIN:STANDARD
TZOFFSETFROM:-0400
TZOFFSETTO:-0500
TZNAME:EST
DTSTART:19701101T020000
RRULE:FREQ=YEARLY;BYMONTH=11;BYDAY=1SU
END:STANDARD
END:VTIMEZONE
BEGIN:VEVENT
UID:2938326:Event:77568
DTSTAMP:20260420T023502Z
SUMMARY:Hike: Full Moon at Blue Mountain Lakes
DESCRIPTION:Get ready for awesome!!! Together we are going to hike thr
 ough one of the most beautiful and remote areas of NJ partly UNDER THE
  FULL MOON and stars. This 6.5 mile hike will begin in the evening but
  end under full moonlight with a Smores campfire. Experience the fores
 t like you never have before while making other adventurous friends.\n
 \n\n\nMember Cost:\n$5 for the first 5\n$10 for the next 6 to 25\n$20 
 at the door\n\nNon-Member Cost:\n$20 online and at the door.\n\nSpecs:
 \nThe hike is classified as moderately strenuous with a lot of uphill 
 and downhill.\nIt will last 4-5 hours depending on how long we break f
 or.\nWe will be hiking a total of about 6.5 miles with an option of an
  additional 1.5 strenuous miles, depending on how the group votes. The
  reward for the additional hike will be crystal clear waterfall nestle
 d amidst a cedar forest.\nAs with all hikes you must be in good, athle
 tic shape. This is NOT suitable for beginners.\n\nTickets:\nThere are 
 a limited number of Tickets for sale. Tickets are not mailed, but your
  name will be kept at the door. All sales are final.\n\nSweeper:\nIf t
 he group size is larger than 10, we are going to look for a volunteer 
 to act as a sweeper. Sweepers will walk at the end of the hike line an
 d will make sure the group stays together.\n\nHike Leader:\nDavid will
  be leading this hike.\n\nWhat to bring:\nHiking boots and 3 liters of
  water (required).\nThis hike is going to be taxing and you need to ha
 ve the right gear and supply of water.\nBring a light source. We will 
 try to navigate by the moonlight with our eyes adapted to the limited 
 light, but we still may need an external light source.\nWe strongly re
 commend bug spray and a light snack or meal to keep your appetite sati
 sfied.\n\nInclement Weather:\nAny precipitation will cancel this hike 
 since we will be walking with limited light at some point. Please chec
 k your inbox for updates. Tickets will be refunded.\n\nDirections:\nTa
 ke RT 80 west to exit 12. At the end of the exit ramp, take a right on
 to RT 521 (Hope / Blairstown Rd). Take that to the end and make a left
  onto RT 94 South. At the first light, make the weaker right onto Brid
 ge St. Do not take the sharpest right, make sure you are on Bridge St.
  Follow that up the hill and make a right onto High St, then bear left
  onto Millbrook Rd. Follow that for 6.4 miles until you see Historical
  Millbrook Village on your right and turn right onto Old Mine Rd (Nort
 h) there. Continue on Old Mine Rd for 1.5 miles and make your first ri
 ght onto Flatrockville Stillwater Rd (also known as Blue Mountain Lake
 s Rd). The parking area is 1.3 miles up on the left.\n\nImportant: If 
 you decide to use GPS and not these directions, please note that you c
 an only approach the destination from the western side. The eastern si
 de is gated off even though it may show as a continuous road.\n\nGoogl
 e Maps Link http://maps.google.com/maps?f=d&source=s_d&saddr=&daddr=Co
 +Rd+624%2FFlatbrookville+Stillwater+Rd&hl=en&geocode=FQAbcwIdk5SI-w&mr
 a=mr&sll=41.10445,-74.942722&sspn=0.099857,0.153637&ie=UTF8&ll=41.0978
 53,-74.931049&spn=0.099867,0.153637&z=13\n\nHow to find the group:\nMe
 et in the parking lot just off the road. We will be carpooling to anot
 her lot about 5 – 10 min away so please be willing to share your car
  (or leave it behind for a while). We will not wait for latecomers so 
 please arrive on time.\n\nFor more information visit http://njyp.org/e
 vents/hike-full-moon-at-blue
DTSTART;TZID=America/New_York:20100724T173000
DTEND;TZID=America/New_York:20100724T223000
CATEGORIES:"sussex county", "other county", athletic
LOCATION:Blue Mountain Lakes
WEBSITE:http://maps.google.com/maps?f=d&source=s_d&saddr=&daddr=Co+Rd+
 624%2FFlatbrookville+Stillwater+Rd&hl=en&geocode=FQAbcwIdk5SI-w&mra=mr
 &sll=41.10445,-74.942722&sspn=0.099857,0.153637&ie=UTF8&ll=41.097853,-
 74.931049&spn=0.099867,0.153637&z=13
URL:http://maps.google.com/maps?f=d&source=s_d&saddr=&daddr=Co+Rd+624%
 2FFlatbrookville+Stillwater+Rd&hl=en&geocode=FQAbcwIdk5SI-w&mra=mr&sll
 =41.10445,-74.942722&sspn=0.099857,0.153637&ie=UTF8&ll=41.097853,-74.9
 31049&spn=0.099867,0.153637&z=13
CONTACT:
ORGANIZER;CN="Brian and Mike":http://njyp.org/profile/BrianMike
ATTACH;FMTTYPE="image/jpeg":http://storage.ning.com/topology/rest/1.0/
 file/get/1088626748?profile=original
ATTENDEE;ROLE=REQ-PARTICIPANT;PARTSTAT=ACCEPTED;RSVP=TRUE;CN=David:htt
 p://njyp.org/profile/DavidKuhn
ATTENDEE;ROLE=REQ-PARTICIPANT;PARTSTAT=ACCEPTED;RSVP=TRUE;CN="Abhijit 
 Sheth":http://njyp.org/profile/AbhijitSheth
ATTENDEE;ROLE=REQ-PARTICIPANT;PARTSTAT=ACCEPTED;RSVP=TRUE;CN="Dana Geo
 rge":http://njyp.org/profile/DanaGeorge
ATTENDEE;ROLE=REQ-PARTICIPANT;PARTSTAT=ACCEPTED;RSVP=TRUE;CN="Ken S.":
 http://njyp.org/profile/KennethSirower
ATTENDEE;ROLE=REQ-PARTICIPANT;PARTSTAT=ACCEPTED;RSVP=TRUE;CN=Jonathan:
 http://njyp.org/profile/Jonathan
ATTENDEE;ROLE=REQ-PARTICIPANT;PARTSTAT=ACCEPTED;RSVP=TRUE;CN="Jay Shah
 ":http://njyp.org/profile/JayShah
ATTENDEE;ROLE=REQ-PARTICIPANT;PARTSTAT=ACCEPTED;RSVP=TRUE;CN="Jennifer
  Redmond":http://njyp.org/profile/JenniferRedmond
ATTENDEE;ROLE=REQ-PARTICIPANT;PARTSTAT=ACCEPTED;RSVP=TRUE;CN="Chip Rob
 inson":http://njyp.org/profile/ChipRobinson
ATTENDEE;ROLE=REQ-PARTICIPANT;PARTSTAT=ACCEPTED;RSVP=TRUE;CN=Jason:htt
 p://njyp.org/profile/Jason358
ATTENDEE;ROLE=REQ-PARTICIPANT;PARTSTAT=ACCEPTED;RSVP=TRUE;CN=Kasia:htt
 p://njyp.org/profile/Kasia
ATTENDEE;ROLE=REQ-PARTICIPANT;PARTSTAT=ACCEPTED;RSVP=TRUE;CN=Diego:htt
 p://njyp.org/profile/Diego
ATTENDEE;ROLE=REQ-PARTICIPANT;PARTSTAT=ACCEPTED;RSVP=TRUE;CN="Tara Bur
 ns":http://njyp.org/profile/TaraBurns
ATTENDEE;ROLE=REQ-PARTICIPANT;PARTSTAT=ACCEPTED;RSVP=TRUE;CN=Jennifer:
 http://njyp.org/profile/JenniferKorkin
ATTENDEE;ROLE=REQ-PARTICIPANT;PARTSTAT=ACCEPTED;RSVP=TRUE;CN=Elizabeth
 :http://njyp.org/profile/Quirky3
ATTENDEE;ROLE=REQ-PARTICIPANT;PARTSTAT=ACCEPTED;RSVP=TRUE;CN=Jennifer:
 http://njyp.org/profile/Jennifer234
ATTENDEE;ROLE=REQ-PARTICIPANT;PARTSTAT=ACCEPTED;RSVP=TRUE;CN="Dave Don
 io":http://njyp.org/profile/DaveDonio
ATTENDEE;ROLE=REQ-PARTICIPANT;PARTSTAT=ACCEPTED;RSVP=TRUE;CN="Lauren S
 eabrooks":http://njyp.org/profile/LaurenSeabrooks
ATTENDEE;ROLE=REQ-PARTICIPANT;PARTSTAT=ACCEPTED;RSVP=TRUE;CN="Brian Ph
 illips":http://njyp.org/profile/BrianPhillips
ATTENDEE;ROLE=REQ-PARTICIPANT;PARTSTAT=ACCEPTED;RSVP=TRUE;CN="Hermelin
 da Saez":http://njyp.org/profile/HermelindaSaez
ATTENDEE;ROLE=REQ-PARTICIPANT;PARTSTAT=ACCEPTED;RSVP=TRUE;CN=Adam:http
 ://njyp.org/profile/Adam
ATTENDEE;ROLE=REQ-PARTICIPANT;PARTSTAT=ACCEPTED;RSVP=TRUE;CN="Dawn M. 
 Bodrogi":http://njyp.org/profile/DawnMBodrogi
ATTENDEE;ROLE=REQ-PARTICIPANT;PARTSTAT=ACCEPTED;RSVP=TRUE;CN=McKenzie:
 http://njyp.org/profile/McKenzie
ATTENDEE;ROLE=REQ-PARTICIPANT;PARTSTAT=ACCEPTED;RSVP=TRUE;CN="Brian Ge
 niton":http://njyp.org/profile/BrianGeniton
ATTENDEE;ROLE=REQ-PARTICIPANT;PARTSTAT=ACCEPTED;RSVP=TRUE;CN="John B":
 http://njyp.org/profile/johnb
ATTENDEE;ROLE=REQ-PARTICIPANT;PARTSTAT=ACCEPTED;RSVP=TRUE;CN=Robert:ht
 tp://njyp.org/profile/Robert367
ATTENDEE;ROLE=REQ-PARTICIPANT;PARTSTAT=ACCEPTED;RSVP=TRUE;CN="Lillian 
 T.":http://njyp.org/profile/LillianT
ATTENDEE;ROLE=REQ-PARTICIPANT;PARTSTAT=ACCEPTED;RSVP=TRUE;CN="rachel i
 rene":http://njyp.org/profile/rachel_irene
ATTENDEE;ROLE=REQ-PARTICIPANT;PARTSTAT=ACCEPTED;RSVP=TRUE;CN=NorthNJDa
 vid:http://njyp.org/profile/NorthNJDavid
ATTENDEE;ROLE=REQ-PARTICIPANT;PARTSTAT=ACCEPTED;RSVP=TRUE;CN="Brian an
 d Mike":http://njyp.org/profile/BrianMike
ATTENDEE;ROLE=REQ-PARTICIPANT;PARTSTAT=TENTATIVE;RSVP=TRUE;CN=Avi:http
 ://njyp.org/profile/AviN
ATTENDEE;ROLE=REQ-PARTICIPANT;PARTSTAT=TENTATIVE;RSVP=TRUE;CN="Natalia
  Shishkin":http://njyp.org/profile/NataliaShishkin
ATTENDEE;ROLE=REQ-PARTICIPANT;PARTSTAT=TENTATIVE;RSVP=TRUE;CN="Jennife
 r Fredericks":http://njyp.org/profile/JenniferFredericks
ATTENDEE;ROLE=REQ-PARTICIPANT;PARTSTAT=TENTATIVE;RSVP=TRUE;CN="Karl  A
  Kraus":http://njyp.org/profile/KarlAKraus
ATTENDEE;ROLE=REQ-PARTICIPANT;PARTSTAT=TENTATIVE;RSVP=TRUE;CN=Anup:htt
 p://njyp.org/profile/Anup
ATTENDEE;ROLE=REQ-PARTICIPANT;PARTSTAT=TENTATIVE;RSVP=TRUE;CN=Heather:
 http://njyp.org/profile/Heather308
ATTENDEE;ROLE=REQ-PARTICIPANT;PARTSTAT=TENTATIVE;RSVP=TRUE;CN="Chris G
 ":http://njyp.org/profile/ChrisG
ATTENDEE;ROLE=REQ-PARTICIPANT;PARTSTAT=TENTATIVE;RSVP=TRUE;CN=Katherin
 e:http://njyp.org/profile/Katherine
ATTENDEE;ROLE=REQ-PARTICIPANT;PARTSTAT=TENTATIVE;RSVP=TRUE;CN="Amanda 
 Taylor":http://njyp.org/profile/AmandaTaylor
ATTENDEE;ROLE=REQ-PARTICIPANT;PARTSTAT=TENTATIVE;RSVP=TRUE;CN="james m
 ikusi":http://njyp.org/profile/jimbox
ATTENDEE;ROLE=REQ-PARTICIPANT;PARTSTAT=TENTATIVE;RSVP=TRUE;CN=Michele:
 http://njyp.org/profile/MicheleSanto
ATTENDEE;ROLE=REQ-PARTICIPANT;PARTSTAT=TENTATIVE;RSVP=TRUE;CN=Lizzie:h
 ttp://njyp.org/profile/ElizabethKuhns
ATTENDEE;ROLE=REQ-PARTICIPANT;PARTSTAT=TENTATIVE;RSVP=TRUE;CN=Patricia
 :http://njyp.org/profile/TrishaOSha
ATTENDEE;ROLE=REQ-PARTICIPANT;PARTSTAT=TENTATIVE;RSVP=TRUE;CN=Luke:htt
 p://njyp.org/profile/Luke
ATTENDEE;ROLE=REQ-PARTICIPANT;PARTSTAT=TENTATIVE;RSVP=TRUE;CN=HippieBr
 ownGirl:http://njyp.org/profile/HippieBrownGirl
ATTENDEE;ROLE=REQ-PARTICIPANT;PARTSTAT=TENTATIVE;RSVP=TRUE;CN="Michael
  E":http://njyp.org/profile/MichaelEverhart
ATTENDEE;ROLE=REQ-PARTICIPANT;PARTSTAT=TENTATIVE;RSVP=TRUE;CN=Joel:htt
 p://njyp.org/profile/JoelMieses
END:VEVENT
END:VCALENDAR
