BEGIN:VCALENDAR
PRODID:NingEventWidget-v1
VERSION:2.0
METHOD:PUBLISH
BEGIN:VTIMEZONE
TZID:America/New_York
X-LIC-LOCATION:America/New_York
BEGIN:DAYLIGHT
TZOFFSETFROM:-0500
TZOFFSETTO:-0400
TZNAME:EDT
DTSTART:19700308T020000
RRULE:FREQ=YEARLY;BYMONTH=3;BYDAY=2SU
END:DAYLIGHT
BEGIN:STANDARD
TZOFFSETFROM:-0400
TZOFFSETTO:-0500
TZNAME:EST
DTSTART:19701101T020000
RRULE:FREQ=YEARLY;BYMONTH=11;BYDAY=1SU
END:STANDARD
END:VTIMEZONE
BEGIN:VEVENT
UID:2938326:Event:548190
DTSTAMP:20260420T142540Z
SUMMARY:Hike: Giant Stairs Along the Hudson
DESCRIPTION:Due to the potential flooding we are moving this hike from
  5.17 to 5.31.  If you cannot make the new date send a refund request
  to Laura@NJYP.org by 5.20.14\n\nJoin us as we take on one of the most
  challenging and beautiful hikes along the Hudson River! “This loop 
 hike descends the Palisades cliffs, follows a challenging, rocky path 
 along the Hudson River, passes a scenic waterfall, and climbs to reach
  a panoramic viewpoint over the river.” You will certainly earn the 
 majestic views taken in as well as the post-hike lunch the group tradi
 tionally hits up.\n\n\n Member Cost: $10 online $20 at the door  Non-M
 ember Cost: $20 online and at the door.  Specs: Time 4 hours Difficult
 y level is 3.75, http://www.njyp.org/page/hike-ratings NO BEGINNERS 
 Length 4.5 miles  Sweeper: If the group size is large we are going to 
 look for a volunteer to act as a sweeper. Sweepers will walk at the en
 d of the hike line and will make sure the group stays together.  Hike 
 Leader: David will be leading this hike. David will not be waiting for
  late people. In fairness to those who arrive on time, the hike will s
 tart on time.  What to bring: Hiking boots are required. 2 liters of w
 ater is required.  Inclement Weather: Any precipitation will cancel th
 is hike. Please check your inbox for updates and the NJYP.org calendar
 . Tickets will be refunded.  Directions: Take the Palisades Interstate
  Park north from the George Washington Bridge. Continue for 1.7 miles 
 beyond Exit 2, and turn right at a sign for the State Line Lookout. Fo
 llow the access road for about half a mile until it ends at a large pa
 rking lot near the lookout. (If you are coming from the north on the P
 arkway, bear left just beyond Exit 3 and follow the signs for the look
 out). https://goo.gl/maps/6iK0r\n\nFor more information visit http://
 njyp.org/events/hike-giant-stairs-along-the-hudson-1
DTSTART;TZID=America/New_York:20140531T103000
DTEND;TZID=America/New_York:20140531T143000
CATEGORIES:"bergen county", athletic
LOCATION:Palisades Interstate Park
WEBSITE:https://goo.gl/maps/6iK0r
URL:https://goo.gl/maps/6iK0r
CONTACT:
ORGANIZER;CN="Brian and Mike":http://njyp.org/profile/BrianMike
ATTACH;FMTTYPE="image/jpeg":http://storage.ning.com/topology/rest/1.0/
 file/get/1088705350?profile=original
ATTENDEE;ROLE=REQ-PARTICIPANT;PARTSTAT=ACCEPTED;RSVP=TRUE;CN=Jeremy:ht
 tp://njyp.org/profile/Jeremy54
ATTENDEE;ROLE=REQ-PARTICIPANT;PARTSTAT=ACCEPTED;RSVP=TRUE;CN=Meri:http
 ://njyp.org/profile/Meri
ATTENDEE;ROLE=REQ-PARTICIPANT;PARTSTAT=ACCEPTED;RSVP=TRUE;CN=Orin:http
 ://njyp.org/profile/Orin
ATTENDEE;ROLE=REQ-PARTICIPANT;PARTSTAT=ACCEPTED;RSVP=TRUE;CN=Suraj:htt
 p://njyp.org/profile/Suraj
ATTENDEE;ROLE=REQ-PARTICIPANT;PARTSTAT=ACCEPTED;RSVP=TRUE;CN=NorthNJDa
 vid:http://njyp.org/profile/NorthNJDavid
ATTENDEE;ROLE=REQ-PARTICIPANT;PARTSTAT=ACCEPTED;RSVP=TRUE;CN="Brian an
 d Mike":http://njyp.org/profile/BrianMike
ATTENDEE;ROLE=REQ-PARTICIPANT;PARTSTAT=TENTATIVE;RSVP=TRUE;CN=Evan:htt
 p://njyp.org/profile/Evan549
ATTENDEE;ROLE=REQ-PARTICIPANT;PARTSTAT=TENTATIVE;RSVP=TRUE;CN=Dave:htt
 p://njyp.org/profile/Dave791
ATTENDEE;ROLE=REQ-PARTICIPANT;PARTSTAT=TENTATIVE;RSVP=TRUE;CN=Caela:ht
 tp://njyp.org/profile/Caela
ATTENDEE;ROLE=REQ-PARTICIPANT;PARTSTAT=TENTATIVE;RSVP=TRUE;CN=Kathleen
 :http://njyp.org/profile/Kathleen798
ATTENDEE;ROLE=REQ-PARTICIPANT;PARTSTAT=TENTATIVE;RSVP=TRUE;CN="Lorrain
 e Weitz":http://njyp.org/profile/LorraineWeitz
ATTENDEE;ROLE=REQ-PARTICIPANT;PARTSTAT=TENTATIVE;RSVP=TRUE;CN="Catheri
 ne Olexa":http://njyp.org/profile/CatherineOlexa
ATTENDEE;ROLE=REQ-PARTICIPANT;PARTSTAT=TENTATIVE;RSVP=TRUE;CN=Jentora:
 http://njyp.org/profile/Jentora
END:VEVENT
END:VCALENDAR
