BEGIN:VCALENDAR
PRODID:NingEventWidget-v1
VERSION:2.0
METHOD:PUBLISH
BEGIN:VTIMEZONE
TZID:America/New_York
X-LIC-LOCATION:America/New_York
BEGIN:DAYLIGHT
TZOFFSETFROM:-0500
TZOFFSETTO:-0400
TZNAME:EDT
DTSTART:19700308T020000
RRULE:FREQ=YEARLY;BYMONTH=3;BYDAY=2SU
END:DAYLIGHT
BEGIN:STANDARD
TZOFFSETFROM:-0400
TZOFFSETTO:-0500
TZNAME:EST
DTSTART:19701101T020000
RRULE:FREQ=YEARLY;BYMONTH=11;BYDAY=1SU
END:STANDARD
END:VTIMEZONE
BEGIN:VEVENT
UID:2938326:Event:520250
DTSTAMP:20260420T073548Z
SUMMARY:Hike: Hacklebarney
DESCRIPTION:Due to rain we rescheduled this event.  Old date: 3.29.14
  New date: 4.6.14\n\nDid you buy the Winter Hike Pass? Remember you ca
 n attend this hike at no cost, http://www.njyp.org/page/winter-hike-pa
 ss  This hike is a great intro to hiking! We'll hike about 3 miles wit
 h small uphills and downhills. The trail will take us by the beautiful
  Black River where we will enjoy a river walk for a while and even a l
 ittle waterfall. If you like bird watching, Hacklebarney also offers a
  home for over 100 species of birds, depending on the season. After th
 e hike those who are hungry or thirsty will go out for lunch as a grou
 p.  Specs: Difficulty level is 2, http://www.njyp.org/page/hike-rating
 s 2-2.5 hours. About 3 miles long. This hike is good for beginners! As
  with all hikes you must be in reasonable athletic shape.  \n\nMember 
 Cost: $10 online $20 at the door (so please register online)  Non-Memb
 er Cost: $20 online and at the door  Tickets: There are a limited numb
 er of Tickets for sale. Tickets are not mailed, but your name will be 
 kept at the door. Actual hike is subject to change depending on weathe
 r conditions, fallen trees, etc. All sales are final.  Sweeper: If the
  group is large we are going to look for 2 volunteers to act as sweepe
 rs. Sweepers will walk at the end of the hike line and will make sure 
 the group stays together.  Hike Leader: Maren will be leading this hik
 e.  What to bring: Hiking boots or sneakers 2 Liters of Water (require
 d). Snacks, a light lunch, etc. Layers if it is cold. Toilet paper, ti
 ssues, plastic bags for garbage, etc.  Inclement Weather: Heavy rain o
 r extreme cold might cancel this hike. Please check your inbox for upd
 ates and the NJYP.org calendar. Tickets will be refunded.  Finding the
  Group: Meet the group in the parking lot. Please be on time, we will 
 not wait for latecomers.  Directions: http://goo.gl/maps/l0Zs0\nFrom S
 outh/Central NJ: Take 287 North to exit 22B. Follow the signs for 206 
 North (202 and 206 are together for about a mile). After 202 and 206 s
 plit, go 8.8 miles on 206 North until you reach West Main St (Local Rt
  24). Make a left onto West Main street, go 1.3 miles and make a sharp
  left onto State Park Rd (you may see the sign for Parker Rd instead, 
 so turn there and then make another quick sharp left). Follow the sign
 s for Hacklebarney State Park from that point (be sure to keep to the 
 right at the fork).\nFrom North NJ: Take 80 West until exit 27A and me
 rge onto 206 South. Go 7.6 miles on 206 South until you reach West Mai
 n St (Local Rt 24). Make a right onto West Main street, go 1.3 miles a
 nd make a sharp left onto State Park Rd (you may see the sign for Park
 er Rd instead, so turn there and then make another quick sharp left). 
 Follow the signs for Hacklebarney State Park from that point (be sure 
 to keep to the right at the fork).\n\nFor more information visit http:
 //njyp.org/events/hike-hacklebarney
DTSTART;TZID=America/New_York:20140406T103000
DTEND;TZID=America/New_York:20140406T130000
CATEGORIES:"morris county", athletic, pass
LOCATION:Hacklebarney State Park
WEBSITE:http://goo.gl/maps/l0Zs0
URL:http://goo.gl/maps/l0Zs0
CONTACT:
ORGANIZER;CN="Brian and Mike":http://njyp.org/profile/BrianMike
ATTACH;FMTTYPE="image/jpeg":http://storage.ning.com/topology/rest/1.0/
 file/get/1088651826?profile=original
ATTENDEE;ROLE=REQ-PARTICIPANT;PARTSTAT=ACCEPTED;RSVP=TRUE;CN=Suraj:htt
 p://njyp.org/profile/Suraj
ATTENDEE;ROLE=REQ-PARTICIPANT;PARTSTAT=ACCEPTED;RSVP=TRUE;CN=Avi:http:
 //njyp.org/profile/Avi
ATTENDEE;ROLE=REQ-PARTICIPANT;PARTSTAT=ACCEPTED;RSVP=TRUE;CN=Eric:http
 ://njyp.org/profile/Eric980
ATTENDEE;ROLE=REQ-PARTICIPANT;PARTSTAT=ACCEPTED;RSVP=TRUE;CN=Jackie:ht
 tp://njyp.org/profile/Jackie134
ATTENDEE;ROLE=REQ-PARTICIPANT;PARTSTAT=ACCEPTED;RSVP=TRUE;CN=Pamela:ht
 tp://njyp.org/profile/Pamela791
ATTENDEE;ROLE=REQ-PARTICIPANT;PARTSTAT=ACCEPTED;RSVP=TRUE;CN=Larry:htt
 p://njyp.org/profile/LarryYang
ATTENDEE;ROLE=REQ-PARTICIPANT;PARTSTAT=ACCEPTED;RSVP=TRUE;CN=Sau:http:
 //njyp.org/profile/Sau
ATTENDEE;ROLE=REQ-PARTICIPANT;PARTSTAT=ACCEPTED;RSVP=TRUE;CN=Maren:htt
 p://njyp.org/profile/Maren160
ATTENDEE;ROLE=REQ-PARTICIPANT;PARTSTAT=ACCEPTED;RSVP=TRUE;CN=Jessica:h
 ttp://njyp.org/profile/Jessica916
ATTENDEE;ROLE=REQ-PARTICIPANT;PARTSTAT=ACCEPTED;RSVP=TRUE;CN=Kevin:htt
 p://njyp.org/profile/Kevin
ATTENDEE;ROLE=REQ-PARTICIPANT;PARTSTAT=ACCEPTED;RSVP=TRUE;CN=Peter:htt
 p://njyp.org/profile/PeterMcDonnell
ATTENDEE;ROLE=REQ-PARTICIPANT;PARTSTAT=ACCEPTED;RSVP=TRUE;CN=Caela:htt
 p://njyp.org/profile/Caela
ATTENDEE;ROLE=REQ-PARTICIPANT;PARTSTAT=ACCEPTED;RSVP=TRUE;CN="Brian an
 d Mike":http://njyp.org/profile/BrianMike
ATTENDEE;ROLE=REQ-PARTICIPANT;PARTSTAT=TENTATIVE;RSVP=TRUE;CN=John:htt
 p://njyp.org/profile/JohnE
ATTENDEE;ROLE=REQ-PARTICIPANT;PARTSTAT=TENTATIVE;RSVP=TRUE;CN=Michael:
 http://njyp.org/profile/Michael858
ATTENDEE;ROLE=REQ-PARTICIPANT;PARTSTAT=TENTATIVE;RSVP=TRUE;CN="Jeffrey
  Gates":http://njyp.org/profile/JeffreyGates
ATTENDEE;ROLE=REQ-PARTICIPANT;PARTSTAT=TENTATIVE;RSVP=TRUE;CN=Kavita:h
 ttp://njyp.org/profile/Kavita
ATTENDEE;ROLE=REQ-PARTICIPANT;PARTSTAT=TENTATIVE;RSVP=TRUE;CN=Rasika:h
 ttp://njyp.org/profile/Rasika
ATTENDEE;ROLE=REQ-PARTICIPANT;PARTSTAT=TENTATIVE;RSVP=TRUE;CN=James:ht
 tp://njyp.org/profile/JamesShow
ATTENDEE;ROLE=REQ-PARTICIPANT;PARTSTAT=TENTATIVE;RSVP=TRUE;CN=Dana:htt
 p://njyp.org/profile/Dana94
ATTENDEE;ROLE=REQ-PARTICIPANT;PARTSTAT=TENTATIVE;RSVP=TRUE;CN=Vikram:h
 ttp://njyp.org/profile/Vikram
ATTENDEE;ROLE=REQ-PARTICIPANT;PARTSTAT=TENTATIVE;RSVP=TRUE;CN=Cindy:ht
 tp://njyp.org/profile/Cindy265
ATTENDEE;ROLE=REQ-PARTICIPANT;PARTSTAT=TENTATIVE;RSVP=TRUE;CN=Kaitlyn:
 http://njyp.org/profile/Kaitlyn666
ATTENDEE;ROLE=REQ-PARTICIPANT;PARTSTAT=TENTATIVE;RSVP=TRUE;CN=Sara:htt
 p://njyp.org/profile/Sara263
ATTENDEE;ROLE=REQ-PARTICIPANT;PARTSTAT=TENTATIVE;RSVP=TRUE;CN="Lorrain
 e Weitz":http://njyp.org/profile/LorraineWeitz
ATTENDEE;ROLE=REQ-PARTICIPANT;PARTSTAT=TENTATIVE;RSVP=TRUE;CN=Marcus:h
 ttp://njyp.org/profile/MGarf
END:VEVENT
END:VCALENDAR
