BEGIN:VCALENDAR
PRODID:NingEventWidget-v1
VERSION:2.0
METHOD:PUBLISH
BEGIN:VTIMEZONE
TZID:America/New_York
X-LIC-LOCATION:America/New_York
BEGIN:DAYLIGHT
TZOFFSETFROM:-0500
TZOFFSETTO:-0400
TZNAME:EDT
DTSTART:19700308T020000
RRULE:FREQ=YEARLY;BYMONTH=3;BYDAY=2SU
END:DAYLIGHT
BEGIN:STANDARD
TZOFFSETFROM:-0400
TZOFFSETTO:-0500
TZNAME:EST
DTSTART:19701101T020000
RRULE:FREQ=YEARLY;BYMONTH=11;BYDAY=1SU
END:STANDARD
END:VTIMEZONE
BEGIN:VEVENT
UID:2938326:Event:292144
DTSTAMP:20260420T023600Z
SUMMARY:Hike: Harriman Challenge, Part II
DESCRIPTION:Are you ready for a fun and awesome day outdoors?! Due to 
 the popularity of the first Harriman Challenge, we created a brand new
  adventure just for you! Come explore this beautiful section of Harrim
 an that will carry us past beautiful lakes, through pristine forests, 
 around giant boulders and a beautiful ridge walk that overlooks a scen
 ic valley. Of course, such an adventure will work up a hunger and thir
 st, so we will meet for food and warm drinks at Rhodes Tavern afterwar
 ds.\n\nSpecs:\nThe hike is classified as moderately strenuous to stren
 uous with a lot of uphill and downhill. \nHike is about 8 miles long a
 nd we will walk at a moderate pace. \nHike will take 4.5 to 5 hours, d
 epending on how people feel. \nAs with all hikes you must be in good, 
 athletic shape.  This is NOT suitable for beginners.\n\n\n\nMember Co
 st:\n$5 for the first 5\n$10 for the next 6 to 25\n$20 at the door\n\n
 Non-Member Cost:\n$20 online and at the door.\n\nTickets:\nThere are a
  limited number of Tickets for sale.\nTickets are not mailed, but your
  name will be kept at the door. All sales are final.\n\nHike Leader:\n
 David will be leading this hike. David will not be waiting for late pe
 ople.  In fairness to those who arrive on time, the hike will start o
 n time.\n\nSweeper:\nIf the group size is larger than 10, we are going
  to look for a volunteer to act as a sweeper. Sweepers will walk at th
 e end of the hike line and will make sure the group stays together.\n\
 nWhat to bring:\nHiking boots and 3 liters of water (required). \nA li
 ght snack, especially if you do not plan to eat with the group afterwa
 rds.  \nWe recommend wearing non cotton clothing layers (especially t
 he base layer).  Cotton holds in moisture and will make you feel cold
  if you start sweating. This is especially important in cooler weather
 .\n\nInclement Weather:\nHeavy precipitation will cancel this hike; dr
 izzle will not. Please check your inbox for updates. Tickets will be r
 efunded.\n\nDirections:\nHead north on I-287. Follow I-287 until the N
 Y State border and follow the signs for I-87 North (also known as NY S
 tate Thruway).  Take exit 15A and make a left at the end of the exit 
 ramp onto RT 17 North.  Follow that for 2.5 miles and make a right tu
 rn onto Seven Lakes Drive.  Follow Seven Lakes Drive for 0.8 miles an
 d make a left turn (just after the bridge you travel under) onto Johns
 onton Rd. Follow that to the end where there will be a parking circle.
  Carpooling is advised if possible.\n\nGoogle Maps Link:\nhttp://maps.
 google.com/maps?daddr=Johnsontown+Rd&hl=en&ll=41.172194,-74.172649&spn
 =0.052397,0.077162&sll=41.216403,-74.097934&sspn=0.026181,0.038581&geo
 code=FW5adAId6leU-w&vpsrc=6&mra=mr&t=m&z=14\n\nHow to find the group: 
 \nMeet at the parking at the end of Johnsonton Rd.\n\nFor more informa
 tion visit http://njyp.org/events/hike-harriman-challenge-part-ii
DTSTART;TZID=America/New_York:20111120T103000
DTEND;TZID=America/New_York:20111120T153000
CATEGORIES:"bergen county", athletic
LOCATION:Harriman State Park
WEBSITE:http://maps.google.com/maps?daddr=Johnsontown+Rd&hl=en&ll=41.1
 72194,-74.172649&spn=0.052397,0.077162&sll=41.216403,-74.097934&sspn=0
 .026181,0.038581&geocode=FW5adAId6leU-w&vpsrc=6&mra=mr&t=m&z=14
URL:http://maps.google.com/maps?daddr=Johnsontown+Rd&hl=en&ll=41.17219
 4,-74.172649&spn=0.052397,0.077162&sll=41.216403,-74.097934&sspn=0.026
 181,0.038581&geocode=FW5adAId6leU-w&vpsrc=6&mra=mr&t=m&z=14
CONTACT:
ORGANIZER;CN="Brian and Mike":http://njyp.org/profile/BrianMike
ATTACH;FMTTYPE="image/jpeg":http://storage.ning.com/topology/rest/1.0/
 file/get/1088726940?profile=original
ATTENDEE;ROLE=REQ-PARTICIPANT;PARTSTAT=ACCEPTED;RSVP=TRUE;CN="Jeff Kal
 ison":http://njyp.org/profile/JeffKalison
ATTENDEE;ROLE=REQ-PARTICIPANT;PARTSTAT=ACCEPTED;RSVP=TRUE;CN=Marco:htt
 p://njyp.org/profile/MarcoFranco
ATTENDEE;ROLE=REQ-PARTICIPANT;PARTSTAT=ACCEPTED;RSVP=TRUE;CN=Keri:http
 ://njyp.org/profile/Keri690
ATTENDEE;ROLE=REQ-PARTICIPANT;PARTSTAT=ACCEPTED;RSVP=TRUE;CN=Reka:http
 ://njyp.org/profile/Reka
ATTENDEE;ROLE=REQ-PARTICIPANT;PARTSTAT=ACCEPTED;RSVP=TRUE;CN=Vishal:ht
 tp://njyp.org/profile/Vishal
ATTENDEE;ROLE=REQ-PARTICIPANT;PARTSTAT=ACCEPTED;RSVP=TRUE;CN="Nelly Ga
 lan":http://njyp.org/profile/NellyGalan
ATTENDEE;ROLE=REQ-PARTICIPANT;PARTSTAT=ACCEPTED;RSVP=TRUE;CN="Brian an
 d Mike":http://njyp.org/profile/BrianMike
ATTENDEE;ROLE=REQ-PARTICIPANT;PARTSTAT=ACCEPTED;RSVP=TRUE;CN=NorthNJDa
 vid:http://njyp.org/profile/NorthNJDavid
ATTENDEE;ROLE=REQ-PARTICIPANT;PARTSTAT=TENTATIVE;RSVP=TRUE;CN=Daniella
 :http://njyp.org/profile/Daniella
ATTENDEE;ROLE=REQ-PARTICIPANT;PARTSTAT=TENTATIVE;RSVP=TRUE;CN="Melissa
  M Hayes":http://njyp.org/profile/MelissaHayes
ATTENDEE;ROLE=REQ-PARTICIPANT;PARTSTAT=TENTATIVE;RSVP=TRUE;CN=Ahsan:ht
 tp://njyp.org/profile/Ahsan
ATTENDEE;ROLE=REQ-PARTICIPANT;PARTSTAT=TENTATIVE;RSVP=TRUE;CN=Patricia
 :http://njyp.org/profile/TrishaOSha
END:VEVENT
END:VCALENDAR
