BEGIN:VCALENDAR
PRODID:NingEventWidget-v1
VERSION:2.0
METHOD:PUBLISH
BEGIN:VTIMEZONE
TZID:America/New_York
X-LIC-LOCATION:America/New_York
BEGIN:DAYLIGHT
TZOFFSETFROM:-0500
TZOFFSETTO:-0400
TZNAME:EDT
DTSTART:19700308T020000
RRULE:FREQ=YEARLY;BYMONTH=3;BYDAY=2SU
END:DAYLIGHT
BEGIN:STANDARD
TZOFFSETFROM:-0400
TZOFFSETTO:-0500
TZNAME:EST
DTSTART:19701101T020000
RRULE:FREQ=YEARLY;BYMONTH=11;BYDAY=1SU
END:STANDARD
END:VTIMEZONE
BEGIN:VEVENT
UID:2938326:Event:71919
DTSTAMP:20260420T224412Z
SUMMARY:Hike: Harriman (difficult)
DESCRIPTION:Are you ready for a late spring challenge? Then meet up wi
 th other NJYPers at Harriman State Park as we follow a path that will 
 take us past old growth green forests, pristine vistas and beautiful o
 verlooks of lush valleys and distant cities. Together we will explore 
 this vast, beautiful place while getting in a workout. After the hike 
 we may go out for a late lunch and cold drinks so bring cash and get r
 eady to work up an appetite.\n\n\n\nMember Cost:\n$5 for the first 5\n
 $10 for the next 6 to 25\n$20 at the door\n\nNon-Member Cost:\n$20 onl
 ine and at the door.\n\nSpecs:\nThe hike is classified as moderately s
 trenuous with a lot of uphill and downhill.\nThe total length of the h
 ike will be about 7.5 miles long and we will walk at a moderate pace.\
 nThe hike should take about 4 to 4.5 hours, depending on how people fe
 el.\nAs with all hikes you must be in good, athletic shape. This is NO
 T suitable for beginners.\n\nSweeper:\nIf the group size is larger tha
 n 10, we are going to look for a volunteer to act as a sweeper. Sweepe
 rs will walk at the end of the hike line and will make sure the group 
 stays together.\n\nTickets:\nThere are a limited number of Tickets for
  sale. Tickets are not mailed, but your name will be kept at the door.
  All sales are final.\n\nHike Leader:\nDavid will be leading this hike
 . This hike will start on time so please arrive on time. If you think 
 you might get lost leave extra early.\n\nWhat to bring:\nHiking boots 
 and 3 liters of water (required).\nThis hike is going to be taxing and
  you need to have the right gear and supply of water.\nWe recommend su
 nscreen, bug spray and a light snack or a small lunch.\n\nInclement We
 ather:\nHeavy precipitation will cancel this hike; drizzle will not. P
 lease check your inbox for updates. Tickets will be refunded.\n\nDirec
 tions:\nHead north on I-287. Follow I-287 until the NY State border an
 d follow the signs for I-87 North (also known as NY State Thruway). Ta
 ke exit 15A and make a left at the end of the exit ramp onto RT 17 Nor
 th. Follow that for 2.5 miles and make a right turn onto Seven Lakes D
 rive. Follow Seven Lakes Drive for 1.5 miles and you will see the visi
 tor’s center to the right. There is little parking so you may have t
 o park on the street with other vehicles (that’s not a problem, but 
 just be aware). Carpooling is advised if possible.\n\nGoogle Maps Link
 :\nhttp://maps.google.com/maps?f=d&source=s_d&saddr=&daddr=41.174132,-
 74.16883&geocode=&hl=en&mra=dme&mrcr=0&mrsp=1&sz=15&sll=41.172323,-74.
 163895&sspn=0.023872,0.031028&ie=UTF8&ll=41.167412,-74.174795&spn=0.04
 7749,0.062056&z=14\n\nHow to find the group:\nMeet by the parking lot 
 next to the visitor’s center building.\n\nFor more information visit
  http://njyp.org/events/hike-harriman-difficult
DTSTART;TZID=America/New_York:20100711T103000
DTEND;TZID=America/New_York:20100711T150000
CATEGORIES:"bergen county", athletic, "other county"
LOCATION:Harriman State Park- Visitors Center
WEBSITE:http://maps.google.com/maps?f=d&source=s_d&saddr=&daddr=41.174
 132,-74.16883&geocode=&hl=en&mra=dme&mrcr=0&mrsp=1&sz=15&sll=41.172323
 ,-74.163895&sspn=0.023872,0.031028&ie=UTF8&ll=41.167412,-74.174795&spn
 =0.047749,0.062056&z=14
URL:http://maps.google.com/maps?f=d&source=s_d&saddr=&daddr=41.174132,
 -74.16883&geocode=&hl=en&mra=dme&mrcr=0&mrsp=1&sz=15&sll=41.172323,-74
 .163895&sspn=0.023872,0.031028&ie=UTF8&ll=41.167412,-74.174795&spn=0.0
 47749,0.062056&z=14
CONTACT:
ORGANIZER;CN="Brian and Mike":http://njyp.org/profile/BrianMike
ATTACH;FMTTYPE="image/jpeg":http://storage.ning.com/topology/rest/1.0/
 file/get/1088621070?profile=original
ATTENDEE;ROLE=REQ-PARTICIPANT;PARTSTAT=ACCEPTED;RSVP=TRUE;CN="Allison 
 Froehlich":http://njyp.org/profile/AllisonFroehlich
ATTENDEE;ROLE=REQ-PARTICIPANT;PARTSTAT=ACCEPTED;RSVP=TRUE;CN="Tara Bur
 ns":http://njyp.org/profile/TaraBurns
ATTENDEE;ROLE=REQ-PARTICIPANT;PARTSTAT=ACCEPTED;RSVP=TRUE;CN="Brian Ph
 illips":http://njyp.org/profile/BrianPhillips
ATTENDEE;ROLE=REQ-PARTICIPANT;PARTSTAT=ACCEPTED;RSVP=TRUE;CN="Heather 
 Sears":http://njyp.org/profile/HeatherSears
ATTENDEE;ROLE=REQ-PARTICIPANT;PARTSTAT=ACCEPTED;RSVP=TRUE;CN=John:http
 ://njyp.org/profile/JohnCastro
ATTENDEE;ROLE=REQ-PARTICIPANT;PARTSTAT=ACCEPTED;RSVP=TRUE;CN="Dave Don
 io":http://njyp.org/profile/DaveDonio
ATTENDEE;ROLE=REQ-PARTICIPANT;PARTSTAT=ACCEPTED;RSVP=TRUE;CN="Kristin 
 Kopec":http://njyp.org/profile/KristinKopec
ATTENDEE;ROLE=REQ-PARTICIPANT;PARTSTAT=ACCEPTED;RSVP=TRUE;CN=NorthNJDa
 vid:http://njyp.org/profile/NorthNJDavid
ATTENDEE;ROLE=REQ-PARTICIPANT;PARTSTAT=ACCEPTED;RSVP=TRUE;CN="Brian an
 d Mike":http://njyp.org/profile/BrianMike
ATTENDEE;ROLE=REQ-PARTICIPANT;PARTSTAT=ACCEPTED;RSVP=TRUE;CN=Kedar:htt
 p://njyp.org/profile/Kedar
ATTENDEE;ROLE=REQ-PARTICIPANT;PARTSTAT=TENTATIVE;RSVP=TRUE;CN=Katherin
 e:http://njyp.org/profile/Katherine
ATTENDEE;ROLE=REQ-PARTICIPANT;PARTSTAT=TENTATIVE;RSVP=TRUE;CN=HippieBr
 ownGirl:http://njyp.org/profile/HippieBrownGirl
ATTENDEE;ROLE=REQ-PARTICIPANT;PARTSTAT=TENTATIVE;RSVP=TRUE;CN=Linda:ht
 tp://njyp.org/profile/LindaAssante
ATTENDEE;ROLE=REQ-PARTICIPANT;PARTSTAT=TENTATIVE;RSVP=TRUE;CN="Jenny M
 ":http://njyp.org/profile/JennyMulcahy
ATTENDEE;ROLE=REQ-PARTICIPANT;PARTSTAT=TENTATIVE;RSVP=TRUE;CN="John B"
 :http://njyp.org/profile/johnb
ATTENDEE;ROLE=REQ-PARTICIPANT;PARTSTAT=TENTATIVE;RSVP=TRUE;CN=Stefanie
 :http://njyp.org/profile/Stefanie
ATTENDEE;ROLE=REQ-PARTICIPANT;PARTSTAT=TENTATIVE;RSVP=TRUE;CN=Jennifer
 :http://njyp.org/profile/JenniferGates
ATTENDEE;ROLE=REQ-PARTICIPANT;PARTSTAT=TENTATIVE;RSVP=TRUE;CN="Amanda 
 Forsburg":http://njyp.org/profile/AmandaF
ATTENDEE;ROLE=REQ-PARTICIPANT;PARTSTAT=TENTATIVE;RSVP=TRUE;CN=Patricia
 :http://njyp.org/profile/TrishaOSha
ATTENDEE;ROLE=REQ-PARTICIPANT;PARTSTAT=TENTATIVE;RSVP=TRUE;CN=Franco:h
 ttp://njyp.org/profile/Franco
ATTENDEE;ROLE=REQ-PARTICIPANT;PARTSTAT=TENTATIVE;RSVP=TRUE;CN=Lizzie:h
 ttp://njyp.org/profile/ElizabethKuhns
ATTENDEE;ROLE=REQ-PARTICIPANT;PARTSTAT=TENTATIVE;RSVP=TRUE;CN="Michael
  E":http://njyp.org/profile/MichaelEverhart
ATTENDEE;ROLE=REQ-PARTICIPANT;PARTSTAT=TENTATIVE;RSVP=TRUE;CN="Dave B"
 :http://njyp.org/profile/daveb
END:VEVENT
END:VCALENDAR
