BEGIN:VCALENDAR
PRODID:NingEventWidget-v1
VERSION:2.0
METHOD:PUBLISH
BEGIN:VTIMEZONE
TZID:America/New_York
X-LIC-LOCATION:America/New_York
BEGIN:DAYLIGHT
TZOFFSETFROM:-0500
TZOFFSETTO:-0400
TZNAME:EDT
DTSTART:19700308T020000
RRULE:FREQ=YEARLY;BYMONTH=3;BYDAY=2SU
END:DAYLIGHT
BEGIN:STANDARD
TZOFFSETFROM:-0400
TZOFFSETTO:-0500
TZNAME:EST
DTSTART:19701101T020000
RRULE:FREQ=YEARLY;BYMONTH=11;BYDAY=1SU
END:STANDARD
END:VTIMEZONE
BEGIN:VEVENT
UID:2938326:Event:108060
DTSTAMP:20260420T004229Z
SUMMARY:Hike: Hartshorne Woods Turkey Burner
DESCRIPTION:Turkey and yams and stuffing oh my! Work off that Thanksgi
 ving Day meal (and the leftovers) with us on this moderate 5 mile hike
 . The fresh air and up and down hills will keep you healthy and strong
 . And the Young Professionals who will be hiking by your side will kee
 p you entertained. Afterwards we will venture out for a light lunch an
 d warm drinks with new friends who were made along the way.\n\nSpecs:\
 nThe hike is classified as moderate.\nThe total length of the hike wil
 l be approx. 5 miles long and we will walk at an easy pace.\nThis hike
  is good for beginners that are ok with climbing moderate uphill and d
 ownhill.\nThe hike should take about 2.5 hours.\nAs with all hikes you
  must be in reasonable athletic shape.\n\n\n\nMember Cost:\n$5 for the
  first 10 to buy a ticket\n$10 for the next 11-25 to buy a ticket\n$20
  at the door (so please register online)\n\nNon-Member Cost:\n$20 onli
 ne and at the door\n\nTickets:\nThere are a limited number of Tickets 
 for sale.\nTickets are not mailed, but your name will be kept at the d
 oor.\nActual hike is subject to change depending on weather conditions
 , fallen trees, etc.\nAll sales are final.\n\nSweeper:\nIf the group s
 ize is larger than 10, we are going to look for a volunteer to act as 
 a sweeper. Sweepers will walk at the end of the hike line and will mak
 e sure the group stays together.\n\nHike Leader:\nDavid will be leadin
 g this hike.\nDavid will not be waiting for late people. In fairness t
 o those who arrive on time, the hike will start on time.\n\nWhat to br
 ing:\nHiking boots are required.\nPlease bring 2 liters of water as we
 ll (yes, it is just as easy to dehydrate in the cold).\nPlease dress i
 n layers that are not made out of cotton. Cotton, when wet, does not d
 ry and can make you feel much colder.\nConsider bringing a snack as we
 ll if you may get hungry while hiking.\n\nInclement Weather:\nHeavy ra
 in will cancel this hike; light rain may not. Also, the forecasted hig
 h for the day will have to be above 39 degrees and no standing snow co
 ver on the ground. Please check your inbox for updates and the NJYP.or
 g calendar. Tickets will be refunded.\n\nDirections:\nTake GSP South o
 r North to exit 117. After the toll booth, keep left onto RT 36 South.
  Follow RT 36 South for about 12 miles. Make a right at the sign that 
 says “Red Bank Scenic Road”. You will also see a sign next to it t
 hat says “Mt Mitchell Scenic Overlook”. Once you make that right, 
 you will make another immediate right onto Navesink Rd. You will see t
 he parking lot on the left after about 0.5 miles.\n\nGoogle Maps:\nhtt
 p://maps.google.com/maps?f=d&source=s_d&saddr=&daddr=40.401176,-74.013
 208&geocode=&hl=en&mra=dme&mrcr=0&mrsp=1&sz=17&sll=40.401299,-74.01312
 2&sspn=0.006324,0.009602&ie=UTF8&z=17\n\nFor more information visit ht
 tp://njyp.org/events/hike-hartshorne-woods-turkey
DTSTART;TZID=America/New_York:20101127T103000
DTEND;TZID=America/New_York:20101127T130000
CATEGORIES:"monmouth county", athletic
LOCATION:Hartshorne Woods
WEBSITE:http://maps.google.com/maps?f=d&source=s_d&saddr=&daddr=40.401
 176,-74.013208&geocode=&hl=en&mra=dme&mrcr=0&mrsp=1&sz=17&sll=40.40129
 9,-74.013122&sspn=0.006324,0.009602&ie=UTF8&z=17
URL:http://maps.google.com/maps?f=d&source=s_d&saddr=&daddr=40.401176,
 -74.013208&geocode=&hl=en&mra=dme&mrcr=0&mrsp=1&sz=17&sll=40.401299,-7
 4.013122&sspn=0.006324,0.009602&ie=UTF8&z=17
CONTACT:
ORGANIZER;CN="Brian and Mike":http://njyp.org/profile/BrianMike
ATTACH;FMTTYPE="image/jpeg":http://storage.ning.com/topology/rest/1.0/
 file/get/1088649848?profile=original
ATTENDEE;ROLE=REQ-PARTICIPANT;PARTSTAT=ACCEPTED;RSVP=TRUE;CN="Scott Pa
 tterson":http://njyp.org/profile/ScottPatterson
ATTENDEE;ROLE=REQ-PARTICIPANT;PARTSTAT=ACCEPTED;RSVP=TRUE;CN=Amanda:ht
 tp://njyp.org/profile/Amanda710
ATTENDEE;ROLE=REQ-PARTICIPANT;PARTSTAT=ACCEPTED;RSVP=TRUE;CN=Larry:htt
 p://njyp.org/profile/LarryYang
ATTENDEE;ROLE=REQ-PARTICIPANT;PARTSTAT=ACCEPTED;RSVP=TRUE;CN=Maggie:ht
 tp://njyp.org/profile/Maggie980
ATTENDEE;ROLE=REQ-PARTICIPANT;PARTSTAT=ACCEPTED;RSVP=TRUE;CN="Jennifer
  Redmond":http://njyp.org/profile/JenniferRedmond
ATTENDEE;ROLE=REQ-PARTICIPANT;PARTSTAT=ACCEPTED;RSVP=TRUE;CN=Stacey:ht
 tp://njyp.org/profile/Stacey63
ATTENDEE;ROLE=REQ-PARTICIPANT;PARTSTAT=ACCEPTED;RSVP=TRUE;CN="Allison 
 Froehlich":http://njyp.org/profile/AllisonFroehlich
ATTENDEE;ROLE=REQ-PARTICIPANT;PARTSTAT=ACCEPTED;RSVP=TRUE;CN="Frank Ca
 ruso":http://njyp.org/profile/FrankCaruso
ATTENDEE;ROLE=REQ-PARTICIPANT;PARTSTAT=ACCEPTED;RSVP=TRUE;CN="William 
 Rodriguez":http://njyp.org/profile/WilliamRodriguez
ATTENDEE;ROLE=REQ-PARTICIPANT;PARTSTAT=ACCEPTED;RSVP=TRUE;CN="Gregory 
 Egan":http://njyp.org/profile/GregoryEgan
ATTENDEE;ROLE=REQ-PARTICIPANT;PARTSTAT=ACCEPTED;RSVP=TRUE;CN=NorthNJDa
 vid:http://njyp.org/profile/NorthNJDavid
ATTENDEE;ROLE=REQ-PARTICIPANT;PARTSTAT=ACCEPTED;RSVP=TRUE;CN="Brian an
 d Mike":http://njyp.org/profile/BrianMike
ATTENDEE;ROLE=REQ-PARTICIPANT;PARTSTAT=TENTATIVE;RSVP=TRUE;CN=Nita:htt
 p://njyp.org/profile/NitaSilimkhan
ATTENDEE;ROLE=REQ-PARTICIPANT;PARTSTAT=TENTATIVE;RSVP=TRUE;CN=Jennifer
 :http://njyp.org/profile/Jennifer234
ATTENDEE;ROLE=REQ-PARTICIPANT;PARTSTAT=TENTATIVE;RSVP=TRUE;CN=Jenn:htt
 p://njyp.org/profile/Jenn231
ATTENDEE;ROLE=REQ-PARTICIPANT;PARTSTAT=TENTATIVE;RSVP=TRUE;CN="Amanda 
 Taylor":http://njyp.org/profile/AmandaTaylor
ATTENDEE;ROLE=REQ-PARTICIPANT;PARTSTAT=TENTATIVE;RSVP=TRUE;CN=Douglas:
 http://njyp.org/profile/Douglas657
ATTENDEE;ROLE=REQ-PARTICIPANT;PARTSTAT=TENTATIVE;RSVP=TRUE;CN=Crystal:
 http://njyp.org/profile/Crystal244
ATTENDEE;ROLE=REQ-PARTICIPANT;PARTSTAT=TENTATIVE;RSVP=TRUE;CN=Megan:ht
 tp://njyp.org/profile/Margaret107
ATTENDEE;ROLE=REQ-PARTICIPANT;PARTSTAT=TENTATIVE;RSVP=TRUE;CN=Claudia:
 http://njyp.org/profile/Claudia
ATTENDEE;ROLE=REQ-PARTICIPANT;PARTSTAT=TENTATIVE;RSVP=TRUE;CN=Jaime:ht
 tp://njyp.org/profile/Jaime507
ATTENDEE;ROLE=REQ-PARTICIPANT;PARTSTAT=TENTATIVE;RSVP=TRUE;CN=Carly:ht
 tp://njyp.org/profile/Carly
ATTENDEE;ROLE=REQ-PARTICIPANT;PARTSTAT=TENTATIVE;RSVP=TRUE;CN=Marisa:h
 ttp://njyp.org/profile/MarisaA
ATTENDEE;ROLE=REQ-PARTICIPANT;PARTSTAT=TENTATIVE;RSVP=TRUE;CN=Lizzie:h
 ttp://njyp.org/profile/ElizabethKuhns
ATTENDEE;ROLE=REQ-PARTICIPANT;PARTSTAT=TENTATIVE;RSVP=TRUE;CN=Dar:http
 ://njyp.org/profile/Darlene
END:VEVENT
END:VCALENDAR
