BEGIN:VCALENDAR
PRODID:NingEventWidget-v1
VERSION:2.0
METHOD:PUBLISH
BEGIN:VTIMEZONE
TZID:America/New_York
X-LIC-LOCATION:America/New_York
BEGIN:DAYLIGHT
TZOFFSETFROM:-0500
TZOFFSETTO:-0400
TZNAME:EDT
DTSTART:19700308T020000
RRULE:FREQ=YEARLY;BYMONTH=3;BYDAY=2SU
END:DAYLIGHT
BEGIN:STANDARD
TZOFFSETFROM:-0400
TZOFFSETTO:-0500
TZNAME:EST
DTSTART:19701101T020000
RRULE:FREQ=YEARLY;BYMONTH=11;BYDAY=1SU
END:STANDARD
END:VTIMEZONE
BEGIN:VEVENT
UID:2938326:Event:33424
DTSTAMP:20260421T104354Z
SUMMARY:Hike: Hartshorne Woods Winter Hike
DESCRIPTION:Are you experiencing cabin fever? Are you dying to get out
  but don’t want to the only one out there? Well, you are not alone! 
 Join fellow NJYPers and get those legs moving! We will meet up in the 
 parking lot of the Hartshorne woods and enjoy a relaxing day on the tr
 ail. We will then meet up for lunch at a nearby place.\n\nSpecs:\nThe 
 hike is classified as moderate.\nThe total length of the hike will be 
 approx. 5 miles long and we will walk at an easy pace.\nThis hike is g
 ood for beginners that are ok with climbing moderate uphill and downhi
 ll.\nThe hike should take about 2.5 hours.\nAs with all hikes you must
  be in reasonable athletic shape.\n\n\n\nMember Cost:\n$5 for the firs
 t 10 to buy a ticket\n$10 for the next 11-25 to buy a ticket\n$20 at t
 he door (so please register online)\n\nNon-Member Cost:\n$20 online an
 d at the door\n\nTickets:\nThere are a limited number of Tickets for s
 ale.\nTickets are not mailed, but your name will be kept at the door.\
 nActual hike is subject to change depending on weather conditions, fal
 len trees, etc.\nAll sales are final.\n\nSweeper:\nIf the group size i
 s larger than 10, we are going to look for a volunteer to act as a swe
 eper. Sweepers will walk at the end of the hike line and will make sur
 e the group stays together.\n\nHike Leader:\nDavid will be leading thi
 s hike.\nDavid will not be waiting for late people. In fairness to tho
 se who arrive on time, the hike will start on time.\n\nWhat to bring:\
 nHiking boots are required. Please bring 2 liters of water as well (ye
 s, it is just as easy to dehydrate in the cold). Please dress in layer
 s that are not made out of cotton. Cotton, when wet, does not dry and 
 can make you feel much colder. Synthetic fiber outdoor wear is always 
 ideal in all weather conditions and all seasons. Consider bringing a s
 nack as well as you may get hungry while hiking.\n\nInclement Weather:
 \nPrecipitation (rain or snow) will cancel this hike. Also, the foreca
 sted high for the day will have to be above 39 degrees and no standing
  snow cover on the ground. Please check your inbox for updates and the
  NJYP.org calendar. Tickets will be refunded.\n\nDirections:\nTake GSP
  South or North to exit 117. After the toll booth, keep left onto RT 3
 6 South. Follow RT 36 South for about 12 miles. Make a right at the si
 gn that says “Red Bank Scenic Road”. You will also see a sign next
  to it that says “Mt Mitchell Scenic Overlook”. Once you make that
  right, you will make another immediate right onto Navesink Rd. You wi
 ll see the parking lot on the left after about 0.5 miles.\n\nGoogle Ma
 ps:\nhttp://maps.google.com/maps?f=d&source=s_d&saddr=&daddr=40.401176
 ,-74.013208&geocode=&hl=en&mra=dme&mrcr=0&mrsp=1&sz=17&sll=40.401299,-
 74.013122&sspn=0.006324,0.009602&ie=UTF8&z=17\n\nFor more information 
 visit http://njyp.org/events/hike-hartshorne-woods-winter
DTSTART;TZID=America/New_York:20100116T103000
DTEND;TZID=America/New_York:20100116T130000
CATEGORIES:"monmouth county", athletic
LOCATION:Hartshorne Woods
WEBSITE:http://maps.google.com/maps?f=d&source=s_d&saddr=&daddr=40.401
 176,-74.013208&geocode=&hl=en&mra=dme&mrcr=0&mrsp=1&sz=17&sll=40.40129
 9,-74.013122&sspn=0.006324,0.009602&ie=UTF8&z=17
URL:http://maps.google.com/maps?f=d&source=s_d&saddr=&daddr=40.401176,
 -74.013208&geocode=&hl=en&mra=dme&mrcr=0&mrsp=1&sz=17&sll=40.401299,-7
 4.013122&sspn=0.006324,0.009602&ie=UTF8&z=17
CONTACT:
ORGANIZER;CN="Brian and Mike":http://njyp.org/profile/BrianMike
ATTACH;FMTTYPE="image/jpeg":http://storage.ning.com/topology/rest/1.0/
 file/get/1088582128?profile=original
ATTENDEE;ROLE=REQ-PARTICIPANT;PARTSTAT=ACCEPTED;RSVP=TRUE;CN="David Av
 ery":http://njyp.org/profile/DavidAvery
ATTENDEE;ROLE=REQ-PARTICIPANT;PARTSTAT=ACCEPTED;RSVP=TRUE;CN="Jenny M"
 :http://njyp.org/profile/JennyMulcahy
ATTENDEE;ROLE=REQ-PARTICIPANT;PARTSTAT=ACCEPTED;RSVP=TRUE;CN="Jim Perr
 y":http://njyp.org/profile/JamesMPerry
ATTENDEE;ROLE=REQ-PARTICIPANT;PARTSTAT=ACCEPTED;RSVP=TRUE;CN="Dan Hoff
 man":http://njyp.org/profile/DanHoffman
ATTENDEE;ROLE=REQ-PARTICIPANT;PARTSTAT=ACCEPTED;RSVP=TRUE;CN="Brittany
  Burke":http://njyp.org/profile/BrittanyBurke
ATTENDEE;ROLE=REQ-PARTICIPANT;PARTSTAT=ACCEPTED;RSVP=TRUE;CN="Dave B":
 http://njyp.org/profile/daveb
ATTENDEE;ROLE=REQ-PARTICIPANT;PARTSTAT=ACCEPTED;RSVP=TRUE;CN=Jon:http:
 //njyp.org/profile/Jon
ATTENDEE;ROLE=REQ-PARTICIPANT;PARTSTAT=ACCEPTED;RSVP=TRUE;CN="Lillian 
 T.":http://njyp.org/profile/LillianT
ATTENDEE;ROLE=REQ-PARTICIPANT;PARTSTAT=ACCEPTED;RSVP=TRUE;CN="Kristin 
 Kopec":http://njyp.org/profile/KristinKopec
ATTENDEE;ROLE=REQ-PARTICIPANT;PARTSTAT=ACCEPTED;RSVP=TRUE;CN=Meghan:ht
 tp://njyp.org/profile/hellogrl
ATTENDEE;ROLE=REQ-PARTICIPANT;PARTSTAT=ACCEPTED;RSVP=TRUE;CN="Allison 
 Froehlich":http://njyp.org/profile/AllisonFroehlich
ATTENDEE;ROLE=REQ-PARTICIPANT;PARTSTAT=ACCEPTED;RSVP=TRUE;CN="Craig Wa
 ll":http://njyp.org/profile/CraigWall
ATTENDEE;ROLE=REQ-PARTICIPANT;PARTSTAT=ACCEPTED;RSVP=TRUE;CN=Nanette:h
 ttp://njyp.org/profile/Nanette
ATTENDEE;ROLE=REQ-PARTICIPANT;PARTSTAT=ACCEPTED;RSVP=TRUE;CN=Elizabeth
 :http://njyp.org/profile/ElizabethWilliams
ATTENDEE;ROLE=REQ-PARTICIPANT;PARTSTAT=ACCEPTED;RSVP=TRUE;CN=Michele:h
 ttp://njyp.org/profile/MicheleSanto
ATTENDEE;ROLE=REQ-PARTICIPANT;PARTSTAT=ACCEPTED;RSVP=TRUE;CN="William 
 Rodriguez":http://njyp.org/profile/WilliamRodriguez
ATTENDEE;ROLE=REQ-PARTICIPANT;PARTSTAT=ACCEPTED;RSVP=TRUE;CN=NorthNJDa
 vid:http://njyp.org/profile/NorthNJDavid
ATTENDEE;ROLE=REQ-PARTICIPANT;PARTSTAT=ACCEPTED;RSVP=TRUE;CN="Brian an
 d Mike":http://njyp.org/profile/BrianMike
ATTENDEE;ROLE=REQ-PARTICIPANT;PARTSTAT=TENTATIVE;RSVP=TRUE;CN="Chris L
 ombardi":http://njyp.org/profile/ChrisLombardi
ATTENDEE;ROLE=REQ-PARTICIPANT;PARTSTAT=TENTATIVE;RSVP=TRUE;CN=John:htt
 p://njyp.org/profile/jmd
ATTENDEE;ROLE=REQ-PARTICIPANT;PARTSTAT=TENTATIVE;RSVP=TRUE;CN="Karl  A
  Kraus":http://njyp.org/profile/KarlAKraus
ATTENDEE;ROLE=REQ-PARTICIPANT;PARTSTAT=TENTATIVE;RSVP=TRUE;CN="Stephan
 ie Coutros":http://njyp.org/profile/StephanieCoutros
ATTENDEE;ROLE=REQ-PARTICIPANT;PARTSTAT=TENTATIVE;RSVP=TRUE;CN=Simon:ht
 tp://njyp.org/profile/Simon
ATTENDEE;ROLE=REQ-PARTICIPANT;PARTSTAT=TENTATIVE;RSVP=TRUE;CN="Dana Ge
 orge":http://njyp.org/profile/DanaGeorge
ATTENDEE;ROLE=REQ-PARTICIPANT;PARTSTAT=TENTATIVE;RSVP=TRUE;CN=David:ht
 tp://njyp.org/profile/DavidKuhn
ATTENDEE;ROLE=REQ-PARTICIPANT;PARTSTAT=TENTATIVE;RSVP=TRUE;CN="Christo
 pher Dingman":http://njyp.org/profile/ChristopherDingman
ATTENDEE;ROLE=REQ-PARTICIPANT;PARTSTAT=TENTATIVE;RSVP=TRUE;CN="Wendy R
 eyes":http://njyp.org/profile/WendyReyes
ATTENDEE;ROLE=REQ-PARTICIPANT;PARTSTAT=TENTATIVE;RSVP=TRUE;CN=Dar:http
 ://njyp.org/profile/Darlene
END:VEVENT
END:VCALENDAR
