BEGIN:VCALENDAR
PRODID:NingEventWidget-v1
VERSION:2.0
METHOD:PUBLISH
BEGIN:VTIMEZONE
TZID:America/New_York
X-LIC-LOCATION:America/New_York
BEGIN:DAYLIGHT
TZOFFSETFROM:-0500
TZOFFSETTO:-0400
TZNAME:EDT
DTSTART:19700308T020000
RRULE:FREQ=YEARLY;BYMONTH=3;BYDAY=2SU
END:DAYLIGHT
BEGIN:STANDARD
TZOFFSETFROM:-0400
TZOFFSETTO:-0500
TZNAME:EST
DTSTART:19701101T020000
RRULE:FREQ=YEARLY;BYMONTH=11;BYDAY=1SU
END:STANDARD
END:VTIMEZONE
BEGIN:VEVENT
UID:2938326:Event:98132
DTSTAMP:20260420T042811Z
SUMMARY:Hike: Hawk Hike at Wildcat Ridge
DESCRIPTION:Grab your cameras and binoculars (if you have them) and jo
 in us for our yearly hike up to the Hawk Watch. Based on the migration
  schedule we should be able to spot several different types of hawks, 
 including but not limited to the American Kestrel, Northern Harrier, R
 ed-tailed Hawk, and the Golden Eagle. Young Professionals and Hawks, s
 o happy together :)\n\nSpecs:\nThe hike is classified as easy to moder
 ate and is about 2.4 miles long.\nThe hike should take 2 hours.\nAs wi
 th all hikes you must be in good, athletic shape.\nFull Description On
 line\n\n\n\nMember Cost:\n$5 for the first 5 to buy a ticket\n$10 for 
 the next 6-25 to buy a ticket\n$20 at the door (so please register onl
 ine)\n\nNon-Member Cost:\n$20 online and at the door\n\nTickets:\nTher
 e are a limited number of Tickets for sale.\nTickets are not mailed, b
 ut your name will be kept at the door.\nActual hike is subject to chan
 ge depending on weather conditions, fallen trees, etc.\nAll sales are 
 final.\n\nSweeper:\nIf we have a large group we will ask for 2 volunte
 ers to act as sweepers. Sweepers will walk at the end of the hike line
  and will make sure the group stays together.\n\nHike Leader:\nNoah wi
 ll be leading this hike. He may do a trial run of the hike to make sur
 e the trails are clean, etc.\n\nWhat to bring:\nHiking boots and water
  (required).\nSnacks, a light lunch, etc.\nBinoculars.\nToilet paper, 
 tissues, plastic bags for garbage, etc.\n\nInclement Weather:\nPrecipi
 tation will cancel this hike. Please check your inbox for updates and 
 the NJYP.org calendar. Tickets will be refunded.\n\nDirections:\nTake 
 Interstate Route 80 to Exit 37 (Hibernia/Rockaway) and bear left at th
 e end of the ramp. Continue north on Green Pond Road (County Route 513
 ) for 6.5 miles and turn right onto Upper Hibernia Road. (If coming fr
 om the north, you can take Route 23 to Green Pond Road, head south for
  3.7 miles, and turn left onto Upper Hibernia Road.) Follow Upper Hibe
 rnia Road for 2.5 miles to the end of the paved portion of the road. C
 ontinue ahead for a short distance, turn left just past Brunache Road,
  and park in the wide gravel area.\n\nHow to find the group:\nWe will 
 meet in the parking lot. Please be on time.\n\nFor more information vi
 sit http://njyp.org/events/hike-hawk-hike-at-wildcat-1
DTSTART;TZID=America/New_York:20101009T103000
DTEND;TZID=America/New_York:20101009T123000
CATEGORIES:"morris county", athletic
LOCATION:Wildcat Ridge Wildlife Management Area
WEBSITE:http://www.nynjtc.org/hike/wildcat-ridge-wildlife-management-a
 rea
URL:http://www.nynjtc.org/hike/wildcat-ridge-wildlife-management-area
CONTACT:
ORGANIZER;CN="Brian and Mike":http://njyp.org/profile/BrianMike
ATTACH;FMTTYPE="image/jpeg":http://storage.ning.com/topology/rest/1.0/
 file/get/1088643975?profile=original
ATTENDEE;ROLE=REQ-PARTICIPANT;PARTSTAT=ACCEPTED;RSVP=TRUE;CN=Adam:http
 ://njyp.org/profile/Adam
ATTENDEE;ROLE=REQ-PARTICIPANT;PARTSTAT=ACCEPTED;RSVP=TRUE;CN=Jonathan:
 http://njyp.org/profile/Jonathan
ATTENDEE;ROLE=REQ-PARTICIPANT;PARTSTAT=ACCEPTED;RSVP=TRUE;CN="Lillian 
 T.":http://njyp.org/profile/LillianT
ATTENDEE;ROLE=REQ-PARTICIPANT;PARTSTAT=ACCEPTED;RSVP=TRUE;CN="Tara Bur
 ns":http://njyp.org/profile/TaraBurns
ATTENDEE;ROLE=REQ-PARTICIPANT;PARTSTAT=ACCEPTED;RSVP=TRUE;CN=Joseph:ht
 tp://njyp.org/profile/Joseph739
ATTENDEE;ROLE=REQ-PARTICIPANT;PARTSTAT=ACCEPTED;RSVP=TRUE;CN=Eric:http
 ://njyp.org/profile/Eric980
ATTENDEE;ROLE=REQ-PARTICIPANT;PARTSTAT=ACCEPTED;RSVP=TRUE;CN=Mike:http
 ://njyp.org/profile/Mike30
ATTENDEE;ROLE=REQ-PARTICIPANT;PARTSTAT=ACCEPTED;RSVP=TRUE;CN="Mark Gra
 ham":http://njyp.org/profile/MarkGraham
ATTENDEE;ROLE=REQ-PARTICIPANT;PARTSTAT=ACCEPTED;RSVP=TRUE;CN="Jay Shah
 ":http://njyp.org/profile/JayShah
ATTENDEE;ROLE=REQ-PARTICIPANT;PARTSTAT=ACCEPTED;RSVP=TRUE;CN="Jordan S
 pitzer-London":http://njyp.org/profile/JordanSpitzerLondon
ATTENDEE;ROLE=REQ-PARTICIPANT;PARTSTAT=ACCEPTED;RSVP=TRUE;CN="Kiera Ha
 rtnett":http://njyp.org/profile/KieraHartnett
ATTENDEE;ROLE=REQ-PARTICIPANT;PARTSTAT=ACCEPTED;RSVP=TRUE;CN=Ilona:htt
 p://njyp.org/profile/Ilona
ATTENDEE;ROLE=REQ-PARTICIPANT;PARTSTAT=ACCEPTED;RSVP=TRUE;CN="Brian an
 d Mike":http://njyp.org/profile/BrianMike
ATTENDEE;ROLE=REQ-PARTICIPANT;PARTSTAT=TENTATIVE;RSVP=TRUE;CN="Jeffrey
  Rieske":http://njyp.org/profile/jwr
ATTENDEE;ROLE=REQ-PARTICIPANT;PARTSTAT=TENTATIVE;RSVP=TRUE;CN=Linda:ht
 tp://njyp.org/profile/LindaAssante
ATTENDEE;ROLE=REQ-PARTICIPANT;PARTSTAT=TENTATIVE;RSVP=TRUE;CN=Shani:ht
 tp://njyp.org/profile/Shani
ATTENDEE;ROLE=REQ-PARTICIPANT;PARTSTAT=TENTATIVE;RSVP=TRUE;CN="Ken S."
 :http://njyp.org/profile/KennethSirower
ATTENDEE;ROLE=REQ-PARTICIPANT;PARTSTAT=TENTATIVE;RSVP=TRUE;CN="John B"
 :http://njyp.org/profile/johnb
ATTENDEE;ROLE=REQ-PARTICIPANT;PARTSTAT=TENTATIVE;RSVP=TRUE;CN=Joanne:h
 ttp://njyp.org/profile/JoanneMucerino
ATTENDEE;ROLE=REQ-PARTICIPANT;PARTSTAT=TENTATIVE;RSVP=TRUE;CN=Sarah:ht
 tp://njyp.org/profile/Sarah
ATTENDEE;ROLE=REQ-PARTICIPANT;PARTSTAT=TENTATIVE;RSVP=TRUE;CN="Sarah M
 iddleton":http://njyp.org/profile/SarahM
ATTENDEE;ROLE=REQ-PARTICIPANT;PARTSTAT=TENTATIVE;RSVP=TRUE;CN=Lizzie:h
 ttp://njyp.org/profile/ElizabethKuhns
END:VEVENT
END:VCALENDAR
