BEGIN:VCALENDAR
PRODID:NingEventWidget-v1
VERSION:2.0
METHOD:PUBLISH
BEGIN:VTIMEZONE
TZID:America/New_York
X-LIC-LOCATION:America/New_York
BEGIN:DAYLIGHT
TZOFFSETFROM:-0500
TZOFFSETTO:-0400
TZNAME:EDT
DTSTART:19700308T020000
RRULE:FREQ=YEARLY;BYMONTH=3;BYDAY=2SU
END:DAYLIGHT
BEGIN:STANDARD
TZOFFSETFROM:-0400
TZOFFSETTO:-0500
TZNAME:EST
DTSTART:19701101T020000
RRULE:FREQ=YEARLY;BYMONTH=11;BYDAY=1SU
END:STANDARD
END:VTIMEZONE
BEGIN:VEVENT
UID:2938326:Event:16420
DTSTAMP:20260422T051121Z
SUMMARY:Hike: Hawk Hike at Wildcat Ridge
DESCRIPTION:Sorry everyone, 70% chance of rain means we are going to c
 ancel. I’ll send refunds via Paypal by next week.\n\nGrab your camer
 as and binoculars (if you have them) and join us for our yearly hike u
 p to the Hawk Watch. Based on the migration schedule we should be able
  to spot several different types of hawks, including but not limited t
 o the American Kestrel, Northern Harrier, Red-tailed Hawk, and the Gol
 den Eagle. Young Professionals and Hawks, so happy together :)\n\nSpec
 s:\nThe hike is classified as easy to moderate and is about 2.4 miles 
 long.\nThe hike should take 2 hours.\nAs with all hikes you must be in
  good, athletic shape.\nFull Description Online\n\n\nRSVP (to the righ
 t) and we will let you know when tix are almost gone, when prices are 
 going up, if there are any changes, etc.\n\nMember Cost:\n$5 for the f
 irst 10 to buy a ticket\n$10 for the next 11-25 to buy a ticket\n$20 a
 t the door (so please register online)\n\nNon-Member Cost:\n$20 online
  and at the door\n\nTickets:\nThere are a limited number of Tickets fo
 r sale.\nTickets are not mailed, but your name will be kept at the doo
 r.\nActual hike is subject to change depending on weather conditions, 
 fallen trees, etc.\nAll sales are final.\n\nSweeper:\nIf we have a lar
 ge group we will ask for 2 volunteers to act as sweepers. Sweepers wil
 l walk at the end of the hike line and will make sure the group stays 
 together.\n\nHike Leader:\nNoah will be leading this hike. He may do a
  trial run of the hike to make sure the trails are clean, etc.\n\nWhat
  to bring:\nHiking boots and water (required).\nSnacks, a light lunch,
  etc.\nBinoculars.\nToilet paper, tissues, plastic bags for garbage, e
 tc.\n\nInclement Weather:\nPrecipitation will cancel this hike. Please
  check your inbox for updates and the NJYP.org calendar. Tickets will 
 be refunded.\n\nDirections:\nTake Interstate Route 80 to Exit 37 (Hibe
 rnia/Rockaway) and bear left at the end of the ramp. Continue north on
  Green Pond Road (County Route 513) for 6.5 miles and turn right onto 
 Upper Hibernia Road. (If coming from the north, you can take Route 23 
 to Green Pond Road, head south for 3.7 miles, and turn left onto Upper
  Hibernia Road.) Follow Upper Hibernia Road for 2.5 miles to the end o
 f the paved portion of the road. Continue ahead for a short distance, 
 turn left just past Brunache Road, and park in the wide gravel area.\n
 \nHow to find the group:\nWe will meet in the parking lot. Please be o
 n time.\n\nFor more information visit http://njyp.org/events/hike-hawk
 -hike-at-wildcat
DTSTART;TZID=America/New_York:20091017T103000
DTEND;TZID=America/New_York:20091017T123000
CATEGORIES:"morris county", athletic
LOCATION:Wildcat Ridge
WEBSITE:http://www.nynjtc.org/hike/wildcat-ridge-wildlife-management-a
 rea
URL:http://www.nynjtc.org/hike/wildcat-ridge-wildlife-management-area
CONTACT:
ORGANIZER;CN="Brian and Mike":http://njyp.org/profile/BrianMike
ATTACH;FMTTYPE="image/jpeg":http://storage.ning.com/topology/rest/1.0/
 file/get/1088553502?profile=original
ATTENDEE;ROLE=REQ-PARTICIPANT;PARTSTAT=ACCEPTED;RSVP=TRUE;CN="Chris P.
 ":http://njyp.org/profile/ChrisP
ATTENDEE;ROLE=REQ-PARTICIPANT;PARTSTAT=ACCEPTED;RSVP=TRUE;CN="Adrienne
  Lukaski":http://njyp.org/profile/AdrienneLukaski
ATTENDEE;ROLE=REQ-PARTICIPANT;PARTSTAT=ACCEPTED;RSVP=TRUE;CN="Mike S":
 http://njyp.org/profile/MikeSabina
ATTENDEE;ROLE=REQ-PARTICIPANT;PARTSTAT=ACCEPTED;RSVP=TRUE;CN=Gio:http:
 //njyp.org/profile/GianfrancoPuggioni
ATTENDEE;ROLE=REQ-PARTICIPANT;PARTSTAT=ACCEPTED;RSVP=TRUE;CN="Sarah Mi
 ddleton":http://njyp.org/profile/SarahM
ATTENDEE;ROLE=REQ-PARTICIPANT;PARTSTAT=ACCEPTED;RSVP=TRUE;CN=Noah:http
 ://njyp.org/profile/NoahFine
ATTENDEE;ROLE=REQ-PARTICIPANT;PARTSTAT=ACCEPTED;RSVP=TRUE;CN="Neel Aro
 on":http://njyp.org/profile/NeelAroon
ATTENDEE;ROLE=REQ-PARTICIPANT;PARTSTAT=TENTATIVE;RSVP=TRUE;CN="Cindy B
 ":http://njyp.org/profile/CindyBale
ATTENDEE;ROLE=REQ-PARTICIPANT;PARTSTAT=TENTATIVE;RSVP=TRUE;CN="rachel 
 irene":http://njyp.org/profile/rachel_irene
ATTENDEE;ROLE=REQ-PARTICIPANT;PARTSTAT=TENTATIVE;RSVP=TRUE;CN="Chris L
 ombardi":http://njyp.org/profile/ChrisLombardi
ATTENDEE;ROLE=REQ-PARTICIPANT;PARTSTAT=TENTATIVE;RSVP=TRUE;CN=Anup:htt
 p://njyp.org/profile/Anup
ATTENDEE;ROLE=REQ-PARTICIPANT;PARTSTAT=TENTATIVE;RSVP=TRUE;CN=Laura:ht
 tp://njyp.org/profile/Laura247
ATTENDEE;ROLE=REQ-PARTICIPANT;PARTSTAT=TENTATIVE;RSVP=TRUE;CN="Kelly J
 ones":http://njyp.org/profile/KellyJones
ATTENDEE;ROLE=REQ-PARTICIPANT;PARTSTAT=TENTATIVE;RSVP=TRUE;CN=Jennie:h
 ttp://njyp.org/profile/junglebunnie
ATTENDEE;ROLE=REQ-PARTICIPANT;PARTSTAT=TENTATIVE;RSVP=TRUE;CN=Simon:ht
 tp://njyp.org/profile/Simon
ATTENDEE;ROLE=REQ-PARTICIPANT;PARTSTAT=TENTATIVE;RSVP=TRUE;CN="Marc Se
 menta":http://njyp.org/profile/MarcSementa
ATTENDEE;ROLE=REQ-PARTICIPANT;PARTSTAT=TENTATIVE;RSVP=TRUE;CN="Susan K
 ent":http://njyp.org/profile/SusanKent
ATTENDEE;ROLE=REQ-PARTICIPANT;PARTSTAT=TENTATIVE;RSVP=TRUE;CN="Kristin
  Kopec":http://njyp.org/profile/KristinKopec
END:VEVENT
END:VCALENDAR
