BEGIN:VCALENDAR
PRODID:NingEventWidget-v1
VERSION:2.0
METHOD:PUBLISH
BEGIN:VTIMEZONE
TZID:America/New_York
X-LIC-LOCATION:America/New_York
BEGIN:DAYLIGHT
TZOFFSETFROM:-0500
TZOFFSETTO:-0400
TZNAME:EDT
DTSTART:19700308T020000
RRULE:FREQ=YEARLY;BYMONTH=3;BYDAY=2SU
END:DAYLIGHT
BEGIN:STANDARD
TZOFFSETFROM:-0400
TZOFFSETTO:-0500
TZNAME:EST
DTSTART:19701101T020000
RRULE:FREQ=YEARLY;BYMONTH=11;BYDAY=1SU
END:STANDARD
END:VTIMEZONE
BEGIN:VEVENT
UID:2938326:Event:284677
DTSTAMP:20260420T002009Z
SUMMARY:Hike: Hawk Watch
DESCRIPTION:Grab your cameras and binoculars (if you have them) and jo
 in us for our yearly hike up to the Hawk Watch. Based on the migration
  schedule, we should be able to spot several different types of hawks,
  including the American Kestrel, Northern Harrier, Red-tailed Hawk, an
 d the Golden Eagle. Young Professionals and Hawks, so happy together :
 )\n Specs:\nThe hike is classified as easy to moderate and is about 2.
 4 miles long.\nThe hike should take 2 hours.\nAs with all hikes, you m
 ust be in good, athletic shape.\nFull Description Online\n\n\n\nMember
  Cost:\n$5 for the first 5 to buy a ticket\n$10 for the next 6-25 to b
 uy a ticket\n$20 at the door (so please register online)\n\nNon-Member
  Cost:\n$20 online and at the door\n\nTickets:\nThere are a limited nu
 mber of Tickets for sale.\nTickets are not mailed, but your name will 
 be kept at the door.\nActual hike is subject to change depending on we
 ather conditions, fallen trees, etc.\nAll sales are final.\n Sweeper:\
 nIf the group size is larger than 10, we are going to look for a volun
 teer to act as a sweeper. Sweepers will walk at the end of the hike li
 ne and will make sure the group stays together.\n\nHike Leader: David 
 will be leading this hike. Please be on time, he will not wait for lat
 ecomers.\n\nWhat to bring:\nHiking boots and water (required).\nSnacks
 , a light lunch, etc.\nBinoculars.\nToilet paper, tissues, plastic bag
 s for garbage, etc.\n\nInclement Weather:\nPrecipitation will cancel t
 his hike. Please check your inbox for updates and the NJYP.org calenda
 r. Tickets will be refunded.\n\nDirections:\nTake Interstate Route 80 
 to Exit 37 (Hibernia/Rockaway) and bear left at the end of the ramp. C
 ontinue north on Green Pond Road (County Route 513) for 6.5 miles and 
 turn right onto Upper Hibernia Road. (If coming from the north, you ca
 n take Route 23 to Green Pond Road, head south for 3.7 miles, and turn
  left onto Upper Hibernia Road.) Follow Upper Hibernia Road for 2.5 mi
 les to the end of the paved portion of the road. Continue ahead for a 
 short distance, turn left just past Brunache Road, and park in the wid
 e gravel area.\n http://maps.google.com/maps?saddr=Upper+Hibernia+Rd&d
 addr=Upper+Hibernia+Rd&hl=en&sll=40.967261,-74.470568&sspn=0.05256,0.0
 77162&geocode=FUBqcQIdBpyP-w%3BFcLycAIdWJCP-w&vpsrc=0&mra=dme&mrsp=1&s
 z=14&t=m&z=14\nNote you  must take the path that is already highlight
 ed on the link above, the other roads are not accessible (dirt or aban
 doned roads)\n How to find the group:\nWe will meet in the parking lot
 . Please be on time.\n\nFor more information visit http://njyp.org/eve
 nts/hike-hawk-watch
DTSTART;TZID=America/New_York:20111106T103000
DTEND;TZID=America/New_York:20111106T123000
CATEGORIES:"morris county", athletic
LOCATION:Wildcat Ridge Wildlife Management Area
WEBSITE:http://maps.google.com/maps?saddr=Upper+Hibernia+Rd&daddr=Uppe
 r+Hibernia+Rd&hl=en&sll=40.967261,-74.470568&sspn=0.05256,0.077162&geo
 code=FUBqcQIdBpyP-w%3BFcLycAIdWJCP-w&vpsrc=0&mra=dme&mrsp=1&sz=14&t=m&
 z=14
URL:http://maps.google.com/maps?saddr=Upper+Hibernia+Rd&daddr=Upper+Hi
 bernia+Rd&hl=en&sll=40.967261,-74.470568&sspn=0.05256,0.077162&geocode
 =FUBqcQIdBpyP-w%3BFcLycAIdWJCP-w&vpsrc=0&mra=dme&mrsp=1&sz=14&t=m&z=14
CONTACT:
ORGANIZER;CN="Brian and Mike":http://njyp.org/profile/BrianMike
ATTACH;FMTTYPE="image/jpeg":http://storage.ning.com/topology/rest/1.0/
 file/get/1088643975?profile=original
ATTENDEE;ROLE=REQ-PARTICIPANT;PARTSTAT=ACCEPTED;RSVP=TRUE;CN=Matthew:h
 ttp://njyp.org/profile/Matthew94
ATTENDEE;ROLE=REQ-PARTICIPANT;PARTSTAT=ACCEPTED;RSVP=TRUE;CN=Drew:http
 ://njyp.org/profile/AndrewCoughlan
ATTENDEE;ROLE=REQ-PARTICIPANT;PARTSTAT=ACCEPTED;RSVP=TRUE;CN=Pieter:ht
 tp://njyp.org/profile/Pieter
ATTENDEE;ROLE=REQ-PARTICIPANT;PARTSTAT=ACCEPTED;RSVP=TRUE;CN=Larry:htt
 p://njyp.org/profile/LarryYang
ATTENDEE;ROLE=REQ-PARTICIPANT;PARTSTAT=ACCEPTED;RSVP=TRUE;CN=John:http
 ://njyp.org/profile/JohnE
ATTENDEE;ROLE=REQ-PARTICIPANT;PARTSTAT=ACCEPTED;RSVP=TRUE;CN=Stephanie
 :http://njyp.org/profile/Stephanie516
ATTENDEE;ROLE=REQ-PARTICIPANT;PARTSTAT=ACCEPTED;RSVP=TRUE;CN="Nelly Ga
 lan":http://njyp.org/profile/NellyGalan
ATTENDEE;ROLE=REQ-PARTICIPANT;PARTSTAT=ACCEPTED;RSVP=TRUE;CN="Jenny Ma
 rie":http://njyp.org/profile/JennyMarie82
ATTENDEE;ROLE=REQ-PARTICIPANT;PARTSTAT=ACCEPTED;RSVP=TRUE;CN=Peter:htt
 p://njyp.org/profile/PeterMcDonnell
ATTENDEE;ROLE=REQ-PARTICIPANT;PARTSTAT=ACCEPTED;RSVP=TRUE;CN=Amanda:ht
 tp://njyp.org/profile/Amanda710
ATTENDEE;ROLE=REQ-PARTICIPANT;PARTSTAT=ACCEPTED;RSVP=TRUE;CN=NorthNJDa
 vid:http://njyp.org/profile/NorthNJDavid
ATTENDEE;ROLE=REQ-PARTICIPANT;PARTSTAT=ACCEPTED;RSVP=TRUE;CN="Brian an
 d Mike":http://njyp.org/profile/BrianMike
ATTENDEE;ROLE=REQ-PARTICIPANT;PARTSTAT=TENTATIVE;RSVP=TRUE;CN=Justin:h
 ttp://njyp.org/profile/Justin788
ATTENDEE;ROLE=REQ-PARTICIPANT;PARTSTAT=TENTATIVE;RSVP=TRUE;CN=Kristy:h
 ttp://njyp.org/profile/KristyBuchalla
ATTENDEE;ROLE=REQ-PARTICIPANT;PARTSTAT=TENTATIVE;RSVP=TRUE;CN=Keri:htt
 p://njyp.org/profile/Keri690
ATTENDEE;ROLE=REQ-PARTICIPANT;PARTSTAT=TENTATIVE;RSVP=TRUE;CN=Kristan:
 http://njyp.org/profile/Kristan
ATTENDEE;ROLE=REQ-PARTICIPANT;PARTSTAT=TENTATIVE;RSVP=TRUE;CN=Diana:ht
 tp://njyp.org/profile/Diana437
ATTENDEE;ROLE=REQ-PARTICIPANT;PARTSTAT=TENTATIVE;RSVP=TRUE;CN=Kevin:ht
 tp://njyp.org/profile/Kevin84
ATTENDEE;ROLE=REQ-PARTICIPANT;PARTSTAT=TENTATIVE;RSVP=TRUE;CN=sloane:h
 ttp://njyp.org/profile/sloane
ATTENDEE;ROLE=REQ-PARTICIPANT;PARTSTAT=TENTATIVE;RSVP=TRUE;CN=Monica:h
 ttp://njyp.org/profile/Monica421
ATTENDEE;ROLE=REQ-PARTICIPANT;PARTSTAT=TENTATIVE;RSVP=TRUE;CN=Rebecca:
 http://njyp.org/profile/Rebecca
ATTENDEE;ROLE=REQ-PARTICIPANT;PARTSTAT=TENTATIVE;RSVP=TRUE;CN="Kevin H
 aughwout":http://njyp.org/profile/KevinHaughwout
END:VEVENT
END:VCALENDAR
