BEGIN:VCALENDAR
PRODID:NingEventWidget-v1
VERSION:2.0
METHOD:PUBLISH
BEGIN:VTIMEZONE
TZID:America/New_York
X-LIC-LOCATION:America/New_York
BEGIN:DAYLIGHT
TZOFFSETFROM:-0500
TZOFFSETTO:-0400
TZNAME:EDT
DTSTART:19700308T020000
RRULE:FREQ=YEARLY;BYMONTH=3;BYDAY=2SU
END:DAYLIGHT
BEGIN:STANDARD
TZOFFSETFROM:-0400
TZOFFSETTO:-0500
TZNAME:EST
DTSTART:19701101T020000
RRULE:FREQ=YEARLY;BYMONTH=11;BYDAY=1SU
END:STANDARD
END:VTIMEZONE
BEGIN:VEVENT
UID:2938326:Event:282650
DTSTAMP:20260420T053859Z
SUMMARY:Hike: Jenny Jump Halloween Hike
DESCRIPTION:Legend has it this beautiful park got its name from a youn
 g girl named Jenny who jumped off of a cliff to escape a Native Americ
 an attack.Â  It is said that Jenny still haunts the area, occasionally
  startling hikers and campers. Join us as we explore this beautiful pa
 rk with awesome views of the surrounding hills and the far-away Delawa
 re Water Gap, get a peek of eerie Ghost Lake and step foot on the infa
 mous Shades of Death Rd!Â  Be sure to show your Halloween spirit in co
 stume (as long as you can easily hike in it) to appease the local spir
 its!After the hike, join us for an optional lunch nearbyâ€¦that is, if
  you arenâ€™t too scared to eat afterwards, muwhahah. ;) \n\n\nMember 
 Cost:$5 for the first 5$10 for the next 6 to 25$20 at the doorNon-Memb
 er Cost:$20 online and at the door.Tickets:There are a limited number 
 of Tickets for sale.Tickets are not mailed, but your name will be kept
  at the door. All sales are final.Hike Leader:David will be leading th
 is hike. David will not be waiting for late people.Â  In fairness to t
 hose who arrive on time, the hike will start on time.Specs:The hike is
  classified as moderately strenuous with a few big uphill and downhill
  parts, although much of the trail has gently rolling terrain.Â  We wi
 ll be hiking a total of about 5.5 miles and will take approx 3 hours.A
 s with all hikes you must be in good, athletic shape.Â  This is NOT su
 itable for beginners.Sweeper:If the group size is larger than 10, we a
 re going to look for a volunteer to act as a sweeper. Sweepers will wa
 lk at the end of the hike line and will make sure the group stays toge
 ther.What to bring:Hiking boots and 2 liters of water (required).Â Â Â
   We recommend a light snack to keep your appetite satisfied. Please m
 ake sure you have a bag to carry out your garbage.Inclement Weather:An
 y precipitation beyond a drizzle will cancel this hike. Tickets will b
 e refunded.Directions:Take Rt 80 West until exit 12.Â  At the end of t
 he exit ramp, make a left onto Rt 521 (Hope Blairstown Rd). Proceed ap
 prox 1.2 miles until the blinking red light and make a left onto Johns
 onburg Rd.Â  Go about 1.1 miles and make a right on Shiloh Rd. (Do not
  take Jenny Jump Rd). Go another 1.2 miles and then bear right at the 
 fork.Â  Both left and right are State Park Rd, so be sure to go right 
 (the sign for the park will point you right).Â  Follow that and you wi
 ll see the big wooden Jenny Jump sign.Â  Shortly after, you will come 
 to a mini triangle in the road.Â  Bear right (it will almost seem stra
 ight), then follow the little unpaved gravel/dirt road immediately aft
 er that triangle to the right.Â  The lot is at the end of the very sho
 rt road. Google Maps Link:http://maps.google.com/maps?daddr=State+Park
 +Rd&hl=en&ll=40.913675,-74.931564&spn=0.026269,0.038581&sll=40.917429,
 -74.930803&sspn=0.006567,0.009645&geocode=FWpGcAIdRr-I-w&vpsrc=6&mra=m
 r&z=15How to find the group: Meet in the parking lot described in the 
 directions section.\n\nFor more information visit http://njyp.org/even
 ts/hike-jenny-jump-halloween-hike
DTSTART;TZID=America/New_York:20111030T103000
DTEND;TZID=America/New_York:20111030T133000
CATEGORIES:"warren county", athletic
LOCATION:Jenny Jump State Forest
WEBSITE:http://maps.google.com/maps?daddr=State+Park+Rd&hl=en&ll=40.91
 3675,-74.931564&spn=0.026269,0.038581&sll=40.917429,-74.930803&sspn=0.
 006567,0.009645&geocode=FWpGcAIdRr-I-w&vpsrc=6&mra=mr&z=15
URL:http://maps.google.com/maps?daddr=State+Park+Rd&hl=en&ll=40.913675
 ,-74.931564&spn=0.026269,0.038581&sll=40.917429,-74.930803&sspn=0.0065
 67,0.009645&geocode=FWpGcAIdRr-I-w&vpsrc=6&mra=mr&z=15
CONTACT:
ORGANIZER;CN="Brian and Mike":http://njyp.org/profile/BrianMike
ATTACH;FMTTYPE="image/jpeg":http://storage.ning.com/topology/rest/1.0/
 file/get/1088718146?profile=original
ATTENDEE;ROLE=REQ-PARTICIPANT;PARTSTAT=ACCEPTED;RSVP=TRUE;CN=Kristan:h
 ttp://njyp.org/profile/Kristan
ATTENDEE;ROLE=REQ-PARTICIPANT;PARTSTAT=ACCEPTED;RSVP=TRUE;CN=Larry:htt
 p://njyp.org/profile/LarryYang
ATTENDEE;ROLE=REQ-PARTICIPANT;PARTSTAT=ACCEPTED;RSVP=TRUE;CN=Stephanie
 :http://njyp.org/profile/Stephanie516
ATTENDEE;ROLE=REQ-PARTICIPANT;PARTSTAT=ACCEPTED;RSVP=TRUE;CN=Amanda:ht
 tp://njyp.org/profile/Amanda710
ATTENDEE;ROLE=REQ-PARTICIPANT;PARTSTAT=ACCEPTED;RSVP=TRUE;CN=John:http
 ://njyp.org/profile/JohnE
ATTENDEE;ROLE=REQ-PARTICIPANT;PARTSTAT=ACCEPTED;RSVP=TRUE;CN="Nelly Ga
 lan":http://njyp.org/profile/NellyGalan
ATTENDEE;ROLE=REQ-PARTICIPANT;PARTSTAT=ACCEPTED;RSVP=TRUE;CN=Cyrielle:
 http://njyp.org/profile/Cyrielle
ATTENDEE;ROLE=REQ-PARTICIPANT;PARTSTAT=ACCEPTED;RSVP=TRUE;CN=Stacey:ht
 tp://njyp.org/profile/Stacey63
ATTENDEE;ROLE=REQ-PARTICIPANT;PARTSTAT=ACCEPTED;RSVP=TRUE;CN=Jennifer:
 http://njyp.org/profile/Jennifer234
ATTENDEE;ROLE=REQ-PARTICIPANT;PARTSTAT=ACCEPTED;RSVP=TRUE;CN=Denis:htt
 p://njyp.org/profile/Denis
ATTENDEE;ROLE=REQ-PARTICIPANT;PARTSTAT=ACCEPTED;RSVP=TRUE;CN=NorthNJDa
 vid:http://njyp.org/profile/NorthNJDavid
ATTENDEE;ROLE=REQ-PARTICIPANT;PARTSTAT=ACCEPTED;RSVP=TRUE;CN="Brian an
 d Mike":http://njyp.org/profile/BrianMike
ATTENDEE;ROLE=REQ-PARTICIPANT;PARTSTAT=TENTATIVE;RSVP=TRUE;CN=Colleen:
 http://njyp.org/profile/Colleen
ATTENDEE;ROLE=REQ-PARTICIPANT;PARTSTAT=TENTATIVE;RSVP=TRUE;CN=Keira:ht
 tp://njyp.org/profile/Keira
ATTENDEE;ROLE=REQ-PARTICIPANT;PARTSTAT=TENTATIVE;RSVP=TRUE;CN="Lisa E"
 :http://njyp.org/profile/Lisa816
ATTENDEE;ROLE=REQ-PARTICIPANT;PARTSTAT=TENTATIVE;RSVP=TRUE;CN="Michael
  Roselle":http://njyp.org/profile/MichaelRoselle
ATTENDEE;ROLE=REQ-PARTICIPANT;PARTSTAT=TENTATIVE;RSVP=TRUE;CN=Phillip:
 http://njyp.org/profile/Phillip725
ATTENDEE;ROLE=REQ-PARTICIPANT;PARTSTAT=TENTATIVE;RSVP=TRUE;CN="rachel 
 irene":http://njyp.org/profile/rachel_irene
ATTENDEE;ROLE=REQ-PARTICIPANT;PARTSTAT=TENTATIVE;RSVP=TRUE;CN="Jeffrey
  Rieske":http://njyp.org/profile/jwr
ATTENDEE;ROLE=REQ-PARTICIPANT;PARTSTAT=TENTATIVE;RSVP=TRUE;CN=Danielle
 :http://njyp.org/profile/Danielle818
ATTENDEE;ROLE=REQ-PARTICIPANT;PARTSTAT=TENTATIVE;RSVP=TRUE;CN=Patricia
 :http://njyp.org/profile/TrishaOSha
ATTENDEE;ROLE=REQ-PARTICIPANT;PARTSTAT=TENTATIVE;RSVP=TRUE;CN=Lizzie:h
 ttp://njyp.org/profile/ElizabethKuhns
END:VEVENT
END:VCALENDAR
