BEGIN:VCALENDAR
PRODID:NingEventWidget-v1
VERSION:2.0
METHOD:PUBLISH
BEGIN:VTIMEZONE
TZID:America/New_York
X-LIC-LOCATION:America/New_York
BEGIN:DAYLIGHT
TZOFFSETFROM:-0500
TZOFFSETTO:-0400
TZNAME:EDT
DTSTART:19700308T020000
RRULE:FREQ=YEARLY;BYMONTH=3;BYDAY=2SU
END:DAYLIGHT
BEGIN:STANDARD
TZOFFSETFROM:-0400
TZOFFSETTO:-0500
TZNAME:EST
DTSTART:19701101T020000
RRULE:FREQ=YEARLY;BYMONTH=11;BYDAY=1SU
END:STANDARD
END:VTIMEZONE
BEGIN:VEVENT
UID:2938326:Event:511240
DTSTAMP:20260420T023650Z
SUMMARY:Hike: Jockey Hollow
DESCRIPTION:Did you buy the Winter Hike Pass? Remember you can attend 
 this hike at no cost, http://www.njyp.org/page/winter-hike-pass\n \n
 We will meet up at Jockey Hollow, David is who you will follow, It ma
 y be breezy, But the hike is easy, And afterwards beer you will swall
 ow.\n Specs: Difficulty level is 2, http://www.njyp.org/page/hike-rat
 ings 2-2.5 hours. Between 4 and 5 miles long. This hike is good for be
 ginners! As with all hikes you must be in reasonable athletic shape.\n
  \n Member Cost: $10 online $20 at the door (so please register online
 )  Non-Member Cost: $20 online and at the door  Tickets: There are a l
 imited number of Tickets for sale. Tickets are not mailed, but your na
 me will be kept at the door. Actual hike is subject to change dependin
 g on weather conditions, fallen trees, etc. All sales are final.  Swee
 per: If the group is large we are going to look for 2 volunteers to ac
 t as sweepers. Sweepers will walk at the end of the hike line and will
  make sure the group stays together.  Hike Leader: David will be leadi
 ng this hike.  What to bring: Hiking boots or sneakers 2 Liters of Wat
 er (required). Snacks, a light lunch, etc. Layers if it is cold. Toile
 t paper, tissues, plastic bags for garbage, etc.  Inclement Weather: H
 eavy rain or extreme cold might cancel this hike. Please check your in
 box for updates and the NJYP.org calendar. Tickets will be refunded.  
 Directions: Take 287 North or South to exit 30B. At the light, make a 
 right onto RT 202 North. Turn left at the light @ Tempe Wick Rd. (Do n
 ot let this confuse you as the street name on the right side is differ
 ent). Take Tempe Wick Rd about 1.5 miles to the entrance of Jockey Hol
 low Rd on the right. Park at the first parking lot at the visitor’s 
 center.  Find the group in the parking lot. We will not wait for latec
 omers so please be on time.  http://maps.google.com/maps?f=d&source=s_
 d&saddr=&daddr=40.762162,-74.54567&hl=en&geocode=&mra=mi&mrsp=0&sz=16&
 sll=40.762016,-74.545906&sspn=0.011913,0.017145&ie=UTF8&ll=40.762715,-
 74.545691&spn=0.011913,0.017145&z=16\n\nFor more information visit htt
 p://njyp.org/events/hike-jockey-hollow-1
DTSTART;TZID=America/New_York:20140222T103000
DTEND;TZID=America/New_York:20140222T130000
CATEGORIES:"morris county", athletic, pass
LOCATION:Jockey Hollow National Historic Park
WEBSITE:http://maps.google.com/maps?f=d&source=s_d&saddr=&daddr=40.762
 162,-74.54567&hl=en&geocode=&mra=mi&mrsp=0&sz=16&sll=40.762016,-74.545
 906&sspn=0.011913,0.017145&ie=UTF8&ll=40.762715,-74.545691&spn=0.01191
 3,0.017145&z=16
URL:http://maps.google.com/maps?f=d&source=s_d&saddr=&daddr=40.762162,
 -74.54567&hl=en&geocode=&mra=mi&mrsp=0&sz=16&sll=40.762016,-74.545906&
 sspn=0.011913,0.017145&ie=UTF8&ll=40.762715,-74.545691&spn=0.011913,0.
 017145&z=16
CONTACT:
ORGANIZER;CN="Brian and Mike":http://njyp.org/profile/BrianMike
ATTACH;FMTTYPE="image/jpeg":http://storage.ning.com/topology/rest/1.0/
 file/get/1088651826?profile=original
ATTENDEE;ROLE=REQ-PARTICIPANT;PARTSTAT=ACCEPTED;RSVP=TRUE;CN=Diane:htt
 p://njyp.org/profile/DianePalla
ATTENDEE;ROLE=REQ-PARTICIPANT;PARTSTAT=ACCEPTED;RSVP=TRUE;CN=Dharm:htt
 p://njyp.org/profile/DharmeshMistry
ATTENDEE;ROLE=REQ-PARTICIPANT;PARTSTAT=ACCEPTED;RSVP=TRUE;CN="Louis C.
  Hochman":http://njyp.org/profile/LouisCHochman
ATTENDEE;ROLE=REQ-PARTICIPANT;PARTSTAT=ACCEPTED;RSVP=TRUE;CN=Michael:h
 ttp://njyp.org/profile/Michael683
ATTENDEE;ROLE=REQ-PARTICIPANT;PARTSTAT=ACCEPTED;RSVP=TRUE;CN=Sara:http
 ://njyp.org/profile/Sara409
ATTENDEE;ROLE=REQ-PARTICIPANT;PARTSTAT=ACCEPTED;RSVP=TRUE;CN=Olga:http
 ://njyp.org/profile/Olga121
ATTENDEE;ROLE=REQ-PARTICIPANT;PARTSTAT=ACCEPTED;RSVP=TRUE;CN=Sara:http
 ://njyp.org/profile/Sara263
ATTENDEE;ROLE=REQ-PARTICIPANT;PARTSTAT=ACCEPTED;RSVP=TRUE;CN=Rasika:ht
 tp://njyp.org/profile/Rasika
ATTENDEE;ROLE=REQ-PARTICIPANT;PARTSTAT=ACCEPTED;RSVP=TRUE;CN=Peter:htt
 p://njyp.org/profile/PeterMcDonnell
ATTENDEE;ROLE=REQ-PARTICIPANT;PARTSTAT=ACCEPTED;RSVP=TRUE;CN=Marcus:ht
 tp://njyp.org/profile/MGarf
ATTENDEE;ROLE=REQ-PARTICIPANT;PARTSTAT=ACCEPTED;RSVP=TRUE;CN=John:http
 ://njyp.org/profile/JohnE
ATTENDEE;ROLE=REQ-PARTICIPANT;PARTSTAT=ACCEPTED;RSVP=TRUE;CN=Lizzie:ht
 tp://njyp.org/profile/ElizabethKuhns
ATTENDEE;ROLE=REQ-PARTICIPANT;PARTSTAT=ACCEPTED;RSVP=TRUE;CN="Brian an
 d Mike":http://njyp.org/profile/BrianMike
ATTENDEE;ROLE=REQ-PARTICIPANT;PARTSTAT=ACCEPTED;RSVP=TRUE;CN=NorthNJDa
 vid:http://njyp.org/profile/NorthNJDavid
ATTENDEE;ROLE=REQ-PARTICIPANT;PARTSTAT=TENTATIVE;RSVP=TRUE;CN="Jeffrey
  Gates":http://njyp.org/profile/JeffreyGates
ATTENDEE;ROLE=REQ-PARTICIPANT;PARTSTAT=TENTATIVE;RSVP=TRUE;CN=Joseph:h
 ttp://njyp.org/profile/JosephTakach
ATTENDEE;ROLE=REQ-PARTICIPANT;PARTSTAT=TENTATIVE;RSVP=TRUE;CN=Joe:http
 ://njyp.org/profile/JosephMazzone
ATTENDEE;ROLE=REQ-PARTICIPANT;PARTSTAT=TENTATIVE;RSVP=TRUE;CN=Amy:http
 ://njyp.org/profile/Amy665
ATTENDEE;ROLE=REQ-PARTICIPANT;PARTSTAT=TENTATIVE;RSVP=TRUE;CN=Dave:htt
 p://njyp.org/profile/Dave791
ATTENDEE;ROLE=REQ-PARTICIPANT;PARTSTAT=TENTATIVE;RSVP=TRUE;CN=Ardavan:
 http://njyp.org/profile/Ardavan
ATTENDEE;ROLE=REQ-PARTICIPANT;PARTSTAT=TENTATIVE;RSVP=TRUE;CN="Isaac B
 earg":http://njyp.org/profile/IsaacBearg
ATTENDEE;ROLE=REQ-PARTICIPANT;PARTSTAT=TENTATIVE;RSVP=TRUE;CN=Samantha
 :http://njyp.org/profile/Samantha993
ATTENDEE;ROLE=REQ-PARTICIPANT;PARTSTAT=TENTATIVE;RSVP=TRUE;CN="Kevin H
 aughwout":http://njyp.org/profile/KevinHaughwout
ATTENDEE;ROLE=REQ-PARTICIPANT;PARTSTAT=TENTATIVE;RSVP=TRUE;CN=James:ht
 tp://njyp.org/profile/JamesShow
ATTENDEE;ROLE=REQ-PARTICIPANT;PARTSTAT=TENTATIVE;RSVP=TRUE;CN=John:htt
 p://njyp.org/profile/John839
ATTENDEE;ROLE=REQ-PARTICIPANT;PARTSTAT=TENTATIVE;RSVP=TRUE;CN=Kalie:ht
 tp://njyp.org/profile/Kalie612
END:VEVENT
END:VCALENDAR
