BEGIN:VCALENDAR
PRODID:NingEventWidget-v1
VERSION:2.0
METHOD:PUBLISH
BEGIN:VTIMEZONE
TZID:America/New_York
X-LIC-LOCATION:America/New_York
BEGIN:DAYLIGHT
TZOFFSETFROM:-0500
TZOFFSETTO:-0400
TZNAME:EDT
DTSTART:19700308T020000
RRULE:FREQ=YEARLY;BYMONTH=3;BYDAY=2SU
END:DAYLIGHT
BEGIN:STANDARD
TZOFFSETFROM:-0400
TZOFFSETTO:-0500
TZNAME:EST
DTSTART:19701101T020000
RRULE:FREQ=YEARLY;BYMONTH=11;BYDAY=1SU
END:STANDARD
END:VTIMEZONE
BEGIN:VEVENT
UID:2938326:Event:317361
DTSTAMP:20260420T002310Z
SUMMARY:Hike: Easy Jockey Hollow
DESCRIPTION:Let us help you get out on a Saturday morning! On the edge
  of Morristown, this historical park provides a scenic and easy hike f
 or us to enjoy. We will hike an easy trail through forest and past his
 toric recreations of soldierâ€™s huts from the Revolutionary War (wint
 er of 1779-1780). The trail is relatively flat with only small uphill 
 and downhill so it is perfect for beginners. \nAfter our adventure the
  group will go out for a healthy lunch at http://www.thehealthshoppes.
 com/contactus.html (Morristown location) Please bring directions with 
 you.\n\nSpecs:\nThe hike is classified as easy and should take 2-2.5 h
 ours.\nThe total length of the hike will be between 4 and 5 miles long
  and we will walk at an easy pace.\nThis hike is good for beginners!\n
 As with all hikes you must be in reasonable athletic shape.\n\n\nMembe
 r Cost:\n$5 for the first 10 to buy a ticket\n$10 for the next 11-25 t
 o buy a ticket\n$20 at the door (so please register online)\n\nNon-Mem
 ber Cost:\n$20 online and at the door\n\nAre you a Sideliner or Player
 ? Go here for ticket discount info, http://www.njyp.org/group/the-bett
 er-body-challenge-main-group\n\nTickets:\nThere are a limited number o
 f Tickets for sale. Tickets are not mailed, but your name will be kept
  at the door. Actual hike is subject to change depending on weather co
 nditions, fallen trees, etc. All sales are final.\n\nSweeper:\nIf the 
 group is large we are going to look for 2 volunteers to act as sweeper
 s. Sweepers will walk at the end of the hike line and will make sure t
 he group stays together.\n\nHike Leader:\nDavid will be leading this h
 ike.\n\nWhat to bring:\nHiking boots or sneakers\n2 Liters of Water (r
 equired).\nSnacks, a light lunch, etc.\nLayers if it is cold.\nToilet 
 paper, tissues, plastic bags for garbage, etc.\n\nInclement Weather:\n
 Heavy rain or extreme cold might cancel this hike. Please check your i
 nbox for updates and the NJYP.org calendar. Tickets will be refunded.\
 n\nDirections:\nTake 287 North or South to exit 30B. At the light, mak
 e a right onto RT 202 North. Turn left at the light @ Tempe Wick Rd. (
 Do not let this confuse you as the street name on the right side is di
 fferent). Take Tempe Wick Rd about 1.5 miles to the entrance of Jockey
  Hollow Rd on the right. Park at the first parking lot at the visitorâ
 €™s center.\n\nFind the group in the parking lot. We will not wait for
  latecomers so please be on time.\n\nhttp://maps.google.com/maps?f=d&s
 ource=s_d&saddr=&daddr=40.762162,-74.54567&hl=en&geocode=&mra=mi&mrsp=
 0&sz=16&sll=40.762016,-74.545906&sspn=0.011913,0.017145&ie=UTF8&ll=40.
 762715,-74.545691&spn=0.011913,0.017145&z=16\n\nFor more information v
 isit http://njyp.org/events/hike-jockey-hollow-easy-1
DTSTART;TZID=America/New_York:20120225T103000
DTEND;TZID=America/New_York:20120225T130000
CATEGORIES:"morris county", athletic, bbc
LOCATION:Jockey Hollow National Historic Park
WEBSITE:http://maps.google.com/maps?f=d&source=s_d&saddr=&daddr=40.762
 162,-74.54567&hl=en&geocode=&mra=mi&mrsp=0&sz=16&sll=40.762016,-74.545
 906&sspn=0.011913,0.017145&ie=UTF8&ll=40.762715,-74.545691&spn=0.01191
 3,0.017145&z=16
URL:http://maps.google.com/maps?f=d&source=s_d&saddr=&daddr=40.762162,
 -74.54567&hl=en&geocode=&mra=mi&mrsp=0&sz=16&sll=40.762016,-74.545906&
 sspn=0.011913,0.017145&ie=UTF8&ll=40.762715,-74.545691&spn=0.011913,0.
 017145&z=16
CONTACT:
ORGANIZER;CN="Brian and Mike":http://njyp.org/profile/BrianMike
ATTACH;FMTTYPE="image/jpeg":http://storage.ning.com/topology/rest/1.0/
 file/get/1088651826?profile=original
ATTENDEE;ROLE=REQ-PARTICIPANT;PARTSTAT=ACCEPTED;RSVP=TRUE;CN=Kevin:htt
 p://njyp.org/profile/Kevin84
ATTENDEE;ROLE=REQ-PARTICIPANT;PARTSTAT=ACCEPTED;RSVP=TRUE;CN=Larry:htt
 p://njyp.org/profile/LarryYang
ATTENDEE;ROLE=REQ-PARTICIPANT;PARTSTAT=ACCEPTED;RSVP=TRUE;CN=Matthew:h
 ttp://njyp.org/profile/Matthew94
ATTENDEE;ROLE=REQ-PARTICIPANT;PARTSTAT=ACCEPTED;RSVP=TRUE;CN=David:htt
 p://njyp.org/profile/DavidCollins
ATTENDEE;ROLE=REQ-PARTICIPANT;PARTSTAT=ACCEPTED;RSVP=TRUE;CN=Morgan:ht
 tp://njyp.org/profile/Morgan191
ATTENDEE;ROLE=REQ-PARTICIPANT;PARTSTAT=ACCEPTED;RSVP=TRUE;CN=Jenn:http
 ://njyp.org/profile/Jenn583
ATTENDEE;ROLE=REQ-PARTICIPANT;PARTSTAT=ACCEPTED;RSVP=TRUE;CN="Jessica 
 Gill":http://njyp.org/profile/JessicaGill
ATTENDEE;ROLE=REQ-PARTICIPANT;PARTSTAT=ACCEPTED;RSVP=TRUE;CN=David:htt
 p://njyp.org/profile/David16
ATTENDEE;ROLE=REQ-PARTICIPANT;PARTSTAT=ACCEPTED;RSVP=TRUE;CN=Kristan:h
 ttp://njyp.org/profile/Kristan
ATTENDEE;ROLE=REQ-PARTICIPANT;PARTSTAT=ACCEPTED;RSVP=TRUE;CN=Keri:http
 ://njyp.org/profile/Keri690
ATTENDEE;ROLE=REQ-PARTICIPANT;PARTSTAT=ACCEPTED;RSVP=TRUE;CN=Zehra:htt
 p://njyp.org/profile/zkasan83
ATTENDEE;ROLE=REQ-PARTICIPANT;PARTSTAT=ACCEPTED;RSVP=TRUE;CN=Celeste:h
 ttp://njyp.org/profile/Celeste201
ATTENDEE;ROLE=REQ-PARTICIPANT;PARTSTAT=ACCEPTED;RSVP=TRUE;CN="Kerwyn V
 elasco":http://njyp.org/profile/KerwynVelasco
ATTENDEE;ROLE=REQ-PARTICIPANT;PARTSTAT=ACCEPTED;RSVP=TRUE;CN=Susan:htt
 p://njyp.org/profile/Susan617
ATTENDEE;ROLE=REQ-PARTICIPANT;PARTSTAT=ACCEPTED;RSVP=TRUE;CN="Lisa E":
 http://njyp.org/profile/Lisa816
ATTENDEE;ROLE=REQ-PARTICIPANT;PARTSTAT=ACCEPTED;RSVP=TRUE;CN="Nelly Ga
 lan":http://njyp.org/profile/NellyGalan
ATTENDEE;ROLE=REQ-PARTICIPANT;PARTSTAT=ACCEPTED;RSVP=TRUE;CN=Danielle:
 http://njyp.org/profile/Danielle818
ATTENDEE;ROLE=REQ-PARTICIPANT;PARTSTAT=ACCEPTED;RSVP=TRUE;CN=Sergio:ht
 tp://njyp.org/profile/Sergio666
ATTENDEE;ROLE=REQ-PARTICIPANT;PARTSTAT=ACCEPTED;RSVP=TRUE;CN=Beth:http
 ://njyp.org/profile/Beth759
ATTENDEE;ROLE=REQ-PARTICIPANT;PARTSTAT=ACCEPTED;RSVP=TRUE;CN=Diana:htt
 p://njyp.org/profile/Diana437
ATTENDEE;ROLE=REQ-PARTICIPANT;PARTSTAT=ACCEPTED;RSVP=TRUE;CN="Michelle
  Iden":http://njyp.org/profile/MichelleIden
ATTENDEE;ROLE=REQ-PARTICIPANT;PARTSTAT=ACCEPTED;RSVP=TRUE;CN=Faris:htt
 p://njyp.org/profile/Faris
ATTENDEE;ROLE=REQ-PARTICIPANT;PARTSTAT=ACCEPTED;RSVP=TRUE;CN=Faith:htt
 p://njyp.org/profile/Faith
ATTENDEE;ROLE=REQ-PARTICIPANT;PARTSTAT=ACCEPTED;RSVP=TRUE;CN=John:http
 ://njyp.org/profile/JohnE
ATTENDEE;ROLE=REQ-PARTICIPANT;PARTSTAT=ACCEPTED;RSVP=TRUE;CN=Stephanie
 :http://njyp.org/profile/Stephanie516
ATTENDEE;ROLE=REQ-PARTICIPANT;PARTSTAT=ACCEPTED;RSVP=TRUE;CN="Jenny Ma
 rie":http://njyp.org/profile/JennyMarie82
ATTENDEE;ROLE=REQ-PARTICIPANT;PARTSTAT=ACCEPTED;RSVP=TRUE;CN=Melissa:h
 ttp://njyp.org/profile/Melissa117
ATTENDEE;ROLE=REQ-PARTICIPANT;PARTSTAT=ACCEPTED;RSVP=TRUE;CN=Sheila:ht
 tp://njyp.org/profile/Sheila
ATTENDEE;ROLE=REQ-PARTICIPANT;PARTSTAT=ACCEPTED;RSVP=TRUE;CN=Julie:htt
 p://njyp.org/profile/Julie942
ATTENDEE;ROLE=REQ-PARTICIPANT;PARTSTAT=ACCEPTED;RSVP=TRUE;CN=Amanda:ht
 tp://njyp.org/profile/Amanda710
ATTENDEE;ROLE=REQ-PARTICIPANT;PARTSTAT=ACCEPTED;RSVP=TRUE;CN=Peter:htt
 p://njyp.org/profile/PeterMcDonnell
ATTENDEE;ROLE=REQ-PARTICIPANT;PARTSTAT=ACCEPTED;RSVP=TRUE;CN=Dejan:htt
 p://njyp.org/profile/Dejan
ATTENDEE;ROLE=REQ-PARTICIPANT;PARTSTAT=ACCEPTED;RSVP=TRUE;CN=NorthNJDa
 vid:http://njyp.org/profile/NorthNJDavid
ATTENDEE;ROLE=REQ-PARTICIPANT;PARTSTAT=ACCEPTED;RSVP=TRUE;CN="Brian an
 d Mike":http://njyp.org/profile/BrianMike
ATTENDEE;ROLE=REQ-PARTICIPANT;PARTSTAT=TENTATIVE;RSVP=TRUE;CN=Joseph:h
 ttp://njyp.org/profile/Joseph158
ATTENDEE;ROLE=REQ-PARTICIPANT;PARTSTAT=TENTATIVE;RSVP=TRUE;CN=Avi:http
 ://njyp.org/profile/Avi556
ATTENDEE;ROLE=REQ-PARTICIPANT;PARTSTAT=TENTATIVE;RSVP=TRUE;CN=Ahsan:ht
 tp://njyp.org/profile/Ahsan
ATTENDEE;ROLE=REQ-PARTICIPANT;PARTSTAT=TENTATIVE;RSVP=TRUE;CN=Andrew:h
 ttp://njyp.org/profile/Andrew670
ATTENDEE;ROLE=REQ-PARTICIPANT;PARTSTAT=TENTATIVE;RSVP=TRUE;CN=Tara:htt
 p://njyp.org/profile/Tara852
ATTENDEE;ROLE=REQ-PARTICIPANT;PARTSTAT=TENTATIVE;RSVP=TRUE;CN="Christi
 ana Moore":http://njyp.org/profile/ChristianaMoore
ATTENDEE;ROLE=REQ-PARTICIPANT;PARTSTAT=TENTATIVE;RSVP=TRUE;CN=Jessica:
 http://njyp.org/profile/JessicaNatalizio
ATTENDEE;ROLE=REQ-PARTICIPANT;PARTSTAT=TENTATIVE;RSVP=TRUE;CN="Amanda 
 Forsburg":http://njyp.org/profile/AmandaF
ATTENDEE;ROLE=REQ-PARTICIPANT;PARTSTAT=TENTATIVE;RSVP=TRUE;CN=Vanessa:
 http://njyp.org/profile/Vanessa629
ATTENDEE;ROLE=REQ-PARTICIPANT;PARTSTAT=TENTATIVE;RSVP=TRUE;CN=Arielle:
 http://njyp.org/profile/Arielle
ATTENDEE;ROLE=REQ-PARTICIPANT;PARTSTAT=TENTATIVE;RSVP=TRUE;CN="Melanie
  Wische":http://njyp.org/profile/MelanieWische
ATTENDEE;ROLE=REQ-PARTICIPANT;PARTSTAT=TENTATIVE;RSVP=TRUE;CN=Colleen:
 http://njyp.org/profile/Colleen
ATTENDEE;ROLE=REQ-PARTICIPANT;PARTSTAT=TENTATIVE;RSVP=TRUE;CN=Carrie:h
 ttp://njyp.org/profile/Carrie571
ATTENDEE;ROLE=REQ-PARTICIPANT;PARTSTAT=TENTATIVE;RSVP=TRUE;CN=Lauren:h
 ttp://njyp.org/profile/Lauren111
END:VEVENT
END:VCALENDAR
