BEGIN:VCALENDAR
PRODID:NingEventWidget-v1
VERSION:2.0
METHOD:PUBLISH
BEGIN:VTIMEZONE
TZID:America/New_York
X-LIC-LOCATION:America/New_York
BEGIN:DAYLIGHT
TZOFFSETFROM:-0500
TZOFFSETTO:-0400
TZNAME:EDT
DTSTART:19700308T020000
RRULE:FREQ=YEARLY;BYMONTH=3;BYDAY=2SU
END:DAYLIGHT
BEGIN:STANDARD
TZOFFSETFROM:-0400
TZOFFSETTO:-0500
TZNAME:EST
DTSTART:19701101T020000
RRULE:FREQ=YEARLY;BYMONTH=11;BYDAY=1SU
END:STANDARD
END:VTIMEZONE
BEGIN:VEVENT
UID:2938326:Event:107811
DTSTAMP:20260421T075430Z
SUMMARY:Hike: Jockey Hollow (easy)
DESCRIPTION:Let us help you get out on a Saturday morning! On the edge
  of Morristown, this historical park provides a scenic and easy hike f
 or us to enjoy. We will hike an easy trail through forest and past his
 toric recreations of soldier’s huts from the Revolutionary War (wint
 er of 1779-1780). The trail is relatively flat with only small uphill 
 and downhill so it is perfect for beginners.\n\nAfter our adventure, w
 e will go out to eat for lunch.\n\nSpecs:\nThe hike is classified as e
 asy and should take 2-2.5 hours.\nThe total length of the hike will be
  between 4 and 5 miles long and we will walk at an easy pace.\nThis hi
 ke is good for beginners!\nAs with all hikes you must be in reasonable
  athletic shape.\n\n\n\nMember Cost:\n$5 for the first 10 to buy a tic
 ket\n$10 for the next 11-25 to buy a ticket\n$20 at the door (so pleas
 e register online)\n\nNon-Member Cost:\n$20 online and at the door\n\n
 Tickets:\nThere are a limited number of Tickets for sale. Tickets are 
 not mailed, but your name will be kept at the door. Actual hike is sub
 ject to change depending on weather conditions, fallen trees, etc. All
  sales are final.\n\nSweeper:\nIf the group is large we are going to l
 ook for 2 volunteers to act as sweepers. Sweepers will walk at the end
  of the hike line and will make sure the group stays together.\n\nHike
  Leader:\nNoah will be leading this hike.\n\nWhat to bring:\nHiking bo
 ots or sneakers\n2 Liters of Water (required).\nSnacks, a light lunch,
  etc.\nLayers if it is cold.\nToilet paper, tissues, plastic bags for 
 garbage, etc.\n\nInclement Weather:\nHeavy rain or extreme cold might 
 cancel this hike. Please check your inbox for updates and the NJYP.org
  calendar. Tickets will be refunded.\n\nDirections:\nTake 287 North or
  South to exit 30B. At the light, make a right onto RT 202 North. Turn
  left at the light @ Tempe Wick Rd. (Do not let this confuse you as th
 e street name on the right side is different). Take Tempe Wick Rd abou
 t 1.5 miles to the entrance of Jockey Hollow Rd on the right. Park at 
 the first parking lot at the visitor’s center.\n\nFind the group in 
 the parking lot. We will not wait for latecomers.\n\nhttp://maps.googl
 e.com/maps?f=d&source=s_d&saddr=&daddr=40.762162,-74.54567&hl=en&geoco
 de=&mra=mi&mrsp=0&sz=16&sll=40.762016,-74.545906&sspn=0.011913,0.01714
 5&ie=UTF8&ll=40.762715,-74.545691&spn=0.011913,0.017145&z=16\n\nFor mo
 re information visit http://njyp.org/events/hike-jockey-hollow-easy
DTSTART;TZID=America/New_York:20101106T103000
DTEND;TZID=America/New_York:20101106T130000
CATEGORIES:"morris county", athletic
LOCATION:Jockey Hollow National Historic Park
WEBSITE:http://maps.google.com/maps?f=d&source=s_d&saddr=&daddr=40.762
 162,-74.54567&hl=en&geocode=&mra=mi&mrsp=0&sz=16&sll=40.762016,-74.545
 906&sspn=0.011913,0.017145&ie=UTF8&ll=40.762715,-74.545691&spn=0.01191
 3,0.017145&z=16
URL:http://maps.google.com/maps?f=d&source=s_d&saddr=&daddr=40.762162,
 -74.54567&hl=en&geocode=&mra=mi&mrsp=0&sz=16&sll=40.762016,-74.545906&
 sspn=0.011913,0.017145&ie=UTF8&ll=40.762715,-74.545691&spn=0.011913,0.
 017145&z=16
CONTACT:
ORGANIZER;CN="Brian and Mike":http://njyp.org/profile/BrianMike
ATTACH;FMTTYPE="image/jpeg":http://storage.ning.com/topology/rest/1.0/
 file/get/1088651826?profile=original
ATTENDEE;ROLE=REQ-PARTICIPANT;PARTSTAT=ACCEPTED;RSVP=TRUE;CN=Noah:http
 ://njyp.org/profile/NoahFine
ATTENDEE;ROLE=REQ-PARTICIPANT;PARTSTAT=ACCEPTED;RSVP=TRUE;CN=Lissa:htt
 p://njyp.org/profile/Lissa
ATTENDEE;ROLE=REQ-PARTICIPANT;PARTSTAT=ACCEPTED;RSVP=TRUE;CN=Maureen:h
 ttp://njyp.org/profile/Maureen
ATTENDEE;ROLE=REQ-PARTICIPANT;PARTSTAT=ACCEPTED;RSVP=TRUE;CN=Margaret:
 http://njyp.org/profile/Margaret
ATTENDEE;ROLE=REQ-PARTICIPANT;PARTSTAT=ACCEPTED;RSVP=TRUE;CN="Rob M":h
 ttp://njyp.org/profile/RobM
ATTENDEE;ROLE=REQ-PARTICIPANT;PARTSTAT=ACCEPTED;RSVP=TRUE;CN=Matt:http
 ://njyp.org/profile/MatthewRodman
ATTENDEE;ROLE=REQ-PARTICIPANT;PARTSTAT=ACCEPTED;RSVP=TRUE;CN="Amanda F
 orsburg":http://njyp.org/profile/AmandaF
ATTENDEE;ROLE=REQ-PARTICIPANT;PARTSTAT=ACCEPTED;RSVP=TRUE;CN="Neel Aro
 on":http://njyp.org/profile/NeelAroon
ATTENDEE;ROLE=REQ-PARTICIPANT;PARTSTAT=ACCEPTED;RSVP=TRUE;CN=Joanne:ht
 tp://njyp.org/profile/Joanne
ATTENDEE;ROLE=REQ-PARTICIPANT;PARTSTAT=ACCEPTED;RSVP=TRUE;CN=Keira:htt
 p://njyp.org/profile/Keira
ATTENDEE;ROLE=REQ-PARTICIPANT;PARTSTAT=ACCEPTED;RSVP=TRUE;CN="Brian an
 d Mike":http://njyp.org/profile/BrianMike
ATTENDEE;ROLE=REQ-PARTICIPANT;PARTSTAT=TENTATIVE;RSVP=TRUE;CN=Adriana:
 http://njyp.org/profile/Adriana265
ATTENDEE;ROLE=REQ-PARTICIPANT;PARTSTAT=TENTATIVE;RSVP=TRUE;CN=Kate:htt
 p://njyp.org/profile/Kate829
ATTENDEE;ROLE=REQ-PARTICIPANT;PARTSTAT=TENTATIVE;RSVP=TRUE;CN="Jenny M
 ":http://njyp.org/profile/JennyMulcahy
ATTENDEE;ROLE=REQ-PARTICIPANT;PARTSTAT=TENTATIVE;RSVP=TRUE;CN=Rae:http
 ://njyp.org/profile/Rae783
ATTENDEE;ROLE=REQ-PARTICIPANT;PARTSTAT=TENTATIVE;RSVP=TRUE;CN=Douglas:
 http://njyp.org/profile/Douglas657
ATTENDEE;ROLE=REQ-PARTICIPANT;PARTSTAT=TENTATIVE;RSVP=TRUE;CN=Regina:h
 ttp://njyp.org/profile/Regina
ATTENDEE;ROLE=REQ-PARTICIPANT;PARTSTAT=TENTATIVE;RSVP=TRUE;CN=Larry:ht
 tp://njyp.org/profile/LarryYang
ATTENDEE;ROLE=REQ-PARTICIPANT;PARTSTAT=TENTATIVE;RSVP=TRUE;CN=Dar:http
 ://njyp.org/profile/Darlene
END:VEVENT
END:VCALENDAR
