BEGIN:VCALENDAR
PRODID:NingEventWidget-v1
VERSION:2.0
METHOD:PUBLISH
BEGIN:VTIMEZONE
TZID:America/New_York
X-LIC-LOCATION:America/New_York
BEGIN:DAYLIGHT
TZOFFSETFROM:-0500
TZOFFSETTO:-0400
TZNAME:EDT
DTSTART:19700308T020000
RRULE:FREQ=YEARLY;BYMONTH=3;BYDAY=2SU
END:DAYLIGHT
BEGIN:STANDARD
TZOFFSETFROM:-0400
TZOFFSETTO:-0500
TZNAME:EST
DTSTART:19701101T020000
RRULE:FREQ=YEARLY;BYMONTH=11;BYDAY=1SU
END:STANDARD
END:VTIMEZONE
BEGIN:VEVENT
UID:2938326:Event:11912
DTSTAMP:20260420T042809Z
SUMMARY:Hike: Jockey Hollow
DESCRIPTION:OLD DATE: 10/3/09 (moved due to rain)\nNEW DATE: 10/11/09\
 n\nLet us help you get out on a SUNDAY morning! On the edge of Morrist
 own, this historical park provides a scenic and easy hike for us to en
 joy. We will hike an easy trail through forest and past historic recre
 ations of soldier’s huts from the Revolutionary War (winter of 1779-
 1780). The trail is relatively flat with only small uphill and downhil
 l so it is perfect for beginners.\n\nAfter our adventure, we will opti
 onally go out to eat for lunch.\n\nSpecs:\nThe hike is classified as e
 asy and should take 2-2.5 hours.\nThe total length of the hike will be
  between 4 and 5 miles long and we will walk at an easy pace.\nThis hi
 ke is good for beginners!\nAs with all hikes you must be in reasonable
  athletic shape.\n\n\nRSVP (to the right) and we will let you know whe
 n tix are almost gone, when prices are going up, if there are any chan
 ges, etc.\n\nMember Cost:\n$5 for the first 10 to buy a ticket\n$10 fo
 r the next 11-25 to buy a ticket\n$20 at the door (so please register 
 online)\n\nNon-Member Cost:\n$20 online and at the door\n\nTickets:\nT
 here are a limited number of Tickets for sale. Tickets are not mailed,
  but your name will be kept at the door. Actual hike is subject to cha
 nge depending on weather conditions, fallen trees, etc. All sales are 
 final.\n\nSweeper:\nIf the group is large we are going to look for 2 v
 olunteers to act as sweepers. Sweepers will walk at the end of the hik
 e line and will make sure the group stays together.\n\nHike Leader:\nD
 avid will be leading this hike.\n\nWhat to bring:\nHiking boots or sne
 akers\n2 Liters of Water (required).\nSnacks, a light lunch, etc.\nSun
  block and bug spray.\nToilet paper, tissues, plastic bags for garbage
 , etc.\n\nInclement Weather:\nHeavy rain or extreme heat might cancel 
 this hike. Please check your inbox for updates and the NJYP.org calend
 ar. Tickets will be refunded.\n\nDirections:\nTake 287 North or South 
 to exit 30B. At the light, make a right onto RT 202 North. Turn left a
 t the light @ Tempe Wick Rd. (Do not let this confuse you as the stree
 t name on the right side is different). Take Tempe Wick Rd about 1.5 m
 iles to the entrance of Jockey Hollow Rd on the right. Park at the fir
 st parking lot at the visitor’s center.\n\nFind the group in the par
 king lot. We will not wait for latecomers.\n\nFor more information vis
 it http://njyp.org/events/hike-jockey-hollow
DTSTART;TZID=America/New_York:20091011T100000
DTEND;TZID=America/New_York:20091011T123000
CATEGORIES:"morris county", athletic
LOCATION:Jockey Hollow National Historic Park
WEBSITE:http://maps.google.com/maps?f=d&source=s_d&saddr=&daddr=40.762
 162,-74.54567&hl=en&geocode=&mra=mi&mrsp=0&sz=16&sll=40.762016,-74.545
 906&sspn=0.011913,0.017145&ie=UTF8&ll=40.762715,-74.545691&spn=0.01191
 3,0.017145&z=16
URL:http://maps.google.com/maps?f=d&source=s_d&saddr=&daddr=40.762162,
 -74.54567&hl=en&geocode=&mra=mi&mrsp=0&sz=16&sll=40.762016,-74.545906&
 sspn=0.011913,0.017145&ie=UTF8&ll=40.762715,-74.545691&spn=0.011913,0.
 017145&z=16
CONTACT:
ORGANIZER;CN="Brian and Mike":http://njyp.org/profile/BrianMike
ATTACH;FMTTYPE="image/jpeg":http://storage.ning.com/topology/rest/1.0/
 file/get/1088546701?profile=original
ATTENDEE;ROLE=REQ-PARTICIPANT;PARTSTAT=ACCEPTED;RSVP=TRUE;CN="Chris P.
 ":http://njyp.org/profile/ChrisP
ATTENDEE;ROLE=REQ-PARTICIPANT;PARTSTAT=ACCEPTED;RSVP=TRUE;CN=Gio:http:
 //njyp.org/profile/GianfrancoPuggioni
ATTENDEE;ROLE=REQ-PARTICIPANT;PARTSTAT=ACCEPTED;RSVP=TRUE;CN="Jenny Ma
 rie":http://njyp.org/profile/JennyMarie82
ATTENDEE;ROLE=REQ-PARTICIPANT;PARTSTAT=ACCEPTED;RSVP=TRUE;CN="Kristin 
 Kopec":http://njyp.org/profile/KristinKopec
ATTENDEE;ROLE=REQ-PARTICIPANT;PARTSTAT=ACCEPTED;RSVP=TRUE;CN="Allison 
 Froehlich":http://njyp.org/profile/AllisonFroehlich
ATTENDEE;ROLE=REQ-PARTICIPANT;PARTSTAT=ACCEPTED;RSVP=TRUE;CN="Kiera Ha
 rtnett":http://njyp.org/profile/KieraHartnett
ATTENDEE;ROLE=REQ-PARTICIPANT;PARTSTAT=ACCEPTED;RSVP=TRUE;CN=David:htt
 p://njyp.org/profile/DavidKuhn
ATTENDEE;ROLE=REQ-PARTICIPANT;PARTSTAT=ACCEPTED;RSVP=TRUE;CN="Adrienne
  A. Desch":http://njyp.org/profile/AdrienneADesch
ATTENDEE;ROLE=REQ-PARTICIPANT;PARTSTAT=ACCEPTED;RSVP=TRUE;CN="Kristy L
 avin":http://njyp.org/profile/KristyLavin
ATTENDEE;ROLE=REQ-PARTICIPANT;PARTSTAT=ACCEPTED;RSVP=TRUE;CN="Dave B":
 http://njyp.org/profile/daveb
ATTENDEE;ROLE=REQ-PARTICIPANT;PARTSTAT=ACCEPTED;RSVP=TRUE;CN="Pranita 
 Bijlani":http://njyp.org/profile/PranitaBijlani
ATTENDEE;ROLE=REQ-PARTICIPANT;PARTSTAT=ACCEPTED;RSVP=TRUE;CN="Vincent 
 Pittaro":http://njyp.org/profile/VincentPittaroJr
ATTENDEE;ROLE=REQ-PARTICIPANT;PARTSTAT=ACCEPTED;RSVP=TRUE;CN="Neel Aro
 on":http://njyp.org/profile/NeelAroon
ATTENDEE;ROLE=REQ-PARTICIPANT;PARTSTAT=ACCEPTED;RSVP=TRUE;CN="Elizabet
 h M.":http://njyp.org/profile/ElizabethM
ATTENDEE;ROLE=REQ-PARTICIPANT;PARTSTAT=ACCEPTED;RSVP=TRUE;CN=Katy:http
 ://njyp.org/profile/Katy
ATTENDEE;ROLE=REQ-PARTICIPANT;PARTSTAT=ACCEPTED;RSVP=TRUE;CN="Dana Geo
 rge":http://njyp.org/profile/DanaGeorge
ATTENDEE;ROLE=REQ-PARTICIPANT;PARTSTAT=ACCEPTED;RSVP=TRUE;CN=NorthNJDa
 vid:http://njyp.org/profile/NorthNJDavid
ATTENDEE;ROLE=REQ-PARTICIPANT;PARTSTAT=ACCEPTED;RSVP=TRUE;CN="Mike S":
 http://njyp.org/profile/MikeSabina
ATTENDEE;ROLE=REQ-PARTICIPANT;PARTSTAT=ACCEPTED;RSVP=TRUE;CN="Brian an
 d Mike":http://njyp.org/profile/BrianMike
ATTENDEE;ROLE=REQ-PARTICIPANT;PARTSTAT=TENTATIVE;RSVP=TRUE;CN="Yaaki K
 oesterich":http://njyp.org/profile/YaakiKoesterich
ATTENDEE;ROLE=REQ-PARTICIPANT;PARTSTAT=TENTATIVE;RSVP=TRUE;CN=Lizzie:h
 ttp://njyp.org/profile/ElizabethKuhns
ATTENDEE;ROLE=REQ-PARTICIPANT;PARTSTAT=TENTATIVE;RSVP=TRUE;CN="Natalie
  Engravido":http://njyp.org/profile/NatalieEngravido
ATTENDEE;ROLE=REQ-PARTICIPANT;PARTSTAT=TENTATIVE;RSVP=TRUE;CN="Hermeli
 nda Saez":http://njyp.org/profile/HermelindaSaez
ATTENDEE;ROLE=REQ-PARTICIPANT;PARTSTAT=TENTATIVE;RSVP=TRUE;CN="rachel 
 irene":http://njyp.org/profile/rachel_irene
ATTENDEE;ROLE=REQ-PARTICIPANT;PARTSTAT=TENTATIVE;RSVP=TRUE;CN="Karl  A
  Kraus":http://njyp.org/profile/KarlAKraus
ATTENDEE;ROLE=REQ-PARTICIPANT;PARTSTAT=TENTATIVE;RSVP=TRUE;CN="Andrew 
 Vasta":http://njyp.org/profile/AndrewVasta
ATTENDEE;ROLE=REQ-PARTICIPANT;PARTSTAT=TENTATIVE;RSVP=TRUE;CN=Sarah:ht
 tp://njyp.org/profile/Sarah
ATTENDEE;ROLE=REQ-PARTICIPANT;PARTSTAT=TENTATIVE;RSVP=TRUE;CN="Joshua 
 Langweil":http://njyp.org/profile/JoshuaLangweil
ATTENDEE;ROLE=REQ-PARTICIPANT;PARTSTAT=TENTATIVE;RSVP=TRUE;CN=Avi:http
 ://njyp.org/profile/Avi
ATTENDEE;ROLE=REQ-PARTICIPANT;PARTSTAT=TENTATIVE;RSVP=TRUE;CN="Chris G
 ":http://njyp.org/profile/ChrisG
ATTENDEE;ROLE=REQ-PARTICIPANT;PARTSTAT=TENTATIVE;RSVP=TRUE;CN="David E
 isenberg":http://njyp.org/profile/DavidEisenberg
ATTENDEE;ROLE=REQ-PARTICIPANT;PARTSTAT=TENTATIVE;RSVP=TRUE;CN=Jessica:
 http://njyp.org/profile/JessicaNatalizio
ATTENDEE;ROLE=REQ-PARTICIPANT;PARTSTAT=TENTATIVE;RSVP=TRUE;CN="Cindy B
 ":http://njyp.org/profile/CindyBale
ATTENDEE;ROLE=REQ-PARTICIPANT;PARTSTAT=TENTATIVE;RSVP=TRUE;CN="Elizabe
 th Epstein":http://njyp.org/profile/ElizabethRosenthal
ATTENDEE;ROLE=REQ-PARTICIPANT;PARTSTAT=TENTATIVE;RSVP=TRUE;CN="Susan K
 ent":http://njyp.org/profile/SusanKent
END:VEVENT
END:VCALENDAR
