BEGIN:VCALENDAR
PRODID:NingEventWidget-v1
VERSION:2.0
METHOD:PUBLISH
BEGIN:VTIMEZONE
TZID:America/New_York
X-LIC-LOCATION:America/New_York
BEGIN:DAYLIGHT
TZOFFSETFROM:-0500
TZOFFSETTO:-0400
TZNAME:EDT
DTSTART:19700308T020000
RRULE:FREQ=YEARLY;BYMONTH=3;BYDAY=2SU
END:DAYLIGHT
BEGIN:STANDARD
TZOFFSETFROM:-0400
TZOFFSETTO:-0500
TZNAME:EST
DTSTART:19701101T020000
RRULE:FREQ=YEARLY;BYMONTH=11;BYDAY=1SU
END:STANDARD
END:VTIMEZONE
BEGIN:VEVENT
UID:2938326:Event:374613
DTSTAMP:20260419T223552Z
SUMMARY:Hike: Ken Lockwood Gorge
DESCRIPTION:By traversing both unpaved roads, a 120 year old railroad 
 bridge and the Columbia Trail, this hike will take us through Ken Lock
 wood Gorge, called one of the most beautiful spots in the state of New
  Jersey. The Raritan River flows through 2.5 miles of the gorge, creat
 ing a wild but picturesque scene. Afterward, the group may go for a la
 te lunch and drinks...totally optional but sure to be fun!  Specs: The
  hike is classified as moderate due to length. Length of the hike is a
 bout 7.5 miles long and we will walk at a moderate pace. The hike shou
 ld take about 3 hours. As with all hikes you must be in good, athletic
  shape.   Member Cost: $5 for the first 10 to buy a ticket $10 for the
  next 11-25 to buy a ticket $20 at the door (so please register online
 )  Non-Member Cost: $20 online and at the door  Sweeper: If the group 
 size is large we are going to look for a volunteer to act as a sweeper
 . Sweepers will walk at the end of the hike line and will make sure th
 e group stays together.  Hike Leader: Keira will be leading this hike.
  She will make sure the hike starts on time so please arrive on time. 
  What to bring: Water (required). Hiking boots are recommended. Bug sp
 ray and sun block are highly recommended. A snack for a mid-hike break
 .  Inclement Weather: Heavy precipitation will cancel this hike; drizz
 le will not. Please check your inbox for updates and the NJYP.orgcalen
 dar. Tickets will be refunded.  Driving Directions Take I-78 to exit 1
 7 (westbound) or exit 16 (eastbound) for Route 31 towards Washington. 
 Drive about 2 miles on Route 31 then turn right on Main Street. In 1.1
  miles turn right on Bridge Street, proceed 390 feet, then left on Mai
 n Street. Continue for .2 mile through town then turn left at The Comm
 ons sign to the parking lot.  Google Maps Link: http://maps.google.com
 /maps?q=40.669657%2C-74.895682&ll=40.669741%2C-74.89588&spn=0.001056%2
 C0.002642&num=1&t=h&z=19&iwloc=near\n\nFor more information visit http
 ://njyp.org/events/hike-ken-lockwood-gorge
DTSTART;TZID=America/New_York:20120923T103000
DTEND;TZID=America/New_York:20120923T133000
CATEGORIES:"somerset county", "hunterdon county", athletic
LOCATION:Ken Lockwood Gorge Wildlife Management Area
WEBSITE:http://maps.google.com/maps?q=40.669657%2C-74.895682&ll=40.669
 741%2C-74.89588&spn=0.001056%2C0.002642&num=1&t=h&z=19&iwloc=near
URL:http://maps.google.com/maps?q=40.669657%2C-74.895682&ll=40.669741%
 2C-74.89588&spn=0.001056%2C0.002642&num=1&t=h&z=19&iwloc=near
CONTACT:
ORGANIZER;CN="Brian and Mike":http://njyp.org/profile/BrianMike
ATTACH;FMTTYPE="image/jpeg":http://storage.ning.com/topology/rest/1.0/
 file/get/1088595906?profile=original
ATTENDEE;ROLE=REQ-PARTICIPANT;PARTSTAT=ACCEPTED;RSVP=TRUE;CN=Ivan:http
 ://njyp.org/profile/Ivan
ATTENDEE;ROLE=REQ-PARTICIPANT;PARTSTAT=ACCEPTED;RSVP=TRUE;CN=Karla:htt
 p://njyp.org/profile/Karla
ATTENDEE;ROLE=REQ-PARTICIPANT;PARTSTAT=ACCEPTED;RSVP=TRUE;CN="Louis C.
  Hochman":http://njyp.org/profile/LouisCHochman
ATTENDEE;ROLE=REQ-PARTICIPANT;PARTSTAT=ACCEPTED;RSVP=TRUE;CN=Kaitlin:h
 ttp://njyp.org/profile/Kaitlin447
ATTENDEE;ROLE=REQ-PARTICIPANT;PARTSTAT=ACCEPTED;RSVP=TRUE;CN=Lisa:http
 ://njyp.org/profile/Lisa388
ATTENDEE;ROLE=REQ-PARTICIPANT;PARTSTAT=ACCEPTED;RSVP=TRUE;CN="Samir A.
  Shah":http://njyp.org/profile/SamirAShah
ATTENDEE;ROLE=REQ-PARTICIPANT;PARTSTAT=ACCEPTED;RSVP=TRUE;CN=Peter:htt
 p://njyp.org/profile/PeterMcDonnell
ATTENDEE;ROLE=REQ-PARTICIPANT;PARTSTAT=ACCEPTED;RSVP=TRUE;CN=German:ht
 tp://njyp.org/profile/German
ATTENDEE;ROLE=REQ-PARTICIPANT;PARTSTAT=ACCEPTED;RSVP=TRUE;CN=Brad:http
 ://njyp.org/profile/Brad704
ATTENDEE;ROLE=REQ-PARTICIPANT;PARTSTAT=ACCEPTED;RSVP=TRUE;CN=Diana:htt
 p://njyp.org/profile/Diana2
ATTENDEE;ROLE=REQ-PARTICIPANT;PARTSTAT=ACCEPTED;RSVP=TRUE;CN="Brian an
 d Mike":http://njyp.org/profile/BrianMike
ATTENDEE;ROLE=REQ-PARTICIPANT;PARTSTAT=ACCEPTED;RSVP=TRUE;CN=Keira:htt
 p://njyp.org/profile/Keira
ATTENDEE;ROLE=REQ-PARTICIPANT;PARTSTAT=TENTATIVE;RSVP=TRUE;CN=Diana:ht
 tp://njyp.org/profile/Diana19
ATTENDEE;ROLE=REQ-PARTICIPANT;PARTSTAT=TENTATIVE;RSVP=TRUE;CN="Lynn Fi
 ore":http://njyp.org/profile/LynnFiore
ATTENDEE;ROLE=REQ-PARTICIPANT;PARTSTAT=TENTATIVE;RSVP=TRUE;CN=NorthNJD
 avid:http://njyp.org/profile/NorthNJDavid
ATTENDEE;ROLE=REQ-PARTICIPANT;PARTSTAT=TENTATIVE;RSVP=TRUE;CN=Jessica:
 http://njyp.org/profile/upsidedownhotel
ATTENDEE;ROLE=REQ-PARTICIPANT;PARTSTAT=TENTATIVE;RSVP=TRUE;CN=Jennifer
 :http://njyp.org/profile/Jennifer234
ATTENDEE;ROLE=REQ-PARTICIPANT;PARTSTAT=TENTATIVE;RSVP=TRUE;CN=Janene:h
 ttp://njyp.org/profile/Janene
ATTENDEE;ROLE=REQ-PARTICIPANT;PARTSTAT=TENTATIVE;RSVP=TRUE;CN=Amanda:h
 ttp://njyp.org/profile/Amanda710
ATTENDEE;ROLE=REQ-PARTICIPANT;PARTSTAT=TENTATIVE;RSVP=TRUE;CN="Jacklyn
  Skenesky":http://njyp.org/profile/JacklynSkenesky
ATTENDEE;ROLE=REQ-PARTICIPANT;PARTSTAT=TENTATIVE;RSVP=TRUE;CN=Matthew:
 http://njyp.org/profile/Matthew32
ATTENDEE;ROLE=REQ-PARTICIPANT;PARTSTAT=TENTATIVE;RSVP=TRUE;CN=John:htt
 p://njyp.org/profile/John51
ATTENDEE;ROLE=REQ-PARTICIPANT;PARTSTAT=TENTATIVE;RSVP=TRUE;CN=Olga:htt
 p://njyp.org/profile/Olga681
ATTENDEE;ROLE=REQ-PARTICIPANT;PARTSTAT=TENTATIVE;RSVP=TRUE;CN=Kevin:ht
 tp://njyp.org/profile/Kevin84
END:VEVENT
END:VCALENDAR
