BEGIN:VCALENDAR
PRODID:NingEventWidget-v1
VERSION:2.0
METHOD:PUBLISH
BEGIN:VTIMEZONE
TZID:America/New_York
X-LIC-LOCATION:America/New_York
BEGIN:DAYLIGHT
TZOFFSETFROM:-0500
TZOFFSETTO:-0400
TZNAME:EDT
DTSTART:19700308T020000
RRULE:FREQ=YEARLY;BYMONTH=3;BYDAY=2SU
END:DAYLIGHT
BEGIN:STANDARD
TZOFFSETFROM:-0400
TZOFFSETTO:-0500
TZNAME:EST
DTSTART:19701101T020000
RRULE:FREQ=YEARLY;BYMONTH=11;BYDAY=1SU
END:STANDARD
END:VTIMEZONE
BEGIN:VEVENT
UID:2938326:Event:4173
DTSTAMP:20260420T042754Z
SUMMARY:Hike: Lord Stirling Park (easy)
DESCRIPTION:Friday, 4:44pm Update: The Hike is on for Saturday. 40% ch
 ance of passing showers.\n\nSituated in a quiet little corner of Somer
 set County is a neat little park that offers a variety of scenery. Alt
 hough very popular with bird watchers, Lord Stirling Park offers much 
 more than just that. Nestled within this piece of the Great Swamp are 
 several ponds, beautiful woodlands, fresh water marshes and beautiful 
 meadows. Please join us in this peaceful walk through nature where you
  can relax your worries away with good company!\n\nAfter our adventure
 , we will optionally go out to eat for lunch.\n\n\nRSVP (to the right)
  and we will let you know when tix are almost gone, when prices are go
 ing up, if there are any changes, etc.\n\nMember Cost:\n$5 for the fir
 st 10 to buy a ticket\n$10 for the next 11-25 to buy a ticket\n$20 at 
 the door (so please register online)\n\nNon-Member Cost:\n$20 online a
 nd at the door\n\nPremium Member Cost:\nFREE for Premium Members who r
 egister online\n\nTickets:\nThere are limited tickets available.\nAll 
 sales are final.\nPlease do not print your ticket confirmation but do 
 save it on your computer.\n\nSpecs:\nThe hike is classified as easy an
 d should take about 2 hours.\nThe total length of the hike will be abo
 ut 5 miles long and we will walk at an easy pace.\nThis hike is good f
 or beginners!\nAs with all hikes you must be in reasonable athletic sh
 ape.\n\nSweeper:\nIf the group size is larger than 10, we are going to
  look for a volunteer to act as a sweeper. Sweepers will walk at the e
 nd of the hike line and will make sure the group stays together.\n\nHi
 ke Leader:\nDavid will be leading this hike.\n\nWhat to bring:\nHiking
  boots and bug spray are strongly recommended and 2 liters of water is
  required. Hiking boots will help keep the mud out of your feet when h
 iking as the trail may have a few wet spots. It is bug season, so plea
 se bring the bug spray.\n\nInclement Weather:\nHeavy precipitation wil
 l cancel this hike; drizzle will not. Please check your inbox for upda
 tes and the NJYP.org calendar. Tickets will be refunded.\n\nDirections
 :\nTake 287 North or South to exit 30A. Follow North Maple Ave (it wil
 l become South Maple Ave) for approx 2.4 -2.6 miles and make a left on
 to Lord Stirling Rd. Follow that for about 1 mile and the park will be
  on the left.\n\nDo not use the entrance on South Maple Ave, as those 
 are only the stables.\n\nGoogle maps, http://tinyurl.com/osl9qo\n\nHow
  to find the group:\nMeet in the parking lot.\nDavid will not be waiti
 ng for late people. In fairness to those who arrive on time, the hike 
 will start on time.\n\nFor more information visit http://njyp.org/even
 ts/hike-lord-stirling-park-easy
DTSTART;TZID=America/New_York:20090620T100000
DTEND;TZID=America/New_York:20090620T121500
CATEGORIES:"somerset county", athletic
LOCATION:Lord Stirling Park
WEBSITE:http://tinyurl.com/osl9qo
URL:http://tinyurl.com/osl9qo
CONTACT:
ORGANIZER;CN="Brian and Mike":http://njyp.org/profile/BrianMike
ATTACH;FMTTYPE="image/jpeg":http://storage.ning.com/topology/rest/1.0/
 file/get/1088534189?profile=original
ATTENDEE;ROLE=REQ-PARTICIPANT;PARTSTAT=ACCEPTED;RSVP=TRUE;CN=Gio:http:
 //njyp.org/profile/GianfrancoPuggioni
ATTENDEE;ROLE=REQ-PARTICIPANT;PARTSTAT=ACCEPTED;RSVP=TRUE;CN="Rhandi L
 ":http://njyp.org/profile/RhandiL
ATTENDEE;ROLE=REQ-PARTICIPANT;PARTSTAT=ACCEPTED;RSVP=TRUE;CN=Dori:http
 ://njyp.org/profile/DoriPatterson
ATTENDEE;ROLE=REQ-PARTICIPANT;PARTSTAT=ACCEPTED;RSVP=TRUE;CN="Rosa Mir
 anda":http://njyp.org/profile/RosaMiranda
ATTENDEE;ROLE=REQ-PARTICIPANT;PARTSTAT=ACCEPTED;RSVP=TRUE;CN="Damien D
 oherty":http://njyp.org/profile/DamienDoherty
ATTENDEE;ROLE=REQ-PARTICIPANT;PARTSTAT=ACCEPTED;RSVP=TRUE;CN=Elizabeth
 :http://njyp.org/profile/Quirky3
ATTENDEE;ROLE=REQ-PARTICIPANT;PARTSTAT=ACCEPTED;RSVP=TRUE;CN="Kevin J.
  Plunkett":http://njyp.org/profile/KevinJPlunkett
ATTENDEE;ROLE=REQ-PARTICIPANT;PARTSTAT=ACCEPTED;RSVP=TRUE;CN="Leora Gr
 eenhaus":http://njyp.org/profile/LeoraDagani
ATTENDEE;ROLE=REQ-PARTICIPANT;PARTSTAT=ACCEPTED;RSVP=TRUE;CN=Robin:htt
 p://njyp.org/profile/Robin
ATTENDEE;ROLE=REQ-PARTICIPANT;PARTSTAT=ACCEPTED;RSVP=TRUE;CN="Neel Aro
 on":http://njyp.org/profile/NeelAroon
ATTENDEE;ROLE=REQ-PARTICIPANT;PARTSTAT=ACCEPTED;RSVP=TRUE;CN=NorthNJDa
 vid:http://njyp.org/profile/NorthNJDavid
ATTENDEE;ROLE=REQ-PARTICIPANT;PARTSTAT=TENTATIVE;RSVP=TRUE;CN="Elaine 
 Andrecovich":http://njyp.org/profile/ElaineAndrecovich
ATTENDEE;ROLE=REQ-PARTICIPANT;PARTSTAT=TENTATIVE;RSVP=TRUE;CN="Brian a
 nd Mike":http://njyp.org/profile/BrianMike
ATTENDEE;ROLE=REQ-PARTICIPANT;PARTSTAT=TENTATIVE;RSVP=TRUE;CN="Jim Per
 ry":http://njyp.org/profile/JamesMPerry
ATTENDEE;ROLE=REQ-PARTICIPANT;PARTSTAT=TENTATIVE;RSVP=TRUE;CN="Tony Pa
 nariello":http://njyp.org/profile/TonyPanariello
ATTENDEE;ROLE=REQ-PARTICIPANT;PARTSTAT=TENTATIVE;RSVP=TRUE;CN=Susan:ht
 tp://njyp.org/profile/SusanChrusciel
ATTENDEE;ROLE=REQ-PARTICIPANT;PARTSTAT=TENTATIVE;RSVP=TRUE;CN="Fan Fan
 ":http://njyp.org/profile/FanFan
ATTENDEE;ROLE=REQ-PARTICIPANT;PARTSTAT=TENTATIVE;RSVP=TRUE;CN="Karl  A
  Kraus":http://njyp.org/profile/KarlAKraus
ATTENDEE;ROLE=REQ-PARTICIPANT;PARTSTAT=TENTATIVE;RSVP=TRUE;CN=Simon:ht
 tp://njyp.org/profile/Simon
ATTENDEE;ROLE=REQ-PARTICIPANT;PARTSTAT=TENTATIVE;RSVP=TRUE;CN="rachel 
 irene":http://njyp.org/profile/rachel_irene
ATTENDEE;ROLE=REQ-PARTICIPANT;PARTSTAT=TENTATIVE;RSVP=TRUE;CN=Dar:http
 ://njyp.org/profile/Darlene
ATTENDEE;ROLE=REQ-PARTICIPANT;PARTSTAT=TENTATIVE;RSVP=TRUE;CN="Peter E
 skow":http://njyp.org/profile/PeterEskow
END:VEVENT
END:VCALENDAR
