BEGIN:VCALENDAR
PRODID:NingEventWidget-v1
VERSION:2.0
METHOD:PUBLISH
BEGIN:VTIMEZONE
TZID:America/New_York
X-LIC-LOCATION:America/New_York
BEGIN:DAYLIGHT
TZOFFSETFROM:-0500
TZOFFSETTO:-0400
TZNAME:EDT
DTSTART:19700308T020000
RRULE:FREQ=YEARLY;BYMONTH=3;BYDAY=2SU
END:DAYLIGHT
BEGIN:STANDARD
TZOFFSETFROM:-0400
TZOFFSETTO:-0500
TZNAME:EST
DTSTART:19701101T020000
RRULE:FREQ=YEARLY;BYMONTH=11;BYDAY=1SU
END:STANDARD
END:VTIMEZONE
BEGIN:VEVENT
UID:2938326:Event:108029
DTSTAMP:20260420T042810Z
SUMMARY:Hike: Lord Stirling Park for Women Only
DESCRIPTION:Our female only hikes are FOR women and LEAD by women! Exp
 and your girlfriend circle by meeting up with local, young women who e
 njoy the outdoors.\n\nSituated in a quiet little corner of Somerset Co
 unty is a neat little park that offers a variety of scenery. Although 
 very popular with bird watchers, Lord Stirling Park offers much more t
 han just that. Nestled within this piece of the Great Swamp are severa
 l ponds, beautiful woodlands, fresh water marshes and beautiful meadow
 s. Please join us in this peaceful walk through nature with good compa
 ny!\n\nSpecs:\nSkill Level- Easy; this hike is good for beginners!\nLe
 ngth- 5 miles in 2 hours.\nAs with all hikes you must be in reasonable
  athletic shape.\n\n\n\nMember Cost:\n$5 for the first 10 to buy a tic
 ket\n$10 for the next 11-25 to buy a ticket\n$20 at the door (so pleas
 e register online)\n\nNon-Member Cost:\n$20 online and at the door\n\n
 Sweeper:\nIf the group size is larger than 10, we are going to look fo
 r a volunteer to act as a sweeper. Sweepers will walk at the end of th
 e hike line and will make sure the group stays together.\n\nHike Leade
 r:\nJenn will be leading this hike. Jenn will not be waiting for late 
 people. In fairness to those who arrive on time, the hike will start o
 n time.\n\nWhat to bring:\nHiking boots are strongly recommended and 2
  liters of water is required.\nHiking boots will help keep the mud out
  of your feet when hiking as the trail may have a few wet spots.\n\nIn
 clement Weather:\nHeavy precipitation and/or temps below 32 degrees wi
 ll cancel this hike. Please check your inbox for updates and the NJYP.
 org calendar. Tickets will be refunded.\n\nDirections:\nTake 287 North
  or South to exit 30A. Follow North Maple Ave (it will become South Ma
 ple Ave) for approx 2.4 -2.6 miles and make a left onto Lord Stirling 
 Rd. Follow that for about 1 mile and the park will be on the left.\n\n
 Do not use the entrance on South Maple Ave, as those are only the stab
 les.\n\nFor reference Google maps:\nhttp://maps.google.com/maps?f=q&so
 urce=s_q&hl=en&geocode=&q=+Lord+Stirling+Rd,+Bernards,+nj&sll=40.69547
 7,-74.522388&sspn=0.012088,0.019226&ie=UTF8&z=15&iwloc=A\n\nFor more i
 nformation visit http://njyp.org/events/hike-lord-stirling-park-for
DTSTART;TZID=America/New_York:20101120T103000
DTEND;TZID=America/New_York:20101120T123000
CATEGORIES:"somerset county", athletic, "women only"
LOCATION:Lord Stirling Park
WEBSITE:http://maps.google.com/maps?f=q&source=s_q&hl=en&geocode=&q=+L
 ord+Stirling+Rd,+Bernards,+nj&sll=40.695477,-74.522388&sspn=0.012088,0
 .019226&ie=UTF8&z=15&iwloc=A
URL:http://maps.google.com/maps?f=q&source=s_q&hl=en&geocode=&q=+Lord+
 Stirling+Rd,+Bernards,+nj&sll=40.695477,-74.522388&sspn=0.012088,0.019
 226&ie=UTF8&z=15&iwloc=A
CONTACT:
ORGANIZER;CN="Brian and Mike":http://njyp.org/profile/BrianMike
ATTACH;FMTTYPE="image/jpeg":http://storage.ning.com/topology/rest/1.0/
 file/get/1088649290?profile=original
ATTENDEE;ROLE=REQ-PARTICIPANT;PARTSTAT=ACCEPTED;RSVP=TRUE;CN=Alessandr
 a:http://njyp.org/profile/AlessandraDeCicco
ATTENDEE;ROLE=REQ-PARTICIPANT;PARTSTAT=ACCEPTED;RSVP=TRUE;CN="Carrie N
 .":http://njyp.org/profile/CarrieNeigel
ATTENDEE;ROLE=REQ-PARTICIPANT;PARTSTAT=ACCEPTED;RSVP=TRUE;CN="Amanda E
 lizabeth Arena":http://njyp.org/profile/AmandaElizabethArena
ATTENDEE;ROLE=REQ-PARTICIPANT;PARTSTAT=ACCEPTED;RSVP=TRUE;CN="Brian an
 d Mike":http://njyp.org/profile/BrianMike
ATTENDEE;ROLE=REQ-PARTICIPANT;PARTSTAT=TENTATIVE;RSVP=TRUE;CN=Chisoo:h
 ttp://njyp.org/profile/Chisoo
ATTENDEE;ROLE=REQ-PARTICIPANT;PARTSTAT=TENTATIVE;RSVP=TRUE;CN=Rebecca:
 http://njyp.org/profile/Rebecca
ATTENDEE;ROLE=REQ-PARTICIPANT;PARTSTAT=TENTATIVE;RSVP=TRUE;CN=Luigina:
 http://njyp.org/profile/Luigina
ATTENDEE;ROLE=REQ-PARTICIPANT;PARTSTAT=TENTATIVE;RSVP=TRUE;CN="Tina Ko
 zak":http://njyp.org/profile/TinaKozak
ATTENDEE;ROLE=REQ-PARTICIPANT;PARTSTAT=TENTATIVE;RSVP=TRUE;CN=Allison:
 http://njyp.org/profile/Allison91
ATTENDEE;ROLE=REQ-PARTICIPANT;PARTSTAT=TENTATIVE;RSVP=TRUE;CN=Stacey:h
 ttp://njyp.org/profile/Stacey63
ATTENDEE;ROLE=REQ-PARTICIPANT;PARTSTAT=TENTATIVE;RSVP=TRUE;CN=Amanda:h
 ttp://njyp.org/profile/Amanda695
ATTENDEE;ROLE=REQ-PARTICIPANT;PARTSTAT=TENTATIVE;RSVP=TRUE;CN="Dawn Ja
 eckel":http://njyp.org/profile/DawnJaeckel
ATTENDEE;ROLE=REQ-PARTICIPANT;PARTSTAT=TENTATIVE;RSVP=TRUE;CN="Amanda 
 Forsburg":http://njyp.org/profile/AmandaF
ATTENDEE;ROLE=REQ-PARTICIPANT;PARTSTAT=TENTATIVE;RSVP=TRUE;CN=Priya:ht
 tp://njyp.org/profile/Priya
ATTENDEE;ROLE=REQ-PARTICIPANT;PARTSTAT=TENTATIVE;RSVP=TRUE;CN="Melanie
  Wische":http://njyp.org/profile/MelanieWische
ATTENDEE;ROLE=REQ-PARTICIPANT;PARTSTAT=TENTATIVE;RSVP=TRUE;CN=Dar:http
 ://njyp.org/profile/Darlene
END:VEVENT
END:VCALENDAR
