BEGIN:VCALENDAR
PRODID:NingEventWidget-v1
VERSION:2.0
METHOD:PUBLISH
BEGIN:VTIMEZONE
TZID:America/New_York
X-LIC-LOCATION:America/New_York
BEGIN:DAYLIGHT
TZOFFSETFROM:-0500
TZOFFSETTO:-0400
TZNAME:EDT
DTSTART:19700308T020000
RRULE:FREQ=YEARLY;BYMONTH=3;BYDAY=2SU
END:DAYLIGHT
BEGIN:STANDARD
TZOFFSETFROM:-0400
TZOFFSETTO:-0500
TZNAME:EST
DTSTART:19701101T020000
RRULE:FREQ=YEARLY;BYMONTH=11;BYDAY=1SU
END:STANDARD
END:VTIMEZONE
BEGIN:VEVENT
UID:2938326:Event:21737
DTSTAMP:20260420T024748Z
SUMMARY:Hike: Mt Minsi in PA
DESCRIPTION:“Most hikers want to climb Mt. Tammany in New Jersey, bu
 t the best view of Tammany is from the top of the other gatepost of th
 e Gap, Mt. Minsi in Pennsylvania.” So, if you are in good physical s
 hape and are ready for a challenge, join us. The payoff at the top is 
 soooooooo going to be worth it!\n\nSpecs:\nThe hike is classified as s
 trenuous and is about 4 miles long.\nThe hike should take 4 hours.\nTh
 is is not a hike for \"first timers\". You must be in good, athletic s
 hape.\nGroup will stop to eat lunch along the trail. BYOLunch.\n\n\nRS
 VP (to the right) and we will let you know when tix are almost gone, w
 hen prices are going up, if there are any changes, etc.\n\nMember Cost
 :\n$5 for the first 10 to buy a ticket\n$10 for the next 11-25 to buy 
 a ticket\n$20 at the door (so please register online)\n\nNon-Member Co
 st:\n$20 online and at the door\n\nTickets:\nThere are a limited numbe
 r of Tickets for sale.\nTickets are not mailed, but your name will be 
 kept at the door.\nActual hike is subject to change depending on weath
 er conditions, fallen trees, etc.\nAll sales are final.\n\nSweeper:\nI
 f the group is large we are going to look for 2 volunteers to act as s
 weepers. Sweepers will walk at the end of the hike line and will make 
 sure the group stays together.\n\nHike Leader:\nNoah will be leading t
 his hike.\n\nWhat to bring:\nHiking boots and water (both required).\n
 Snacks, a lunch, layers of clothing, etc.\nToilet paper, tissues, plas
 tic bags for garbage, etc.\nDo NOT wear sneakers.\n\nInclement Weather
 :\nPrecipitation might cancel this hike but we often walk in light rai
 n. Please check your inbox for updates and the NJYP.org calendar. Tick
 ets will be refunded.\n\nDirections:\nMeet us in the trailhead parking
  area that you will read about in these directions, http://www.nps.gov
 /dewa/planyourvisit/to-mt-minsi.htm\n\nFor more information visit http
 ://njyp.org/events/hike-mt-minsi-in-pa
DTSTART;TZID=America/New_York:20091107T103000
DTEND;TZID=America/New_York:20091107T143000
CATEGORIES:athletic
LOCATION:Mt Minsi (trailhead parking)
WEBSITE:http://www.nps.gov/dewa/planyourvisit/to-mt-minsi.htm
URL:http://www.nps.gov/dewa/planyourvisit/to-mt-minsi.htm
CONTACT:
ORGANIZER;CN="Brian and Mike":http://njyp.org/profile/BrianMike
ATTACH;FMTTYPE="image/jpeg":http://storage.ning.com/topology/rest/1.0/
 file/get/1088564986?profile=original
ATTENDEE;ROLE=REQ-PARTICIPANT;PARTSTAT=ACCEPTED;RSVP=TRUE;CN="David Av
 ery":http://njyp.org/profile/DavidAvery
ATTENDEE;ROLE=REQ-PARTICIPANT;PARTSTAT=ACCEPTED;RSVP=TRUE;CN=John:http
 ://njyp.org/profile/JohnCastro
ATTENDEE;ROLE=REQ-PARTICIPANT;PARTSTAT=ACCEPTED;RSVP=TRUE;CN="Sarah Mi
 ddleton":http://njyp.org/profile/SarahM
ATTENDEE;ROLE=REQ-PARTICIPANT;PARTSTAT=ACCEPTED;RSVP=TRUE;CN="Dave B":
 http://njyp.org/profile/daveb
ATTENDEE;ROLE=REQ-PARTICIPANT;PARTSTAT=ACCEPTED;RSVP=TRUE;CN="Leora Gr
 eenhaus":http://njyp.org/profile/LeoraDagani
ATTENDEE;ROLE=REQ-PARTICIPANT;PARTSTAT=ACCEPTED;RSVP=TRUE;CN=Elizabeth
 :http://njyp.org/profile/Quirky3
ATTENDEE;ROLE=REQ-PARTICIPANT;PARTSTAT=ACCEPTED;RSVP=TRUE;CN="Ilya Gan
 ov":http://njyp.org/profile/IlyaGanov
ATTENDEE;ROLE=REQ-PARTICIPANT;PARTSTAT=ACCEPTED;RSVP=TRUE;CN="Jenny M"
 :http://njyp.org/profile/JennyMulcahy
ATTENDEE;ROLE=REQ-PARTICIPANT;PARTSTAT=ACCEPTED;RSVP=TRUE;CN="Bibi B t
 he Nutritionist":http://njyp.org/profile/BibianaBendikova
ATTENDEE;ROLE=REQ-PARTICIPANT;PARTSTAT=ACCEPTED;RSVP=TRUE;CN=Noah:http
 ://njyp.org/profile/NoahFine
ATTENDEE;ROLE=REQ-PARTICIPANT;PARTSTAT=TENTATIVE;RSVP=TRUE;CN="Tim B":
 http://njyp.org/profile/TimBreen
ATTENDEE;ROLE=REQ-PARTICIPANT;PARTSTAT=TENTATIVE;RSVP=TRUE;CN="Allison
  Froehlich":http://njyp.org/profile/AllisonFroehlich
ATTENDEE;ROLE=REQ-PARTICIPANT;PARTSTAT=TENTATIVE;RSVP=TRUE;CN="Brian a
 nd Mike":http://njyp.org/profile/BrianMike
ATTENDEE;ROLE=REQ-PARTICIPANT;PARTSTAT=TENTATIVE;RSVP=TRUE;CN="Kristy 
 Lavin":http://njyp.org/profile/KristyLavin
ATTENDEE;ROLE=REQ-PARTICIPANT;PARTSTAT=TENTATIVE;RSVP=TRUE;CN=Becky:ht
 tp://njyp.org/profile/BeckyCapuano
ATTENDEE;ROLE=REQ-PARTICIPANT;PARTSTAT=TENTATIVE;RSVP=TRUE;CN="Nick Ol
 son":http://njyp.org/profile/NickOlson
ATTENDEE;ROLE=REQ-PARTICIPANT;PARTSTAT=TENTATIVE;RSVP=TRUE;CN=Jon:http
 ://njyp.org/profile/Jon
ATTENDEE;ROLE=REQ-PARTICIPANT;PARTSTAT=TENTATIVE;RSVP=TRUE;CN="Isaac B
 earg":http://njyp.org/profile/IsaacBearg
ATTENDEE;ROLE=REQ-PARTICIPANT;PARTSTAT=TENTATIVE;RSVP=TRUE;CN=Katherin
 e:http://njyp.org/profile/Katherine
ATTENDEE;ROLE=REQ-PARTICIPANT;PARTSTAT=TENTATIVE;RSVP=TRUE;CN=Frank:ht
 tp://njyp.org/profile/FrankAbreu
ATTENDEE;ROLE=REQ-PARTICIPANT;PARTSTAT=TENTATIVE;RSVP=TRUE;CN="Chris L
 ombardi":http://njyp.org/profile/ChrisLombardi
END:VEVENT
END:VCALENDAR
