BEGIN:VCALENDAR
PRODID:NingEventWidget-v1
VERSION:2.0
METHOD:PUBLISH
BEGIN:VTIMEZONE
TZID:America/New_York
X-LIC-LOCATION:America/New_York
BEGIN:DAYLIGHT
TZOFFSETFROM:-0500
TZOFFSETTO:-0400
TZNAME:EDT
DTSTART:19700308T020000
RRULE:FREQ=YEARLY;BYMONTH=3;BYDAY=2SU
END:DAYLIGHT
BEGIN:STANDARD
TZOFFSETFROM:-0400
TZOFFSETTO:-0500
TZNAME:EST
DTSTART:19701101T020000
RRULE:FREQ=YEARLY;BYMONTH=11;BYDAY=1SU
END:STANDARD
END:VTIMEZONE
BEGIN:VEVENT
UID:2938326:Event:16380
DTSTAMP:20260420T073527Z
SUMMARY:Hike: Mt Tammany (difficult)
DESCRIPTION:Are you ready to be blown away? The Mount Tammany Hike is 
 one of the most famous in all of New Jersey. The views are some of the
  most spectacular in the state and at one point there is even a 1300 f
 oot drop off to the Delaware River below! The hike starts off at aroun
 d 200 ft above sea level and climb to 1527ft above all in about 2 mile
 s! The terrain is very rocky so ankle support is important. Along the 
 hike you will find beautiful streams, quaint waterfalls, and an abunda
 nce of unique foliage. So, if you are in good physical shape and are r
 eady for a challenge, join us!\n\nSpecs:\nThe hike is classified as st
 renuous and is about 3.5 miles long.\nThe hike should take 3-4 hours.\
 nThis is not a hike for \"first timers\". You must be in good, athleti
 c shape.\nGroup will stop to eat lunch along the trail. BYOLunch.\n\n\
 nRSVP (to the right) and we will let you know when tix are almost gone
 , when prices are going up, if there are any changes, etc.\n\nMember C
 ost:\n$5 for the first 10 to buy a ticket\n$10 for the next 11-25 to b
 uy a ticket\n$20 at the door (so please register online)\n\nNon-Member
  Cost:\n$20 online and at the door\n\nTickets:\nThere are a limited nu
 mber of Tickets for sale.\nTickets are not mailed, but your name will 
 be kept at the door.\nActual hike is subject to change depending on we
 ather conditions, fallen trees, etc.\nAll sales are final.\n\nSweeper:
 \nIf the group is large we are going to look for 2 volunteers to act a
 s sweepers. Sweepers will walk at the end of the hike line and will ma
 ke sure the group stays together.\n\nHike Leader:\nNoah will be leadin
 g this hike. It is one of his favorites!\n\nWhat to bring:\nHiking boo
 ts and water (both required).\nSnacks, a lunch, layers of clothing, et
 c.\nToilet paper, tissues, plastic bags for garbage, etc.\nDo NOT wear
  sneakers.\n\nInclement Weather:\nPrecipitation might cancel this hike
  but we often walk in light rain. Please check your inbox for updates 
 and the NJYP.org calendar. Tickets will be refunded.\n\nDirections:\nT
 ake Interstate Route 80 west towards the Delaware Water Gap. Immediate
 ly beyond milepost 1, take the exit for the \"picnic area\" and bear l
 eft at the fork. Continue past the underpass to the left and turn righ
 t into a parking area at a sign for \"Dunnfield Creek Natural Area.\" 
 (If you miss the exit from Route 80, take Exit 1, turn left at the end
  of the ramp, and continue on the service road parallel to Route 80 pa
 st the visitor center. Turn left at the underpass, go under Route 80, 
 turn left again, and turn right at the \"Dunnfield Creek Natural Area\
 " sign.\n\nIt is almost impossible to use an online mapping system as 
 there is no street address for the Dunnfield Creek Natural Area. The p
 ark is right outside of Columbia NJ, off route 80 (past exit 4 but bef
 ore exit 1).\n\nHere is the actual Mount Tammany hike with directions.
 \n\nFor more information visit http://njyp.org/events/hike-mt-tammany-
 difficult
DTSTART;TZID=America/New_York:20091010T103000
DTEND;TZID=America/New_York:20091010T143000
CATEGORIES:"warren county", athletic
LOCATION:Worthington State Forest
WEBSITE:http://www.nynjtc.org/hike/blue-dotred-dot-loop-summit-mount-t
 ammany
URL:http://www.nynjtc.org/hike/blue-dotred-dot-loop-summit-mount-tamma
 ny
CONTACT:
ORGANIZER;CN="Brian and Mike":http://njyp.org/profile/BrianMike
ATTACH;FMTTYPE="image/jpeg":http://storage.ning.com/topology/rest/1.0/
 file/get/1088556509?profile=original
ATTENDEE;ROLE=REQ-PARTICIPANT;PARTSTAT=ACCEPTED;RSVP=TRUE;CN="Dave B":
 http://njyp.org/profile/daveb
ATTENDEE;ROLE=REQ-PARTICIPANT;PARTSTAT=ACCEPTED;RSVP=TRUE;CN="Isaac Be
 arg":http://njyp.org/profile/IsaacBearg
ATTENDEE;ROLE=REQ-PARTICIPANT;PARTSTAT=ACCEPTED;RSVP=TRUE;CN="Jenny M"
 :http://njyp.org/profile/JennyMulcahy
ATTENDEE;ROLE=REQ-PARTICIPANT;PARTSTAT=ACCEPTED;RSVP=TRUE;CN="Heather 
 Sears":http://njyp.org/profile/HeatherSears
ATTENDEE;ROLE=REQ-PARTICIPANT;PARTSTAT=ACCEPTED;RSVP=TRUE;CN=Frank:htt
 p://njyp.org/profile/FrankAbreu
ATTENDEE;ROLE=REQ-PARTICIPANT;PARTSTAT=ACCEPTED;RSVP=TRUE;CN=John:http
 ://njyp.org/profile/JohnCastro
ATTENDEE;ROLE=REQ-PARTICIPANT;PARTSTAT=ACCEPTED;RSVP=TRUE;CN=Drew:http
 ://njyp.org/profile/AndrewCoughlan
ATTENDEE;ROLE=REQ-PARTICIPANT;PARTSTAT=ACCEPTED;RSVP=TRUE;CN=Simon:htt
 p://njyp.org/profile/Simon
ATTENDEE;ROLE=REQ-PARTICIPANT;PARTSTAT=ACCEPTED;RSVP=TRUE;CN=Lizzie:ht
 tp://njyp.org/profile/ElizabethKuhns
ATTENDEE;ROLE=REQ-PARTICIPANT;PARTSTAT=ACCEPTED;RSVP=TRUE;CN="Sarah Mi
 ddleton":http://njyp.org/profile/SarahM
ATTENDEE;ROLE=REQ-PARTICIPANT;PARTSTAT=ACCEPTED;RSVP=TRUE;CN="Kristin 
 Kopec":http://njyp.org/profile/KristinKopec
ATTENDEE;ROLE=REQ-PARTICIPANT;PARTSTAT=ACCEPTED;RSVP=TRUE;CN=Noah:http
 ://njyp.org/profile/NoahFine
ATTENDEE;ROLE=REQ-PARTICIPANT;PARTSTAT=ACCEPTED;RSVP=TRUE;CN=Becky:htt
 p://njyp.org/profile/BeckyCapuano
ATTENDEE;ROLE=REQ-PARTICIPANT;PARTSTAT=TENTATIVE;RSVP=TRUE;CN="Bibi B 
 the Nutritionist":http://njyp.org/profile/BibianaBendikova
ATTENDEE;ROLE=REQ-PARTICIPANT;PARTSTAT=TENTATIVE;RSVP=TRUE;CN="Doug Be
 man":http://njyp.org/profile/DougBeman
ATTENDEE;ROLE=REQ-PARTICIPANT;PARTSTAT=TENTATIVE;RSVP=TRUE;CN="Jeffrey
  Key":http://njyp.org/profile/JeffreyKey
ATTENDEE;ROLE=REQ-PARTICIPANT;PARTSTAT=TENTATIVE;RSVP=TRUE;CN="Elizabe
 th M.":http://njyp.org/profile/ElizabethM
ATTENDEE;ROLE=REQ-PARTICIPANT;PARTSTAT=TENTATIVE;RSVP=TRUE;CN="Lillian
  T.":http://njyp.org/profile/LillianT
ATTENDEE;ROLE=REQ-PARTICIPANT;PARTSTAT=TENTATIVE;RSVP=TRUE;CN=Jessica:
 http://njyp.org/profile/Jessica251
END:VEVENT
END:VCALENDAR
