BEGIN:VCALENDAR
PRODID:NingEventWidget-v1
VERSION:2.0
METHOD:PUBLISH
BEGIN:VTIMEZONE
TZID:America/New_York
X-LIC-LOCATION:America/New_York
BEGIN:DAYLIGHT
TZOFFSETFROM:-0500
TZOFFSETTO:-0400
TZNAME:EDT
DTSTART:19700308T020000
RRULE:FREQ=YEARLY;BYMONTH=3;BYDAY=2SU
END:DAYLIGHT
BEGIN:STANDARD
TZOFFSETFROM:-0400
TZOFFSETTO:-0500
TZNAME:EST
DTSTART:19701101T020000
RRULE:FREQ=YEARLY;BYMONTH=11;BYDAY=1SU
END:STANDARD
END:VTIMEZONE
BEGIN:VEVENT
UID:2938326:Event:118021
DTSTAMP:20260420T105536Z
SUMMARY:Hike: Noah's Farewell Hike
DESCRIPTION:As you may have heard, Noah is retiring from leading hikes
 . This will be the last hike he hosts and we hope that many of his loy
 al hikers will be able to attend. After the hike there will be a retir
 ement party for Noah at a local restaurant. Cash bar.\n\n\n\nSpecs:\nT
 he hike is classified as easy to moderate and is about 2 miles long.\n
 The hike should take 1 to 1.5 hours.\nAs with all hikes you must be in
  good, athletic shape.\n\nMember Cost:\n$5 for the first 5 to buy a ti
 cket\n$10 for the next 6-25 to buy a ticket\n$20 at the door (so pleas
 e register online)\n\nNon-Member Cost:\n$20 online and at the door\n\n
 Tickets:\nThere are a limited number of Tickets for sale. Tickets are 
 not mailed, but your name will be kept at the door. Actual hike is sub
 ject to change depending on weather conditions, fallen trees, etc. All
  sales are final.\n\nSweeper:\nIf the group size is larger than 10, we
  are going to look for a volunteer to act as a sweeper. Sweepers will 
 walk at the end of the hike line and will make sure the group stays to
 gether.\n\nHike Leader:\nNoah will be leading this hike.\nNoah will no
 t be waiting for late comers. In fairness to those who arrive on time,
  the hike will start on time.\n\nWhat to bring:\nHiking boots are requ
 ired.\nPlease bring 2 liters of water as well (yes, it is just as easy
  to dehydrate in the cold).\nPlease dress in layers that are not made 
 out of cotton. Cotton, when wet, does not dry and can make you feel mu
 ch colder. Synthetic fiber outdoor wear is always ideal in all weather
  conditions and all seasons.\nConsider bringing a snack as well if you
  may get hungry while hiking.\n\nInclement Weather:\nPrecipitation (ra
 in or snow) will cancel this hike. Also, the forecasted high for the d
 ay will have to be above 32 degrees and no standing snow cover on the 
 ground. Please check your inbox for updates and the NJYP.org calendar.
  Tickets will be refunded.\n\nDirections:\nThe entrance to the reserva
 tion is on Route 202 (Ramapo Valley Road), about two miles south of Ro
 ute 17.\nUse this MAP to see the parking lot, http://maps.google.com/m
 aps/ms?ie=UTF8&hl=en&t=h&msa=0&msid=103695821160177810439.0004620ba912
 f990aa08f&ll=41.079295,-74.187691&spn=0.002426,0.003219&z=17&source=em
 bed\n\nFor more information visit http://njyp.org/events/hike-noahs-fa
 rewell-hike
DTSTART;TZID=America/New_York:20101218T103000
DTEND;TZID=America/New_York:20101218T120000
CATEGORIES:"bergen county", athletic
LOCATION:Ramapo Valley County Reservation
WEBSITE:http://maps.google.com/maps/ms?ie=UTF8&hl=en&t=h&msa=0&msid=10
 3695821160177810439.0004620ba912f990aa08f&ll=41.079295,-74.187691&spn=
 0.002426,0.003219&z=17&source=embed
URL:http://maps.google.com/maps/ms?ie=UTF8&hl=en&t=h&msa=0&msid=103695
 821160177810439.0004620ba912f990aa08f&ll=41.079295,-74.187691&spn=0.00
 2426,0.003219&z=17&source=embed
CONTACT:
ORGANIZER;CN="Brian and Mike":http://njyp.org/profile/BrianMike
ATTACH;FMTTYPE="image/jpeg":http://storage.ning.com/topology/rest/1.0/
 file/get/1088661967?profile=original
ATTENDEE;ROLE=REQ-PARTICIPANT;PARTSTAT=ACCEPTED;RSVP=TRUE;CN=NorthNJDa
 vid:http://njyp.org/profile/NorthNJDavid
ATTENDEE;ROLE=REQ-PARTICIPANT;PARTSTAT=ACCEPTED;RSVP=TRUE;CN=Keira:htt
 p://njyp.org/profile/Keira
ATTENDEE;ROLE=REQ-PARTICIPANT;PARTSTAT=ACCEPTED;RSVP=TRUE;CN=Larry:htt
 p://njyp.org/profile/LarryYang
ATTENDEE;ROLE=REQ-PARTICIPANT;PARTSTAT=ACCEPTED;RSVP=TRUE;CN=Noah:http
 ://njyp.org/profile/NoahFine
ATTENDEE;ROLE=REQ-PARTICIPANT;PARTSTAT=ACCEPTED;RSVP=TRUE;CN=Tyshawn:h
 ttp://njyp.org/profile/Tyshawn
ATTENDEE;ROLE=REQ-PARTICIPANT;PARTSTAT=ACCEPTED;RSVP=TRUE;CN="Karl  A 
 Kraus":http://njyp.org/profile/KarlAKraus
ATTENDEE;ROLE=REQ-PARTICIPANT;PARTSTAT=ACCEPTED;RSVP=TRUE;CN=Becky:htt
 p://njyp.org/profile/BeckyCapuano
ATTENDEE;ROLE=REQ-PARTICIPANT;PARTSTAT=ACCEPTED;RSVP=TRUE;CN=John:http
 ://njyp.org/profile/JohnCastro
ATTENDEE;ROLE=REQ-PARTICIPANT;PARTSTAT=ACCEPTED;RSVP=TRUE;CN="Brian Ph
 illips":http://njyp.org/profile/BrianPhillips
ATTENDEE;ROLE=REQ-PARTICIPANT;PARTSTAT=ACCEPTED;RSVP=TRUE;CN=Jenn:http
 ://njyp.org/profile/Jenn231
ATTENDEE;ROLE=REQ-PARTICIPANT;PARTSTAT=ACCEPTED;RSVP=TRUE;CN=Jonathan:
 http://njyp.org/profile/Jonathan
ATTENDEE;ROLE=REQ-PARTICIPANT;PARTSTAT=ACCEPTED;RSVP=TRUE;CN="Heather 
 Sears":http://njyp.org/profile/HeatherSears
ATTENDEE;ROLE=REQ-PARTICIPANT;PARTSTAT=ACCEPTED;RSVP=TRUE;CN="Tara Bur
 ns":http://njyp.org/profile/TaraBurns
ATTENDEE;ROLE=REQ-PARTICIPANT;PARTSTAT=ACCEPTED;RSVP=TRUE;CN="Lillian 
 T.":http://njyp.org/profile/LillianT
ATTENDEE;ROLE=REQ-PARTICIPANT;PARTSTAT=ACCEPTED;RSVP=TRUE;CN=Ilona:htt
 p://njyp.org/profile/Ilona
ATTENDEE;ROLE=REQ-PARTICIPANT;PARTSTAT=ACCEPTED;RSVP=TRUE;CN="Jose G."
 :http://njyp.org/profile/MrG
ATTENDEE;ROLE=REQ-PARTICIPANT;PARTSTAT=ACCEPTED;RSVP=TRUE;CN="Jenny M"
 :http://njyp.org/profile/JennyMulcahy
ATTENDEE;ROLE=REQ-PARTICIPANT;PARTSTAT=ACCEPTED;RSVP=TRUE;CN="Jay Shah
 ":http://njyp.org/profile/JayShah
ATTENDEE;ROLE=REQ-PARTICIPANT;PARTSTAT=ACCEPTED;RSVP=TRUE;CN="Brian an
 d Mike":http://njyp.org/profile/BrianMike
ATTENDEE;ROLE=REQ-PARTICIPANT;PARTSTAT=TENTATIVE;RSVP=TRUE;CN=Jennifer
 :http://njyp.org/profile/JenniferGates
ATTENDEE;ROLE=REQ-PARTICIPANT;PARTSTAT=TENTATIVE;RSVP=TRUE;CN=Joanne:h
 ttp://njyp.org/profile/Joanne
ATTENDEE;ROLE=REQ-PARTICIPANT;PARTSTAT=TENTATIVE;RSVP=TRUE;CN="Amanda 
 Forsburg":http://njyp.org/profile/AmandaF
ATTENDEE;ROLE=REQ-PARTICIPANT;PARTSTAT=TENTATIVE;RSVP=TRUE;CN=Amanda:h
 ttp://njyp.org/profile/Amanda710
ATTENDEE;ROLE=REQ-PARTICIPANT;PARTSTAT=TENTATIVE;RSVP=TRUE;CN=Lizzie:h
 ttp://njyp.org/profile/ElizabethKuhns
ATTENDEE;ROLE=REQ-PARTICIPANT;PARTSTAT=TENTATIVE;RSVP=TRUE;CN=Catherin
 e:http://njyp.org/profile/Catherine949
ATTENDEE;ROLE=REQ-PARTICIPANT;PARTSTAT=TENTATIVE;RSVP=TRUE;CN=Patricia
 :http://njyp.org/profile/TrishaOSha
ATTENDEE;ROLE=REQ-PARTICIPANT;PARTSTAT=TENTATIVE;RSVP=TRUE;CN="Lynn Ad
 amo":http://njyp.org/profile/LynnAdamo
END:VEVENT
END:VCALENDAR
