BEGIN:VCALENDAR
PRODID:NingEventWidget-v1
VERSION:2.0
METHOD:PUBLISH
BEGIN:VTIMEZONE
TZID:America/New_York
X-LIC-LOCATION:America/New_York
BEGIN:DAYLIGHT
TZOFFSETFROM:-0500
TZOFFSETTO:-0400
TZNAME:EDT
DTSTART:19700308T020000
RRULE:FREQ=YEARLY;BYMONTH=3;BYDAY=2SU
END:DAYLIGHT
BEGIN:STANDARD
TZOFFSETFROM:-0400
TZOFFSETTO:-0500
TZNAME:EST
DTSTART:19701101T020000
RRULE:FREQ=YEARLY;BYMONTH=11;BYDAY=1SU
END:STANDARD
END:VTIMEZONE
BEGIN:VEVENT
UID:2938326:Event:93134
DTSTAMP:20260420T073909Z
SUMMARY:Hike: Norvin Green for Women Only
DESCRIPTION:Our female only hikes are FOR women and LEAD by women! Exp
 and your girlfriend circle by meeting up with local, young women who e
 njoy the outdoors.\n\nAre you ready to breathe in the Fall air? Then G
 ET OUT and join us for this moderate hike in the beautiful Norvin Gree
 n State Forest. \"This loop hike passes by an old iron mine and climbs
  to an outstanding 360 degree viewpoint from which the New York City s
 kyline can be seen.\" PLUS you will get to meet other young, female pr
 ofessionals who enjoy the outdoors.\n\nSpecs:\nThe hike is classified 
 as moderate and is about 3 miles long.\nThe hike should take 2.5 hours
 .\nAs with all hikes you must be in good, athletic shape.\n\n\n\nMembe
 r Cost:\n$5 for the first 10\n$10 for the next 11-25\n$20 at the door 
 (so please register online)\n\nNon-Member Cost:\n$20 online and at the
  door\n\nTickets:\nThere are a limited number of Tickets for sale. Tic
 kets are not mailed, but your name will be kept at the door. Actual hi
 ke is subject to change depending on weather conditions, fallen trees,
  etc. All sales are final.\n\nSweeper:\nIf our hiking group is large w
 e might look for 2 volunteers to act as sweepers. Sweepers will walk a
 t the end of the hike line and will make sure the group stays together
 .\n\nHike Leader:\nJenn will be leading this hike.\n\nWhat to bring:\n
 Hiking boots and water (both required).\nSnacks, a light lunch, etc.\n
 Toilet paper, tissues, plastic bags for garbage, etc.\n\nInclement Wea
 ther:\nHeavy precipitation will cancel this hike; drizzle will not. Pl
 ease check your inbox for updates and the NJYP.org calendar. Tickets w
 ill be refunded.\n\nDirections:\nTake Skyline Drive to its northwester
 n end at Greenwood Lake Turnpike (County Route 511). Turn left and pro
 ceed south for 1.6 miles to West Brook Road. Turn right onto West Broo
 k Road and cross the Wanaque Reservoir on a narrow causeway. At the ne
 xt T junction, turn left, then take the second left onto Snake Den Roa
 d, following signs to the Weis Ecology Center. In 0.3 mile, bear left 
 at a fork, and continue for another 0.3 mile to a large dirt parking a
 rea on the right side of the road, just before the entrance to the Wei
 s Ecology Center.\n\nFor more information visit http://njyp.org/events
 /hike-norvin-green-for-women
DTSTART;TZID=America/New_York:20100926T103000
DTEND;TZID=America/New_York:20100926T130000
CATEGORIES:"passaic county", athletic, "women only"
LOCATION:Norvin Green State Forest
WEBSITE:http://www.nynjtc.org/hike/mine-trailroomy-mine-loop-weis-ecol
 ogy-center
URL:http://www.nynjtc.org/hike/mine-trailroomy-mine-loop-weis-ecology-
 center
CONTACT:
ORGANIZER;CN="Brian and Mike":http://njyp.org/profile/BrianMike
ATTACH;FMTTYPE="image/jpeg":http://storage.ning.com/topology/rest/1.0/
 file/get/1088637682?profile=original
ATTENDEE;ROLE=REQ-PARTICIPANT;PARTSTAT=ACCEPTED;RSVP=TRUE;CN=Regina:ht
 tp://njyp.org/profile/Regina
ATTENDEE;ROLE=REQ-PARTICIPANT;PARTSTAT=ACCEPTED;RSVP=TRUE;CN="Anita Gu
 errero":http://njyp.org/profile/AnitaGuerrero
ATTENDEE;ROLE=REQ-PARTICIPANT;PARTSTAT=ACCEPTED;RSVP=TRUE;CN=Kim:http:
 //njyp.org/profile/Kim764
ATTENDEE;ROLE=REQ-PARTICIPANT;PARTSTAT=ACCEPTED;RSVP=TRUE;CN="Sarah Mi
 ddleton":http://njyp.org/profile/SarahM
ATTENDEE;ROLE=REQ-PARTICIPANT;PARTSTAT=ACCEPTED;RSVP=TRUE;CN=Zhenya:ht
 tp://njyp.org/profile/ZhenyaKucsma
ATTENDEE;ROLE=REQ-PARTICIPANT;PARTSTAT=ACCEPTED;RSVP=TRUE;CN="Heather 
 Sears":http://njyp.org/profile/HeatherSears
ATTENDEE;ROLE=REQ-PARTICIPANT;PARTSTAT=TENTATIVE;RSVP=TRUE;CN="Brian a
 nd Mike":http://njyp.org/profile/BrianMike
ATTENDEE;ROLE=REQ-PARTICIPANT;PARTSTAT=TENTATIVE;RSVP=TRUE;CN=Tamara:h
 ttp://njyp.org/profile/Tamara227
ATTENDEE;ROLE=REQ-PARTICIPANT;PARTSTAT=TENTATIVE;RSVP=TRUE;CN="Cindy L
 in":http://njyp.org/profile/CindyLin
ATTENDEE;ROLE=REQ-PARTICIPANT;PARTSTAT=TENTATIVE;RSVP=TRUE;CN=Lisa:htt
 p://njyp.org/profile/Lisa258
ATTENDEE;ROLE=REQ-PARTICIPANT;PARTSTAT=TENTATIVE;RSVP=TRUE;CN=Nita:htt
 p://njyp.org/profile/NitaSilimkhan
ATTENDEE;ROLE=REQ-PARTICIPANT;PARTSTAT=TENTATIVE;RSVP=TRUE;CN=Laavanya
 :http://njyp.org/profile/LaavanyaPasupuleti
ATTENDEE;ROLE=REQ-PARTICIPANT;PARTSTAT=TENTATIVE;RSVP=TRUE;CN=Catherin
 e:http://njyp.org/profile/Catherine949
ATTENDEE;ROLE=REQ-PARTICIPANT;PARTSTAT=TENTATIVE;RSVP=TRUE;CN=Pam:http
 ://njyp.org/profile/PamStomel
ATTENDEE;ROLE=REQ-PARTICIPANT;PARTSTAT=TENTATIVE;RSVP=TRUE;CN=Tara:htt
 p://njyp.org/profile/TaraMorey
ATTENDEE;ROLE=REQ-PARTICIPANT;PARTSTAT=TENTATIVE;RSVP=TRUE;CN=Deborah:
 http://njyp.org/profile/Deborah
ATTENDEE;ROLE=REQ-PARTICIPANT;PARTSTAT=TENTATIVE;RSVP=TRUE;CN=Rebecca:
 http://njyp.org/profile/Rebecca
ATTENDEE;ROLE=REQ-PARTICIPANT;PARTSTAT=TENTATIVE;RSVP=TRUE;CN="Marisa 
 Nogueira":http://njyp.org/profile/Marisa
ATTENDEE;ROLE=REQ-PARTICIPANT;PARTSTAT=TENTATIVE;RSVP=TRUE;CN="rachel 
 irene":http://njyp.org/profile/rachel_irene
ATTENDEE;ROLE=REQ-PARTICIPANT;PARTSTAT=TENTATIVE;RSVP=TRUE;CN=Lizzie:h
 ttp://njyp.org/profile/ElizabethKuhns
ATTENDEE;ROLE=REQ-PARTICIPANT;PARTSTAT=TENTATIVE;RSVP=TRUE;CN=Stacy:ht
 tp://njyp.org/profile/StacyStraczynski
END:VEVENT
END:VCALENDAR
