BEGIN:VCALENDAR
PRODID:NingEventWidget-v1
VERSION:2.0
METHOD:PUBLISH
BEGIN:VTIMEZONE
TZID:America/New_York
X-LIC-LOCATION:America/New_York
BEGIN:DAYLIGHT
TZOFFSETFROM:-0500
TZOFFSETTO:-0400
TZNAME:EDT
DTSTART:19700308T020000
RRULE:FREQ=YEARLY;BYMONTH=3;BYDAY=2SU
END:DAYLIGHT
BEGIN:STANDARD
TZOFFSETFROM:-0400
TZOFFSETTO:-0500
TZNAME:EST
DTSTART:19701101T020000
RRULE:FREQ=YEARLY;BYMONTH=11;BYDAY=1SU
END:STANDARD
END:VTIMEZONE
BEGIN:VEVENT
UID:2938326:Event:166126
DTSTAMP:20260420T043005Z
SUMMARY:Hike: Norvin Green in Ringwood
DESCRIPTION:Come out and enjoy the spring air with a scenic, vigorous 
 hike in the Highlands of NJ.  This hike sports a 360 degree mountain 
 top viewpoint where we can see far-away hills, sparkling reservoirs an
 d the NYC skyline as well as a beautiful waterfall (which thanks to a 
 wet winter and spring, should be flowing very nicely!).  We will meet
  for an optional late lunch after the hike.\n\n\n\nSpecs:The hike is c
 lassified as moderate and is about 6 miles long.The hike should take 3
 .5 hours.As with all hikes you must be in good, athletic shape.Member 
 Cost:$5 for the first 10 to buy a ticket$10 for the next 11-25 to buy 
 a ticket$20 at the door (so please register online)Non-Member Cost:$20
  online and at the doorTickets:There are a limited number of Tickets f
 or sale. Tickets are not mailed, but your name will be kept at the doo
 r. Actual hike is subject to change depending on weather conditions, f
 allen trees, etc. All sales are final.Sweeper:If our hiking group is l
 arge we might look for 2 volunteers to act as sweepers. Sweepers will 
 walk at the end of the hike line and will make sure the group stays to
 gether.Hike Leader:David will be leading this hike.What to bring:Hikin
 g boots and water (both required).Be prepared for mud and water.Snacks
 , a light lunch, etc.Toilet paper, tissues, plastic bags for garbage, 
 etc.Inclement Weather:Precipitation will cancel this hike.  Please ch
 eck your inbox for updates and the NJYP.org calendar. Tickets will be 
 refunded.How to find the group: Meet in the dirt parking lot right on 
 Snake Den Rd.  It is a large area and immediately visible from the ro
 ad so there is no mistaking it.  It will be on the right hand side as
  you are driving up Snake Den Rd.Please arrive on time as we will not 
 wait for latecomers.Directions:Take 287 North to exit 55.  At the end
  of the ramp, make a right onto Ringwood Ave.  Follow that for 4 mile
 s and make a left onto Westbrook Drive (It will be just past the Skyli
 ne Diner which is on the right side).  After about 1.5 miles, you wil
 l get to the intersection, bear left.  After approx 0.5 miles, turn l
 eft onto Snake Den Rd.  Follow that for about 0.6 miles to the dirt p
 arking lot on the right, right off the road.http://goo.gl/maps/vzve\n\
 nFor more information visit http://njyp.org/events/hike-norvin-green-i
 n-ringwood-1
DTSTART;TZID=America/New_York:20110409T103000
DTEND;TZID=America/New_York:20110409T140000
CATEGORIES:"passaic county", athletic
LOCATION:Norvin Green State Forest (Weis Ecology Center)
WEBSITE:http://goo.gl/maps/vzve
URL:http://goo.gl/maps/vzve
CONTACT:
ORGANIZER;CN="Brian and Mike":http://njyp.org/profile/BrianMike
ATTACH;FMTTYPE="image/jpeg":http://storage.ning.com/topology/rest/1.0/
 file/get/1088686774?profile=original
ATTENDEE;ROLE=REQ-PARTICIPANT;PARTSTAT=ACCEPTED;RSVP=TRUE;CN="Tara Bur
 ns":http://njyp.org/profile/TaraBurns
ATTENDEE;ROLE=REQ-PARTICIPANT;PARTSTAT=ACCEPTED;RSVP=TRUE;CN=Keira:htt
 p://njyp.org/profile/Keira
ATTENDEE;ROLE=REQ-PARTICIPANT;PARTSTAT=ACCEPTED;RSVP=TRUE;CN=Nita:http
 ://njyp.org/profile/NitaSilimkhan
ATTENDEE;ROLE=REQ-PARTICIPANT;PARTSTAT=ACCEPTED;RSVP=TRUE;CN=Jayant:ht
 tp://njyp.org/profile/Jayant
ATTENDEE;ROLE=REQ-PARTICIPANT;PARTSTAT=ACCEPTED;RSVP=TRUE;CN="rachel i
 rene":http://njyp.org/profile/rachel_irene
ATTENDEE;ROLE=REQ-PARTICIPANT;PARTSTAT=ACCEPTED;RSVP=TRUE;CN=sloane:ht
 tp://njyp.org/profile/sloane
ATTENDEE;ROLE=REQ-PARTICIPANT;PARTSTAT=ACCEPTED;RSVP=TRUE;CN=Jenn:http
 ://njyp.org/profile/Jenn231
ATTENDEE;ROLE=REQ-PARTICIPANT;PARTSTAT=ACCEPTED;RSVP=TRUE;CN=Nicholas:
 http://njyp.org/profile/Nicholas183
ATTENDEE;ROLE=REQ-PARTICIPANT;PARTSTAT=ACCEPTED;RSVP=TRUE;CN=Jonathan:
 http://njyp.org/profile/Jonathan
ATTENDEE;ROLE=REQ-PARTICIPANT;PARTSTAT=ACCEPTED;RSVP=TRUE;CN="Jose G."
 :http://njyp.org/profile/MrG
ATTENDEE;ROLE=REQ-PARTICIPANT;PARTSTAT=ACCEPTED;RSVP=TRUE;CN="Jenny M"
 :http://njyp.org/profile/JennyMulcahy
ATTENDEE;ROLE=REQ-PARTICIPANT;PARTSTAT=ACCEPTED;RSVP=TRUE;CN=Drew:http
 ://njyp.org/profile/AndrewCoughlan
ATTENDEE;ROLE=REQ-PARTICIPANT;PARTSTAT=ACCEPTED;RSVP=TRUE;CN=Cyrielle:
 http://njyp.org/profile/Cyrielle
ATTENDEE;ROLE=REQ-PARTICIPANT;PARTSTAT=ACCEPTED;RSVP=TRUE;CN=Bill:http
 ://njyp.org/profile/Bill
ATTENDEE;ROLE=REQ-PARTICIPANT;PARTSTAT=ACCEPTED;RSVP=TRUE;CN=Vinodh:ht
 tp://njyp.org/profile/Vinodh
ATTENDEE;ROLE=REQ-PARTICIPANT;PARTSTAT=ACCEPTED;RSVP=TRUE;CN="Brian Ph
 illips":http://njyp.org/profile/BrianPhillips
ATTENDEE;ROLE=REQ-PARTICIPANT;PARTSTAT=ACCEPTED;RSVP=TRUE;CN="Stefanie
  Lampf":http://njyp.org/profile/StefanieLampf
ATTENDEE;ROLE=REQ-PARTICIPANT;PARTSTAT=ACCEPTED;RSVP=TRUE;CN=Patrick:h
 ttp://njyp.org/profile/Patrick
ATTENDEE;ROLE=REQ-PARTICIPANT;PARTSTAT=ACCEPTED;RSVP=TRUE;CN=Keri:http
 ://njyp.org/profile/Keri690
ATTENDEE;ROLE=REQ-PARTICIPANT;PARTSTAT=ACCEPTED;RSVP=TRUE;CN=Chris:htt
 p://njyp.org/profile/ce
ATTENDEE;ROLE=REQ-PARTICIPANT;PARTSTAT=ACCEPTED;RSVP=TRUE;CN=NorthNJDa
 vid:http://njyp.org/profile/NorthNJDavid
ATTENDEE;ROLE=REQ-PARTICIPANT;PARTSTAT=ACCEPTED;RSVP=TRUE;CN="Brian an
 d Mike":http://njyp.org/profile/BrianMike
ATTENDEE;ROLE=REQ-PARTICIPANT;PARTSTAT=TENTATIVE;RSVP=TRUE;CN=Larry:ht
 tp://njyp.org/profile/LarryYang
ATTENDEE;ROLE=REQ-PARTICIPANT;PARTSTAT=TENTATIVE;RSVP=TRUE;CN=Ahsan:ht
 tp://njyp.org/profile/Ahsan
ATTENDEE;ROLE=REQ-PARTICIPANT;PARTSTAT=TENTATIVE;RSVP=TRUE;CN=Digant:h
 ttp://njyp.org/profile/Digant
ATTENDEE;ROLE=REQ-PARTICIPANT;PARTSTAT=TENTATIVE;RSVP=TRUE;CN=Alex:htt
 p://njyp.org/profile/arinehartdc
ATTENDEE;ROLE=REQ-PARTICIPANT;PARTSTAT=TENTATIVE;RSVP=TRUE;CN=Douglas:
 http://njyp.org/profile/Douglas657
ATTENDEE;ROLE=REQ-PARTICIPANT;PARTSTAT=TENTATIVE;RSVP=TRUE;CN=Stacey:h
 ttp://njyp.org/profile/Stacey63
ATTENDEE;ROLE=REQ-PARTICIPANT;PARTSTAT=TENTATIVE;RSVP=TRUE;CN=Jennifer
 :http://njyp.org/profile/Jennifer234
ATTENDEE;ROLE=REQ-PARTICIPANT;PARTSTAT=TENTATIVE;RSVP=TRUE;CN=Lizzie:h
 ttp://njyp.org/profile/ElizabethKuhns
ATTENDEE;ROLE=REQ-PARTICIPANT;PARTSTAT=TENTATIVE;RSVP=TRUE;CN="Michael
  E":http://njyp.org/profile/MichaelEverhart
ATTENDEE;ROLE=REQ-PARTICIPANT;PARTSTAT=TENTATIVE;RSVP=TRUE;CN="Sarah M
 iddleton":http://njyp.org/profile/SarahM
END:VEVENT
END:VCALENDAR
