BEGIN:VCALENDAR
PRODID:NingEventWidget-v1
VERSION:2.0
METHOD:PUBLISH
BEGIN:VTIMEZONE
TZID:America/New_York
X-LIC-LOCATION:America/New_York
BEGIN:DAYLIGHT
TZOFFSETFROM:-0500
TZOFFSETTO:-0400
TZNAME:EDT
DTSTART:19700308T020000
RRULE:FREQ=YEARLY;BYMONTH=3;BYDAY=2SU
END:DAYLIGHT
BEGIN:STANDARD
TZOFFSETFROM:-0400
TZOFFSETTO:-0500
TZNAME:EST
DTSTART:19701101T020000
RRULE:FREQ=YEARLY;BYMONTH=11;BYDAY=1SU
END:STANDARD
END:VTIMEZONE
BEGIN:VEVENT
UID:2938326:Event:524840
DTSTAMP:20260420T123802Z
SUMMARY:Hike: Wildcat Ridge
DESCRIPTION:Did you buy the Winter Hike Pass? Remember you can attend 
 this hike at no cost, http://www.njyp.org/page/winter-hike-pass\n\nDUE
  TO THE SNOW we are changing this hike from Norvin Green to WildCat Ri
 dge.  The new details are pasted below.\n \nSpecs: The hike is class
 ified as easy to moderate and is about 5.5 miles long. The hike should
  take 3 hours. As with all hikes you must be in good, athletic shape.\
 n  \n\n\nMember Cost: $10 online $20 at the door (so please register
  online)\n \nNon-Member Cost: $20 online and at the door\n \nTickets
 : There are a limited number of Tickets for sale. Tickets are not mail
 ed, but your name will be kept at the door. Actual hike is subject to 
 change depending on weather conditions, fallen trees, etc. All sales a
 re final.\n \nSweeper: If the group is large we are going to look for
  2 volunteers to act as sweepers. Sweepers will walk at the end of the
  hike line and will make sure the group stays together.\n \nHike Lead
 er: David will be leading this hike.\n \nWhat to bring: Hiking boots 
 REQUIRED DUE TO SNOW. 2 Liters of Water (required). Snacks, a light lu
 nch, etc. Toilet paper, tissues, plastic bags for garbage, etc.\n \nI
 nclement Weather: Most heavy precipitation will cancel this hike; driz
 zle/flurries may not. Please check your inbox for updates. Tickets wil
 l be refunded.\n \nHow to find the group: Meet in the dirt parking lo
 t right on Snake Den Rd.  It is a large area and immediately visible 
 from the road so there is no mistaking it.  It will be on the right h
 and side as you are driving up Snake Den Rd. Please arrive on time as 
 we will not wait for latecomers.  Directions: Take Interstate Route 80
  to Exit 37 (Hibernia/Rockaway) and bear left at the end of the ramp. 
 Continue north on Green Pond Road (County Route 513) for 6.5 miles and
  turn right onto Upper Hibernia Road. (If coming from the north, you c
 an take Route 23 to Green Pond Road, head south for 3.7 miles, and tur
 n left onto Upper Hibernia Road.) Follow Upper Hibernia Road for 2.5 m
 iles to the end of the paved portion of the road. Continue ahead for a
  short distance on the gravel road for about 1000 feet until you see a
 n open gravel parking area on the right.  How to find the group: We wi
 ll meet in the parking lot. Please be on time.\n\nFor more information
  visit http://njyp.org/events/hike-norvin-green-in-ringwood-4
DTSTART;TZID=America/New_York:20140308T103000
DTEND;TZID=America/New_York:20140308T133000
CATEGORIES:"passaic county", athletic, pass
LOCATION:Wildcat Ridge Wildlife Management Area
WEBSITE:http://www.nynjtc.org/park/wildcat-ridge-wildlife-management-a
 rea-0
URL:http://www.nynjtc.org/park/wildcat-ridge-wildlife-management-area-
 0
CONTACT:
ORGANIZER;CN="Brian and Mike":http://njyp.org/profile/BrianMike
ATTACH;FMTTYPE="image/jpeg":http://storage.ning.com/topology/rest/1.0/
 file/get/1088704526?profile=original
ATTENDEE;ROLE=REQ-PARTICIPANT;PARTSTAT=ACCEPTED;RSVP=TRUE;CN=Faris:htt
 p://njyp.org/profile/Faris
ATTENDEE;ROLE=REQ-PARTICIPANT;PARTSTAT=ACCEPTED;RSVP=TRUE;CN=Dharm:htt
 p://njyp.org/profile/DharmeshMistry
ATTENDEE;ROLE=REQ-PARTICIPANT;PARTSTAT=ACCEPTED;RSVP=TRUE;CN=Cindy:htt
 p://njyp.org/profile/Cindy265
ATTENDEE;ROLE=REQ-PARTICIPANT;PARTSTAT=ACCEPTED;RSVP=TRUE;CN=Peter:htt
 p://njyp.org/profile/PeterMcDonnell
ATTENDEE;ROLE=REQ-PARTICIPANT;PARTSTAT=ACCEPTED;RSVP=TRUE;CN=Caela:htt
 p://njyp.org/profile/Caela
ATTENDEE;ROLE=REQ-PARTICIPANT;PARTSTAT=ACCEPTED;RSVP=TRUE;CN=John:http
 ://njyp.org/profile/JohnE
ATTENDEE;ROLE=REQ-PARTICIPANT;PARTSTAT=ACCEPTED;RSVP=TRUE;CN=NorthNJDa
 vid:http://njyp.org/profile/NorthNJDavid
ATTENDEE;ROLE=REQ-PARTICIPANT;PARTSTAT=ACCEPTED;RSVP=TRUE;CN="Brian an
 d Mike":http://njyp.org/profile/BrianMike
ATTENDEE;ROLE=REQ-PARTICIPANT;PARTSTAT=TENTATIVE;RSVP=TRUE;CN=James:ht
 tp://njyp.org/profile/JamesShow
ATTENDEE;ROLE=REQ-PARTICIPANT;PARTSTAT=TENTATIVE;RSVP=TRUE;CN=Larry:ht
 tp://njyp.org/profile/LarryYang
ATTENDEE;ROLE=REQ-PARTICIPANT;PARTSTAT=TENTATIVE;RSVP=TRUE;CN="Kevin H
 aughwout":http://njyp.org/profile/KevinHaughwout
END:VEVENT
END:VCALENDAR
