BEGIN:VCALENDAR
PRODID:NingEventWidget-v1
VERSION:2.0
METHOD:PUBLISH
BEGIN:VTIMEZONE
TZID:America/New_York
X-LIC-LOCATION:America/New_York
BEGIN:DAYLIGHT
TZOFFSETFROM:-0500
TZOFFSETTO:-0400
TZNAME:EDT
DTSTART:19700308T020000
RRULE:FREQ=YEARLY;BYMONTH=3;BYDAY=2SU
END:DAYLIGHT
BEGIN:STANDARD
TZOFFSETFROM:-0400
TZOFFSETTO:-0500
TZNAME:EST
DTSTART:19701101T020000
RRULE:FREQ=YEARLY;BYMONTH=11;BYDAY=1SU
END:STANDARD
END:VTIMEZONE
BEGIN:VEVENT
UID:2938326:Event:717545
DTSTAMP:20260419T190551Z
SUMMARY:Hike: Norvin Green in Ringwood
DESCRIPTION:This hike has been postponed from May 7th to May 21st beca
 use of the weather.\n\nCome out and enjoy the spring air with a scenic
 , vigorous hike in the Highlands of NJ.  This hike sports a 360 degre
 e mountain top viewpoint where we can see far-away hills, sparkling re
 servoirs and the NYC skyline as well as a beautiful waterfall (which t
 hanks to a wet winter and spring, should be flowing very nicely!).  W
 e will meet for an optional late lunch after the hike.  Specs: The hik
 e is classified as Moderate to Strenuous (depending on your fitness le
 vel) and is about 6 miles long. The hike should take 3.5 hours. As wi
 th all hikes you must be in good, athletic shape.\nMember Cost:\n$7 fo
 r the first 5 to buy a ticket $10 for the next 6-25 to buy a ticket $2
 0 at the door (so please register online)  Non-Member Cost: $15 online
 , $20 at the door\n\nTickets: There are a limited number of Tickets fo
 r sale. Tickets are not mailed, but your name will be kept at the door
 . Actual hike is subject to change depending on weather conditions, fa
 llen trees, etc. All sales are final.\n Sweeper: If our hiking group 
 is large we might look for 2 volunteers to act as sweepers. Sweepers w
 ill walk at the end of the hike line and will make sure the group stay
 s together.  Hike Leader: David will be leading this hike.  What to b
 ring: Hiking boots and water (both required). Be prepared for mud and 
 water. Snacks, a light lunch, etc. Toilet paper, tissues, plastic bags
  for garbage, etc.  Inclement Weather: Precipitation will cancel this
  hike.  Please check your inbox for updates and the NJYP.org calendar
 . Tickets will be refunded.  How to find the group: Meet in the dirt 
 parking lot right on Snake Den Rd.  It is a large area and immediatel
 y visible from the road so there is no mistaking it.  It will be on t
 he right hand side as you are driving up Snake Den Rd. Please arrive o
 n time as we will not wait for latecomers.  Directions: Take 287 Nort
 h to exit 55.  At the end of the ramp, make a right onto Ringwood Ave
 .  Follow that for 4 miles and make a left onto Westbrook Drive (It w
 ill be just past the Skyline Diner which is on the right side).  Afte
 r about 1.5 miles, you will get to the intersection, bear left.  Afte
 r approx 0.5 miles, turn left onto Snake Den Rd.  Follow that for abo
 ut 0.6 miles to the dirt parking lot on the right, right off the road.
  http://goo.gl/maps/vzve\n\nFor more information visit http://njyp.org
 /events/hike-norvin-green-in-ringwood-5
DTSTART;TZID=America/New_York:20160521T103000
DTEND;TZID=America/New_York:20160521T140000
CATEGORIES:"passaic county", athletic, bbc
LOCATION:Norvin Green State Forest (Weis Ecology Center)
WEBSITE:http://goo.gl/maps/vzve
URL:http://goo.gl/maps/vzve
CONTACT:
ORGANIZER;CN="Brian Melnick":http://njyp.org/profile/Brian1218
ATTACH;FMTTYPE="image/jpeg":http://storage.ning.com/topology/rest/1.0/
 file/get/1088686774?profile=original
ATTENDEE;ROLE=REQ-PARTICIPANT;PARTSTAT=ACCEPTED;RSVP=TRUE;CN=shana:htt
 p://njyp.org/profile/shana
ATTENDEE;ROLE=REQ-PARTICIPANT;PARTSTAT=ACCEPTED;RSVP=TRUE;CN="Brian Me
 lnick":http://njyp.org/profile/Brian1218
ATTENDEE;ROLE=REQ-PARTICIPANT;PARTSTAT=ACCEPTED;RSVP=TRUE;CN=NorthNJDa
 vid:http://njyp.org/profile/NorthNJDavid
ATTENDEE;ROLE=REQ-PARTICIPANT;PARTSTAT=ACCEPTED;RSVP=TRUE;CN="Michael 
 Park":http://njyp.org/profile/MichaelPark
ATTENDEE;ROLE=REQ-PARTICIPANT;PARTSTAT=ACCEPTED;RSVP=TRUE;CN=Samantha:
 http://njyp.org/profile/Samantha478
ATTENDEE;ROLE=REQ-PARTICIPANT;PARTSTAT=ACCEPTED;RSVP=TRUE;CN="Eric Lon
 genecker":http://njyp.org/profile/EricLongenecker
ATTENDEE;ROLE=REQ-PARTICIPANT;PARTSTAT=TENTATIVE;RSVP=TRUE;CN=Michael:
 http://njyp.org/profile/Michael318
ATTENDEE;ROLE=REQ-PARTICIPANT;PARTSTAT=TENTATIVE;RSVP=TRUE;CN=Stefanie
 :http://njyp.org/profile/Stefanie47
ATTENDEE;ROLE=REQ-PARTICIPANT;PARTSTAT=TENTATIVE;RSVP=TRUE;CN=Grace:ht
 tp://njyp.org/profile/Grace24
ATTENDEE;ROLE=REQ-PARTICIPANT;PARTSTAT=TENTATIVE;RSVP=TRUE;CN=Robert:h
 ttp://njyp.org/profile/Robert882
END:VEVENT
END:VCALENDAR
