BEGIN:VCALENDAR
PRODID:NingEventWidget-v1
VERSION:2.0
METHOD:PUBLISH
BEGIN:VTIMEZONE
TZID:America/New_York
X-LIC-LOCATION:America/New_York
BEGIN:DAYLIGHT
TZOFFSETFROM:-0500
TZOFFSETTO:-0400
TZNAME:EDT
DTSTART:19700308T020000
RRULE:FREQ=YEARLY;BYMONTH=3;BYDAY=2SU
END:DAYLIGHT
BEGIN:STANDARD
TZOFFSETFROM:-0400
TZOFFSETTO:-0500
TZNAME:EST
DTSTART:19701101T020000
RRULE:FREQ=YEARLY;BYMONTH=11;BYDAY=1SU
END:STANDARD
END:VTIMEZONE
BEGIN:VEVENT
UID:2938326:Event:608
DTSTAMP:20260422T064844Z
SUMMARY:Hike: Norvin Green
DESCRIPTION:Are you ready to breathe in the Spring air? Then GET OUT a
 nd join us for this moderate hike in the beautiful Norvin Green State 
 Forest. \"This loop hike passes by an old iron mine and climbs to an o
 utstanding 360 degree viewpoint from which the New York City skyline c
 an be seen.\" PLUS you will get to meet other young professionals who 
 enjoy the outdoors.\n\n\nRSVP (to the right) and we will let you know 
 when tix are almost gone, when prices are going up, if there are any c
 hanges, etc.\n\nSpecs:\nThe hike is classified as moderate and is abou
 t 3 miles long.\nThe hike should take 2.5 hours.\nAs with all hikes yo
 u must be in good, athletic shape.\nFull hike description, http://www.
 nynjtc.org/trails/record/020314.html\n\nMember Cost:\n$5 for the first
  10 to buy a ticket\n$10 for the next 11-25 to buy a ticket\n$20 at th
 e door (so please register online)\n\nNon-Member Cost:\n$20 online and
  at the door\n\nPremium Member Cost:\nFREE for Premium Members who reg
 ister online\n\nTickets:\nThere are a limited number of Tickets for sa
 le.\nTickets are not mailed, but your name will be kept at the door.\n
 Actual hike is subject to change depending on weather conditions, fall
 en trees, etc.\nAll sales are final.\n\nSweeper:\nIf our hiking group 
 is large we might look for 2 volunteers to act as sweepers. Sweepers w
 ill walk at the end of the hike line and will make sure the group stay
 s together.\n\nHike Leader:\nNoah will be leading this hike.\n\nWhat t
 o bring:\nHiking boots and water (both required).\nSnacks, a light lun
 ch, etc.\nToilet paper, tissues, plastic bags for garbage, etc.\n\nInc
 lement Weather:\nHeavy precipitation will cancel this hike; drizzle wi
 ll not. Please check your inbox for updates and the NJYP.org calendar.
  Tickets will be refunded.\n\nDirections:\nTake Skyline Drive to its n
 orthwestern end at Greenwood Lake Turnpike (County Route 511). Turn le
 ft and proceed south for 1.6 miles to West Brook Road. Turn right onto
  West Brook Road and cross the Wanaque Reservoir on a narrow causeway.
  At the next T junction, turn left, then take the second left onto Sna
 ke Den Road, following signs to the Weis Ecology Center. Continue for 
 0.6 mile to a large dirt parking area on the right side of the road, j
 ust before the entrance to the Weis Ecology Center.\n\nFor more inform
 ation visit http://njyp.org/events/hike-norvin-green
DTSTART;TZID=America/New_York:20090530T103000
DTEND;TZID=America/New_York:20090530T130000
CATEGORIES:"passaic county", athletic
LOCATION:Norvin Green State Forest
WEBSITE:
URL:
CONTACT:
ORGANIZER;CN="Brian and Mike":http://njyp.org/profile/BrianMike
ATTACH;FMTTYPE="image/jpeg":http://storage.ning.com/topology/rest/1.0/
 file/get/1088519703?profile=original
ATTENDEE;ROLE=REQ-PARTICIPANT;PARTSTAT=ACCEPTED;RSVP=TRUE;CN="Michael 
 Ges":http://njyp.org/profile/MichaelGesumaria
ATTENDEE;ROLE=REQ-PARTICIPANT;PARTSTAT=ACCEPTED;RSVP=TRUE;CN="Amanda G
 oldenberg":http://njyp.org/profile/AmandaGoldenberg
ATTENDEE;ROLE=REQ-PARTICIPANT;PARTSTAT=ACCEPTED;RSVP=TRUE;CN=Simon:htt
 p://njyp.org/profile/Simon
ATTENDEE;ROLE=REQ-PARTICIPANT;PARTSTAT=ACCEPTED;RSVP=TRUE;CN="Christin
 e Berry":http://njyp.org/profile/ChristineBerry
ATTENDEE;ROLE=REQ-PARTICIPANT;PARTSTAT=ACCEPTED;RSVP=TRUE;CN=Noah:http
 ://njyp.org/profile/NoahFine
ATTENDEE;ROLE=REQ-PARTICIPANT;PARTSTAT=ACCEPTED;RSVP=TRUE;CN="Dave B":
 http://njyp.org/profile/daveb
ATTENDEE;ROLE=REQ-PARTICIPANT;PARTSTAT=ACCEPTED;RSVP=TRUE;CN="Jenny M"
 :http://njyp.org/profile/JennyMulcahy
ATTENDEE;ROLE=REQ-PARTICIPANT;PARTSTAT=ACCEPTED;RSVP=TRUE;CN="Heather 
 Sears":http://njyp.org/profile/HeatherSears
ATTENDEE;ROLE=REQ-PARTICIPANT;PARTSTAT=ACCEPTED;RSVP=TRUE;CN=Becky:htt
 p://njyp.org/profile/BeckyCapuano
ATTENDEE;ROLE=REQ-PARTICIPANT;PARTSTAT=ACCEPTED;RSVP=TRUE;CN="Melissa 
 M Hayes":http://njyp.org/profile/MelissaHayes
ATTENDEE;ROLE=REQ-PARTICIPANT;PARTSTAT=ACCEPTED;RSVP=TRUE;CN="Dana Geo
 rge":http://njyp.org/profile/DanaGeorge
ATTENDEE;ROLE=REQ-PARTICIPANT;PARTSTAT=TENTATIVE;RSVP=TRUE;CN="Amanda 
 Taylor":http://njyp.org/profile/AmandaTaylor
ATTENDEE;ROLE=REQ-PARTICIPANT;PARTSTAT=TENTATIVE;RSVP=TRUE;CN=Sarah:ht
 tp://njyp.org/profile/Sarah
ATTENDEE;ROLE=REQ-PARTICIPANT;PARTSTAT=TENTATIVE;RSVP=TRUE;CN=Jon:http
 ://njyp.org/profile/Jon
ATTENDEE;ROLE=REQ-PARTICIPANT;PARTSTAT=TENTATIVE;RSVP=TRUE;CN=Dar:http
 ://njyp.org/profile/Darlene
ATTENDEE;ROLE=REQ-PARTICIPANT;PARTSTAT=TENTATIVE;RSVP=TRUE;CN="Brian a
 nd Mike":http://njyp.org/profile/BrianMike
END:VEVENT
END:VCALENDAR
