BEGIN:VCALENDAR
PRODID:NingEventWidget-v1
VERSION:2.0
METHOD:PUBLISH
BEGIN:VTIMEZONE
TZID:America/New_York
X-LIC-LOCATION:America/New_York
BEGIN:DAYLIGHT
TZOFFSETFROM:-0500
TZOFFSETTO:-0400
TZNAME:EDT
DTSTART:19700308T020000
RRULE:FREQ=YEARLY;BYMONTH=3;BYDAY=2SU
END:DAYLIGHT
BEGIN:STANDARD
TZOFFSETFROM:-0400
TZOFFSETTO:-0500
TZNAME:EST
DTSTART:19701101T020000
RRULE:FREQ=YEARLY;BYMONTH=11;BYDAY=1SU
END:STANDARD
END:VTIMEZONE
BEGIN:VEVENT
UID:2938326:Event:26296
DTSTAMP:20260420T091024Z
SUMMARY:Hike: Ramapo Mountain
DESCRIPTION:Calling those who still want to get outside in spite of th
 e chill in the air! This moderate loop hike will lead us around the sc
 enic Ramapo lake. We will also climb trough the ruins of an old stone 
 castle and take in some panoramic views as well. Hot chocolate afterwa
 rds is optional but strongly encouraged!\n\nSpecs:\nThe hike is classi
 fied as moderate and is about 3.2 miles long.\nThe hike should take 2-
 3 hours.\nAs with all hikes you must be in good, athletic shape.\n\nPo
 st-Hike Lunch and Drinks:\nTraditionally the group goes out together f
 or lunch and drinks after all hikes. Details will be provided at the e
 nd of the hike.\n\n\nRSVP (to the right) and we will let you know when
  tix are almost gone, when prices are going up, if there are any chang
 es, etc.\n\nMember Cost:\n$5 for the first 10 to buy a ticket\n$10 for
  the next 11-25 to buy a ticket\n$20 at the door (so please register o
 nline)\n\nNon-Member Cost:\n$20 online and at the door\n\nTickets:\nTh
 ere are a limited number of Tickets for sale.\nTickets are not mailed,
  but your name will be kept at the door.\nActual hike is subject to ch
 ange depending on weather conditions, fallen trees, etc.\nAll sales ar
 e final.\n\nSweeper:\nIf our hiking group is large we might look for 2
  volunteers to act as sweepers. Sweepers will walk at the end of the h
 ike line and will make sure the group stays together.\n\nHike Leader:\
 nNoah will be leading this hike.\n\nWhat to bring:\nWarm layers that y
 ou can take off and put on easily.\nHiking boots and water (required).
 \nSnacks, a light lunch, etc.\nToilet paper, tissues, plastic bags for
  garbage, etc.\n\nInclement Weather:\nLight rain might not cancel this
  hike. Please check your inbox for updates and the NJYP.org calendar. 
 Tickets will be refunded.\n\nDirections:\nTake Interstate Route 287 to
  Exit 57 (Skyline Drive) and proceed north on Skyline Drive. Just ahea
 d on the left is the Ramapo Mountain State Forest parking area.\n\nFor
  more information visit http://njyp.org/events/hike-ramapo-mountain
DTSTART;TZID=America/New_York:20091205T103000
DTEND;TZID=America/New_York:20091205T133000
CATEGORIES:"passaic county", athletic
LOCATION:Ramapo Mountain State Forest
WEBSITE:
URL:
CONTACT:
ORGANIZER;CN="Brian and Mike":http://njyp.org/profile/BrianMike
ATTACH;FMTTYPE="image/jpeg":http://storage.ning.com/topology/rest/1.0/
 file/get/1088569589?profile=original
ATTENDEE;ROLE=REQ-PARTICIPANT;PARTSTAT=ACCEPTED;RSVP=TRUE;CN="Isaac Be
 arg":http://njyp.org/profile/IsaacBearg
ATTENDEE;ROLE=REQ-PARTICIPANT;PARTSTAT=ACCEPTED;RSVP=TRUE;CN=Elizabeth
 :http://njyp.org/profile/Quirky3
ATTENDEE;ROLE=REQ-PARTICIPANT;PARTSTAT=ACCEPTED;RSVP=TRUE;CN=Drew:http
 ://njyp.org/profile/AndrewCoughlan
ATTENDEE;ROLE=REQ-PARTICIPANT;PARTSTAT=ACCEPTED;RSVP=TRUE;CN="Sarah Mi
 ddleton":http://njyp.org/profile/SarahM
ATTENDEE;ROLE=REQ-PARTICIPANT;PARTSTAT=ACCEPTED;RSVP=TRUE;CN=Avi:http:
 //njyp.org/profile/AviN
ATTENDEE;ROLE=REQ-PARTICIPANT;PARTSTAT=ACCEPTED;RSVP=TRUE;CN="Kristin 
 Kopec":http://njyp.org/profile/KristinKopec
ATTENDEE;ROLE=REQ-PARTICIPANT;PARTSTAT=ACCEPTED;RSVP=TRUE;CN=Noah:http
 ://njyp.org/profile/NoahFine
ATTENDEE;ROLE=REQ-PARTICIPANT;PARTSTAT=ACCEPTED;RSVP=TRUE;CN="Michael 
 Keating":http://njyp.org/profile/MichaelKeating
ATTENDEE;ROLE=REQ-PARTICIPANT;PARTSTAT=ACCEPTED;RSVP=TRUE;CN="Brian an
 d Mike":http://njyp.org/profile/BrianMike
ATTENDEE;ROLE=REQ-PARTICIPANT;PARTSTAT=TENTATIVE;RSVP=TRUE;CN="Melissa
  M Hayes":http://njyp.org/profile/MelissaHayes
ATTENDEE;ROLE=REQ-PARTICIPANT;PARTSTAT=TENTATIVE;RSVP=TRUE;CN="Dana Ge
 orge":http://njyp.org/profile/DanaGeorge
ATTENDEE;ROLE=REQ-PARTICIPANT;PARTSTAT=TENTATIVE;RSVP=TRUE;CN=Jennie:h
 ttp://njyp.org/profile/junglebunnie
ATTENDEE;ROLE=REQ-PARTICIPANT;PARTSTAT=TENTATIVE;RSVP=TRUE;CN=Frank:ht
 tp://njyp.org/profile/FrankAbreu
ATTENDEE;ROLE=REQ-PARTICIPANT;PARTSTAT=TENTATIVE;RSVP=TRUE;CN=Lauren:h
 ttp://njyp.org/profile/Lauren664
ATTENDEE;ROLE=REQ-PARTICIPANT;PARTSTAT=TENTATIVE;RSVP=TRUE;CN=Katherin
 e:http://njyp.org/profile/Katherine
ATTENDEE;ROLE=REQ-PARTICIPANT;PARTSTAT=TENTATIVE;RSVP=TRUE;CN=John:htt
 p://njyp.org/profile/JohnCastro
ATTENDEE;ROLE=REQ-PARTICIPANT;PARTSTAT=TENTATIVE;RSVP=TRUE;CN="Joshua 
 Langweil":http://njyp.org/profile/JoshuaLangweil
END:VEVENT
END:VCALENDAR
