BEGIN:VCALENDAR
PRODID:NingEventWidget-v1
VERSION:2.0
METHOD:PUBLISH
BEGIN:VTIMEZONE
TZID:America/New_York
X-LIC-LOCATION:America/New_York
BEGIN:DAYLIGHT
TZOFFSETFROM:-0500
TZOFFSETTO:-0400
TZNAME:EDT
DTSTART:19700308T020000
RRULE:FREQ=YEARLY;BYMONTH=3;BYDAY=2SU
END:DAYLIGHT
BEGIN:STANDARD
TZOFFSETFROM:-0400
TZOFFSETTO:-0500
TZNAME:EST
DTSTART:19701101T020000
RRULE:FREQ=YEARLY;BYMONTH=11;BYDAY=1SU
END:STANDARD
END:VTIMEZONE
BEGIN:VEVENT
UID:2938326:Event:103931
DTSTAMP:20260420T043619Z
SUMMARY:Hike: Ramapo Reservation for Women Only
DESCRIPTION:Our female only hikes are FOR women and LEAD by women! Exp
 and your girlfriend circle by meeting up with local, young women who e
 njoy the outdoors.\n\nJoin us on this quick fall hike that will take u
 s through the woods, around a lake and past waterfalls. You will get g
 ood fresh air into your lungs and your heart will be pumping! At the e
 nd everyone will venture to a local restaurant for a warm lunch and ho
 t drinks.\n\nSpecs:\nThe hike is classified as easy to moderate and is
  about 2 miles long.\nThe hike should take 1 to 1.5 hours.\nAs with al
 l hikes you must be in good, athletic shape.\n\n\n\nMember Cost:\n$5 f
 or the first 10 to buy a ticket\n$10 for the next 11-25 to buy a ticke
 t\n$20 at the door (so please register online)\n\nNon-Member Cost:\n$2
 0 online and at the door\n\nTickets:\nThere are a limited number of Ti
 ckets for sale.\nTickets are not mailed, but your name will be kept at
  the door.\nActual hike is subject to change depending on weather cond
 itions, fallen trees, etc.\nAll sales are final.\n\nSweeper:\nIf the g
 roup size is larger than 10, we are going to look for a volunteer to a
 ct as a sweeper. Sweepers will walk at the end of the hike line and wi
 ll make sure the group stays together.\n\nHike Leader:\nJenn will be l
 eading this hike.\nJenn will not be waiting for late comers. In fairne
 ss to those who arrive on time, the hike will start on time.\n\nWhat t
 o bring:\nHiking boots are required.\nPlease bring 2 liters of water a
 s well (yes, it is just as easy to dehydrate in the cold).\nPlease dre
 ss in layers that are not made out of cotton if it is cold. Cotton, wh
 en wet, does not dry and can make you feel much colder. Synthetic fibe
 r outdoor wear is always ideal in all weather conditions and all seaso
 ns.\nConsider bringing a snack as well if you may get hungry while hik
 ing.\n\nInclement Weather:\nPrecipitation may cancel this hike. Please
  check your inbox for updates and the NJYP.org calendar. Tickets will 
 be refunded.\n\nDirections:\nThe entrance to the reservation is on Rou
 te 202 (Ramapo Valley Road), about two miles south of Route 17.\nUse t
 his MAP to see the parking lot, http://maps.google.com/maps/ms?ie=UTF8
 &hl=en&t=h&msa=0&msid=103695821160177810439.0004620ba912f990aa08f&ll=4
 1.079295,-74.187691&spn=0.002426,0.003219&z=17&source=embed\n\nFor mor
 e information visit http://njyp.org/events/hike-ramapo-reservation-for
DTSTART;TZID=America/New_York:20101016T103000
DTEND;TZID=America/New_York:20101016T120000
CATEGORIES:"bergen county", "women only", athletic
LOCATION:Ramapo Valley County Reservation
WEBSITE:http://maps.google.com/maps/ms?ie=UTF8&hl=en&t=h&msa=0&msid=10
 3695821160177810439.0004620ba912f990aa08f&ll=41.079295,-74.187691&spn=
 0.002426,0.003219&z=17&source=embed
URL:http://maps.google.com/maps/ms?ie=UTF8&hl=en&t=h&msa=0&msid=103695
 821160177810439.0004620ba912f990aa08f&ll=41.079295,-74.187691&spn=0.00
 2426,0.003219&z=17&source=embed
CONTACT:
ORGANIZER;CN="Brian and Mike":http://njyp.org/profile/BrianMike
ATTACH;FMTTYPE="image/jpeg":http://storage.ning.com/topology/rest/1.0/
 file/get/1088646153?profile=original
ATTENDEE;ROLE=REQ-PARTICIPANT;PARTSTAT=ACCEPTED;RSVP=TRUE;CN="Keri F-S
 ":http://njyp.org/profile/KeriF
ATTENDEE;ROLE=REQ-PARTICIPANT;PARTSTAT=ACCEPTED;RSVP=TRUE;CN=Lena:http
 ://njyp.org/profile/Lena493
ATTENDEE;ROLE=REQ-PARTICIPANT;PARTSTAT=ACCEPTED;RSVP=TRUE;CN=Tara:http
 ://njyp.org/profile/TaraMorey
ATTENDEE;ROLE=REQ-PARTICIPANT;PARTSTAT=ACCEPTED;RSVP=TRUE;CN="Brian an
 d Mike":http://njyp.org/profile/BrianMike
ATTENDEE;ROLE=REQ-PARTICIPANT;PARTSTAT=TENTATIVE;RSVP=TRUE;CN=nicole:h
 ttp://njyp.org/profile/nicole16
ATTENDEE;ROLE=REQ-PARTICIPANT;PARTSTAT=TENTATIVE;RSVP=TRUE;CN=Tamara:h
 ttp://njyp.org/profile/Tamara227
ATTENDEE;ROLE=REQ-PARTICIPANT;PARTSTAT=TENTATIVE;RSVP=TRUE;CN="Janet S
 tevens":http://njyp.org/profile/JanetStevens
ATTENDEE;ROLE=REQ-PARTICIPANT;PARTSTAT=TENTATIVE;RSVP=TRUE;CN=Rebecca:
 http://njyp.org/profile/Rebecca
ATTENDEE;ROLE=REQ-PARTICIPANT;PARTSTAT=TENTATIVE;RSVP=TRUE;CN=Catherin
 e:http://njyp.org/profile/Catherine949
ATTENDEE;ROLE=REQ-PARTICIPANT;PARTSTAT=TENTATIVE;RSVP=TRUE;CN=Sandy:ht
 tp://njyp.org/profile/Sandy
ATTENDEE;ROLE=REQ-PARTICIPANT;PARTSTAT=TENTATIVE;RSVP=TRUE;CN="Cindy L
 in":http://njyp.org/profile/CindyLin
END:VEVENT
END:VCALENDAR
