BEGIN:VCALENDAR
PRODID:NingEventWidget-v1
VERSION:2.0
METHOD:PUBLISH
BEGIN:VTIMEZONE
TZID:America/New_York
X-LIC-LOCATION:America/New_York
BEGIN:DAYLIGHT
TZOFFSETFROM:-0500
TZOFFSETTO:-0400
TZNAME:EDT
DTSTART:19700308T020000
RRULE:FREQ=YEARLY;BYMONTH=3;BYDAY=2SU
END:DAYLIGHT
BEGIN:STANDARD
TZOFFSETFROM:-0400
TZOFFSETTO:-0500
TZNAME:EST
DTSTART:19701101T020000
RRULE:FREQ=YEARLY;BYMONTH=11;BYDAY=1SU
END:STANDARD
END:VTIMEZONE
BEGIN:VEVENT
UID:2938326:Event:177444
DTSTAMP:20260419T222426Z
SUMMARY:Hike: Round Valley Ramble
DESCRIPTION:Sometimes called the “Bermuda Triangle of New Jersey”,
  the Round Valley Reservoir was created in the 1960s and is the deepes
 t body of water in New Jersey at 180 feet.  Surrounding the three-mil
 e-long, two-mile-wide reservoir is the 1,288-acre Round Valley Recreat
 ion Area.  Join us as we ramble over a portion of the rugged Cushetun
 k Trail that encircles the reservoir.  We will meet in the South Park
 ing Lot at the Cushetunk Trail trailhead before beginning our adventur
 e.  After the hike the group may go out for drinks and a late lunch (
 always a great time).\n \n\nMember Cost:\n$5 for the first 5\n$10 for
  the next 6 to 25\n$20 at the door\n \nNon-Member Cost:\n$20 online a
 nd at the door.\n \nTickets:\nThere are a limited number of tickets f
 or sale. Tickets are not mailed, but your name will be kept at the doo
 r. All sales are final.\n \nSpecs:\nThe hike is classified as moderat
 e and includes several steep climbs.\nWe will hike 6 - 7 miles over a 
 4 hour period.  \nAs with all hikes you must be in good, athletic sh
 ape.\n \nSweeper:\nIf the group size is larger than 10,  we are goin
 g to look for a volunteer to act as a sweeper. Sweepers will walk at t
 he end of the hike line and will make sure the group stays together.\n
  \nHike Leader:\nKeira will be leading this hike.\n \nWhat to bring:
 \nHiking boots and at least 2 liters of water (required). \nWe will s
 top for lunch/snack about half way through the hike so we recommend yo
 u bring something to eat.\nWe also recommend tissues, plastic bags for
  garbage, and similar items.\n \nInclement Weather:\nHeavy precipitat
 ion will cancel this hike; drizzle will not. Please check your inbox f
 or updates and the NJYP.org calendar. Tickets will be refunded.\n \nF
 inding the Group:\nMeet in the South Parking Lot PROMPTLY at 10:30.  
 Please allow extra travel time as many of these parks are harder to fi
 nd and we cannot wait for those who get lost.\n \nDirections:\nVia Go
 ogle Maps - http://maps.google.com/maps?f=q&source=s_q&hl=en&geocode=&
 q=1220+Lebanon-Stanton+Road+Lebanon,+NJ+08833-3115&sll=-1.900316,-72.8
 98807&sspn=43.537336,86.572266&ie=UTF8&hq=&hnear=1220+Stanton+Lebanon+
 Rd,+Lebanon,+New+Jersey+08833&z=16\n \nFrom I-78 West: take Exit 20A 
 (Lebanon).  Merge onto Cokesbury Road and continue ahead to US 22.  
 Turn right onto US 22 West.  In 0.7 mile, take the jughandle turn ont
 o County Road 629/Lebanon-Stanton Road (there will be a sign for the r
 ecreation area at the jughandle). Continue ahead for 1.4 miles, passin
 g the boat launch area, and a left turn into the main park entrance. 
  In the park, follow the signs to the South Parking Lot.  We will mee
 t in the South Parking Lot.\n \nUseful links:\nhttp://www.state.nj.us
 /dep/parksandforests/parks/round.html\n\nFor more information visit ht
 tp://njyp.org/events/hike-round-valley-ramble
DTSTART;TZID=America/New_York:20110507T103000
DTEND;TZID=America/New_York:20110507T143000
CATEGORIES:"hunterdon county", "somerset county", athletic
LOCATION:Round Valley Recreation Area
WEBSITE:http://www.state.nj.us/dep/parksandforests/parks/round.html
URL:http://www.state.nj.us/dep/parksandforests/parks/round.html
CONTACT:
ORGANIZER;CN="Brian and Mike":http://njyp.org/profile/BrianMike
ATTACH;FMTTYPE="image/jpeg":http://storage.ning.com/topology/rest/1.0/
 file/get/1088691804?profile=original
ATTENDEE;ROLE=REQ-PARTICIPANT;PARTSTAT=ACCEPTED;RSVP=TRUE;CN=Chris:htt
 p://njyp.org/profile/Chris356
ATTENDEE;ROLE=REQ-PARTICIPANT;PARTSTAT=ACCEPTED;RSVP=TRUE;CN=Jonathan:
 http://njyp.org/profile/Jonathan
ATTENDEE;ROLE=REQ-PARTICIPANT;PARTSTAT=ACCEPTED;RSVP=TRUE;CN="Jennifer
  Redmond":http://njyp.org/profile/JenniferRedmond
ATTENDEE;ROLE=REQ-PARTICIPANT;PARTSTAT=ACCEPTED;RSVP=TRUE;CN="Stefanie
  Lampf":http://njyp.org/profile/StefanieLampf
ATTENDEE;ROLE=REQ-PARTICIPANT;PARTSTAT=ACCEPTED;RSVP=TRUE;CN=Heather:h
 ttp://njyp.org/profile/HeatherJCS
ATTENDEE;ROLE=REQ-PARTICIPANT;PARTSTAT=ACCEPTED;RSVP=TRUE;CN=Douglas:h
 ttp://njyp.org/profile/Douglas657
ATTENDEE;ROLE=REQ-PARTICIPANT;PARTSTAT=ACCEPTED;RSVP=TRUE;CN=Robert:ht
 tp://njyp.org/profile/Robert367
ATTENDEE;ROLE=REQ-PARTICIPANT;PARTSTAT=ACCEPTED;RSVP=TRUE;CN=Rachel:ht
 tp://njyp.org/profile/Rachel385
ATTENDEE;ROLE=REQ-PARTICIPANT;PARTSTAT=ACCEPTED;RSVP=TRUE;CN=Alessandr
 a:http://njyp.org/profile/AlessandraDeCicco
ATTENDEE;ROLE=REQ-PARTICIPANT;PARTSTAT=ACCEPTED;RSVP=TRUE;CN="Brian Ph
 illips":http://njyp.org/profile/BrianPhillips
ATTENDEE;ROLE=REQ-PARTICIPANT;PARTSTAT=ACCEPTED;RSVP=TRUE;CN=Jenn:http
 ://njyp.org/profile/Jenn583
ATTENDEE;ROLE=REQ-PARTICIPANT;PARTSTAT=ACCEPTED;RSVP=TRUE;CN=Cyrielle:
 http://njyp.org/profile/Cyrielle
ATTENDEE;ROLE=REQ-PARTICIPANT;PARTSTAT=ACCEPTED;RSVP=TRUE;CN=Keira:htt
 p://njyp.org/profile/Keira
ATTENDEE;ROLE=REQ-PARTICIPANT;PARTSTAT=ACCEPTED;RSVP=TRUE;CN="Brian an
 d Mike":http://njyp.org/profile/BrianMike
ATTENDEE;ROLE=REQ-PARTICIPANT;PARTSTAT=TENTATIVE;RSVP=TRUE;CN="Jon Ber
 rian":http://njyp.org/profile/JonBerrian
ATTENDEE;ROLE=REQ-PARTICIPANT;PARTSTAT=TENTATIVE;RSVP=TRUE;CN=Digant:h
 ttp://njyp.org/profile/Digant
ATTENDEE;ROLE=REQ-PARTICIPANT;PARTSTAT=TENTATIVE;RSVP=TRUE;CN=Crystal:
 http://njyp.org/profile/Crystal244
ATTENDEE;ROLE=REQ-PARTICIPANT;PARTSTAT=TENTATIVE;RSVP=TRUE;CN=Jennifer
 :http://njyp.org/profile/Jennifer426
ATTENDEE;ROLE=REQ-PARTICIPANT;PARTSTAT=TENTATIVE;RSVP=TRUE;CN="Jo-Ann 
 West":http://njyp.org/profile/JoAnnWest
ATTENDEE;ROLE=REQ-PARTICIPANT;PARTSTAT=TENTATIVE;RSVP=TRUE;CN=Adrienne
 :http://njyp.org/profile/Adrienne
ATTENDEE;ROLE=REQ-PARTICIPANT;PARTSTAT=TENTATIVE;RSVP=TRUE;CN=Laavanya
 :http://njyp.org/profile/LaavanyaPasupuleti
ATTENDEE;ROLE=REQ-PARTICIPANT;PARTSTAT=TENTATIVE;RSVP=TRUE;CN=akhtar:h
 ttp://njyp.org/profile/nasser
ATTENDEE;ROLE=REQ-PARTICIPANT;PARTSTAT=TENTATIVE;RSVP=TRUE;CN=Jamie:ht
 tp://njyp.org/profile/Jamie341
ATTENDEE;ROLE=REQ-PARTICIPANT;PARTSTAT=TENTATIVE;RSVP=TRUE;CN=Amanda:h
 ttp://njyp.org/profile/Amanda710
ATTENDEE;ROLE=REQ-PARTICIPANT;PARTSTAT=TENTATIVE;RSVP=TRUE;CN=Jennifer
 :http://njyp.org/profile/Jennifer234
ATTENDEE;ROLE=REQ-PARTICIPANT;PARTSTAT=TENTATIVE;RSVP=TRUE;CN=Robert:h
 ttp://njyp.org/profile/Robert882
END:VEVENT
END:VCALENDAR
