BEGIN:VCALENDAR
PRODID:NingEventWidget-v1
VERSION:2.0
METHOD:PUBLISH
BEGIN:VTIMEZONE
TZID:America/New_York
X-LIC-LOCATION:America/New_York
BEGIN:DAYLIGHT
TZOFFSETFROM:-0500
TZOFFSETTO:-0400
TZNAME:EDT
DTSTART:19700308T020000
RRULE:FREQ=YEARLY;BYMONTH=3;BYDAY=2SU
END:DAYLIGHT
BEGIN:STANDARD
TZOFFSETFROM:-0400
TZOFFSETTO:-0500
TZNAME:EST
DTSTART:19701101T020000
RRULE:FREQ=YEARLY;BYMONTH=11;BYDAY=1SU
END:STANDARD
END:VTIMEZONE
BEGIN:VEVENT
UID:2938326:Event:662
DTSTAMP:20260420T055830Z
SUMMARY:Hike: Sandy Hook Beach and Historical Hike
DESCRIPTION:Nestled at the tip of Monmouth County is true New Jersey g
 em! Almost completely surrounded by water, Sandy Hook is much more tha
 n one of New Jersey's most popular beaches. The combination of beach d
 unes, holly trees, saltwater marshes, coastal defense ruins, a ninetee
 nth-century fort, and a historic lighthouse make this trip one not to 
 miss! After our adventure, we will optionally go out to eat / socializ
 e.\n\n\nRSVP (to the right) and we will let you know when tix are almo
 st gone, when prices are going up, if there are any changes, etc.\n\nN
 ote: David will not be waiting for late people. In fairness to those w
 ho arrive on time, he will be starting the hike on time.\n\nSpecs:\nTh
 e hike is classified as easy to moderate and should last 4 hours.\nThe
  total length of the hike will be about 6.5 miles long and we will wal
 k at an easy pace. The actual mileage may vary depending on people's i
 nterests.\nThis hike is good for beginners who are in good athletic sh
 ape!\n\nBasic Member Cost:\n$10 in advance\n$20 at the door\n\nPremium
  Member Cost:\nFREE for Premium Members but please register online.\n\
 nTickets:\nThere are a limited number of Tickets for sale.\nTickets ar
 e not mailed, but your name will be kept at the door.\nActual hike is 
 subject to change depending on weather conditions, fallen trees, etc.\
 nAll sales are final.\n\nSweeper:\nIf the group size is larger than 10
 , we are going to look for a volunteer to act as a sweeper. Sweepers w
 ill walk at the end of the hike line and will make sure the group stay
 s together.\n\nHike Leader:\nDavid will be leading this hike.\n\nWhat 
 to bring:\nHiking boots and water (required). Hiking boots will help k
 eep the sand out of your feet when hiking as the trail is a mix of har
 d surface and sandy surface. We will stop for a light lunch / snack at
  the picnic area so we recommend you bring something to eat.\n\nInclem
 ent Weather:\nHeavy precipitation will cancel this hike; drizzle will 
 not. Please check your inbox for updates and the NJYP.org calendar. Ti
 ckets will be refunded.\n\nDirections:\nTake GSP to exit 117. Keep lef
 t onto RT 36. Follow RT 36 for approx 14 miles until you cross the bri
 dge (you will be able to se the ocean at this point). At the light jus
 t after the bridge, make a left onto Hartshorne Drive. Follow that unt
 il you see the sign for the Visitor's center, however you should park 
 at Beach/Lot D just before the visitor's center.\n\nHow to find the gr
 oup:\nMeet in the Visitor's Center Parking lot.\n\nFor more informatio
 n visit http://njyp.org/events/hike-sandy-hook-beach-and
DTSTART;TZID=America/New_York:20090517T103000
DTEND;TZID=America/New_York:20090517T143000
CATEGORIES:"monmouth county", athletic
LOCATION:Sandy Hook Visitor's Center
WEBSITE:http://maps.google.com/maps?f=q&source=s_q&hl=en&geocode=&q=ha
 rtshorne+drive,+highlands,+nj&sll=40.432576,-74.179387&sspn=0.024891,0
 .034332&ie=UTF8&z=14&iwloc=addr
URL:http://maps.google.com/maps?f=q&source=s_q&hl=en&geocode=&q=hartsh
 orne+drive,+highlands,+nj&sll=40.432576,-74.179387&sspn=0.024891,0.034
 332&ie=UTF8&z=14&iwloc=addr
CONTACT:
ORGANIZER;CN="Brian and Mike":http://njyp.org/profile/BrianMike
ATTACH;FMTTYPE="image/jpeg":http://storage.ning.com/topology/rest/1.0/
 file/get/1088519956?profile=original
ATTENDEE;ROLE=REQ-PARTICIPANT;PARTSTAT=ACCEPTED;RSVP=TRUE;CN=NorthNJDa
 vid:http://njyp.org/profile/NorthNJDavid
ATTENDEE;ROLE=REQ-PARTICIPANT;PARTSTAT=ACCEPTED;RSVP=TRUE;CN=Elizabeth
 :http://njyp.org/profile/Quirky3
ATTENDEE;ROLE=REQ-PARTICIPANT;PARTSTAT=ACCEPTED;RSVP=TRUE;CN=Jon:http:
 //njyp.org/profile/Jon
ATTENDEE;ROLE=REQ-PARTICIPANT;PARTSTAT=ACCEPTED;RSVP=TRUE;CN="Ankur Go
 el":http://njyp.org/profile/AnkurGoel
ATTENDEE;ROLE=REQ-PARTICIPANT;PARTSTAT=ACCEPTED;RSVP=TRUE;CN=Dharm:htt
 p://njyp.org/profile/DharmeshMistry
ATTENDEE;ROLE=REQ-PARTICIPANT;PARTSTAT=ACCEPTED;RSVP=TRUE;CN="Christop
 her Dingman":http://njyp.org/profile/ChristopherDingman
ATTENDEE;ROLE=REQ-PARTICIPANT;PARTSTAT=ACCEPTED;RSVP=TRUE;CN="laura id
 en":http://njyp.org/profile/lauraiden
ATTENDEE;ROLE=REQ-PARTICIPANT;PARTSTAT=TENTATIVE;RSVP=TRUE;CN="Karl  A
  Kraus":http://njyp.org/profile/KarlAKraus
ATTENDEE;ROLE=REQ-PARTICIPANT;PARTSTAT=TENTATIVE;RSVP=TRUE;CN="Peter E
 skow":http://njyp.org/profile/PeterEskow
END:VEVENT
END:VCALENDAR
