BEGIN:VCALENDAR
PRODID:NingEventWidget-v1
VERSION:2.0
METHOD:PUBLISH
BEGIN:VTIMEZONE
TZID:America/New_York
X-LIC-LOCATION:America/New_York
BEGIN:DAYLIGHT
TZOFFSETFROM:-0500
TZOFFSETTO:-0400
TZNAME:EDT
DTSTART:19700308T020000
RRULE:FREQ=YEARLY;BYMONTH=3;BYDAY=2SU
END:DAYLIGHT
BEGIN:STANDARD
TZOFFSETFROM:-0400
TZOFFSETTO:-0500
TZNAME:EST
DTSTART:19701101T020000
RRULE:FREQ=YEARLY;BYMONTH=11;BYDAY=1SU
END:STANDARD
END:VTIMEZONE
BEGIN:VEVENT
UID:2938326:Event:92224
DTSTAMP:20260420T123152Z
SUMMARY:Hike: Sandy Hook
DESCRIPTION:Nestled at the tip of Monmouth County is true New Jersey g
 em! Almost completely surrounded by water, Sandy Hook is much more tha
 n one of New Jersey’s most popular beaches. The combination of beach
  dunes, holly trees, saltwater marshes, coastal defense ruins, a ninet
 eenth-century fort, and a historic lighthouse make this trip one not t
 o miss. And as per tradition, the group will go out for local eats pos
 t-hike.\n\n\n\nSpecs:\nThe hike is classified as easy to moderate.\nTh
 e total length of the hike will be about 6 miles long and we will walk
  at an easy pace. The actual mileage may vary depending on people’s 
 interests.\nThis hike is good for beginners who are in good athletic s
 hape!\nThe hike should take about 4 hours.\n\nSweeper:\nIf the group s
 ize is larger than 10, we are going to look for a volunteer to act as 
 a sweeper. Sweepers will walk at the end of the hike line and will mak
 e sure the group stays together.\n\nHike Leader:\nDavid will be leadin
 g this hike.\nDavid will not be waiting for late people. In fairness t
 o those who arrive on time, he will be starting the hike on time.\n\nW
 hat to bring:\nHiking boots (recommended) and water (required).\nHikin
 g boots will help keep the sand out of your feet when hiking as the tr
 ail is a mix of hard surface and sandy surface.\nYou may want to bring
  long pants due to some poison ivy close to the trail.\nWe will stop f
 or a light lunch / snack at the picnic area so we recommend you bring 
 something to eat.\n\nTickets:\nAll sales are final. No need to print t
 ickets; your name will be at the door.\n\nInclement Weather:\nHeavy pr
 ecipitation will cancel this hike; drizzle will not. Please check your
  inbox for updates and the NJYP.org calendar. Tickets will be refunded
 .\n\nDirections:\nTake GSP to exit 117. Keep left onto RT 36. Follow R
 T 36 for approx 14 miles until you cross the bridge (you will be able 
 to se the ocean at this point). At the light just after the bridge, ma
 ke a right onto Hartshorne Drive (construction has been ongoing and th
 e traffic pattern has changed a few times recently so be prepared to m
 ake a left at the light if necessary). Follow that until you see the s
 ign for Beach/Lot D just before the visitor’s center. When you turn 
 into the lot for beach D, make a left and go straight to the corner.\n
 \nFor reference, we have also included a link to google maps: http://m
 aps.google.com/maps?f=q&source=s_q&hl=en&geocode=&q=hartshorne+drive,+
 highlands,+nj&sll=40.432576,-74.179387&sspn=0.024891,0.034332&ie=UTF8&
 z=14&iwloc=addr\n\nFor more information visit http://njyp.org/events/h
 ike-sandy-hook
DTSTART;TZID=America/New_York:20100919T103000
DTEND;TZID=America/New_York:20100919T150000
CATEGORIES:"monmouth county", athletic
LOCATION:Corner of Sandy Hook Beach / Lot D
WEBSITE:http://maps.google.com/maps?f=q&source=s_q&hl=en&geocode=&q=ha
 rtshorne+drive,+highlands,+nj&sll=40.432576,-74.179387&sspn=0.024891,0
 .034332&ie=UTF8&z=14&iwloc=addr
URL:http://maps.google.com/maps?f=q&source=s_q&hl=en&geocode=&q=hartsh
 orne+drive,+highlands,+nj&sll=40.432576,-74.179387&sspn=0.024891,0.034
 332&ie=UTF8&z=14&iwloc=addr
CONTACT:
ORGANIZER;CN="Brian and Mike":http://njyp.org/profile/BrianMike
ATTACH;FMTTYPE="image/jpeg":http://storage.ning.com/topology/rest/1.0/
 file/get/1088632525?profile=original
ATTENDEE;ROLE=REQ-PARTICIPANT;PARTSTAT=ACCEPTED;RSVP=TRUE;CN=Adam:http
 ://njyp.org/profile/Adam
ATTENDEE;ROLE=REQ-PARTICIPANT;PARTSTAT=ACCEPTED;RSVP=TRUE;CN=Alane:htt
 p://njyp.org/profile/Alane
ATTENDEE;ROLE=REQ-PARTICIPANT;PARTSTAT=ACCEPTED;RSVP=TRUE;CN="Christop
 her Dingman":http://njyp.org/profile/ChristopherDingman
ATTENDEE;ROLE=REQ-PARTICIPANT;PARTSTAT=ACCEPTED;RSVP=TRUE;CN="Vincent 
 Pittaro":http://njyp.org/profile/VincentPittaroJr
ATTENDEE;ROLE=REQ-PARTICIPANT;PARTSTAT=ACCEPTED;RSVP=TRUE;CN="Melanie 
 Wische":http://njyp.org/profile/MelanieWische
ATTENDEE;ROLE=REQ-PARTICIPANT;PARTSTAT=ACCEPTED;RSVP=TRUE;CN=Chris:htt
 p://njyp.org/profile/ce
ATTENDEE;ROLE=REQ-PARTICIPANT;PARTSTAT=ACCEPTED;RSVP=TRUE;CN=Keira:htt
 p://njyp.org/profile/Keira
ATTENDEE;ROLE=REQ-PARTICIPANT;PARTSTAT=ACCEPTED;RSVP=TRUE;CN=Ilona:htt
 p://njyp.org/profile/Ilona
ATTENDEE;ROLE=REQ-PARTICIPANT;PARTSTAT=ACCEPTED;RSVP=TRUE;CN=Amy:http:
 //njyp.org/profile/Amy
ATTENDEE;ROLE=REQ-PARTICIPANT;PARTSTAT=ACCEPTED;RSVP=TRUE;CN=Zhenya:ht
 tp://njyp.org/profile/ZhenyaKucsma
ATTENDEE;ROLE=REQ-PARTICIPANT;PARTSTAT=ACCEPTED;RSVP=TRUE;CN=Carmela:h
 ttp://njyp.org/profile/Carmela
ATTENDEE;ROLE=REQ-PARTICIPANT;PARTSTAT=ACCEPTED;RSVP=TRUE;CN=Nancy:htt
 p://njyp.org/profile/Nancy744
ATTENDEE;ROLE=REQ-PARTICIPANT;PARTSTAT=ACCEPTED;RSVP=TRUE;CN="Rob M":h
 ttp://njyp.org/profile/RobM
ATTENDEE;ROLE=REQ-PARTICIPANT;PARTSTAT=ACCEPTED;RSVP=TRUE;CN=David:htt
 p://njyp.org/profile/DavidCosaboom
ATTENDEE;ROLE=REQ-PARTICIPANT;PARTSTAT=ACCEPTED;RSVP=TRUE;CN=David:htt
 p://njyp.org/profile/David847
ATTENDEE;ROLE=REQ-PARTICIPANT;PARTSTAT=ACCEPTED;RSVP=TRUE;CN=Chris:htt
 p://njyp.org/profile/Chris303
ATTENDEE;ROLE=REQ-PARTICIPANT;PARTSTAT=ACCEPTED;RSVP=TRUE;CN=Sheryl:ht
 tp://njyp.org/profile/Sheryl
ATTENDEE;ROLE=REQ-PARTICIPANT;PARTSTAT=ACCEPTED;RSVP=TRUE;CN=Claudia:h
 ttp://njyp.org/profile/Claudia
ATTENDEE;ROLE=REQ-PARTICIPANT;PARTSTAT=ACCEPTED;RSVP=TRUE;CN=NorthNJDa
 vid:http://njyp.org/profile/NorthNJDavid
ATTENDEE;ROLE=REQ-PARTICIPANT;PARTSTAT=ACCEPTED;RSVP=TRUE;CN="Brian an
 d Mike":http://njyp.org/profile/BrianMike
ATTENDEE;ROLE=REQ-PARTICIPANT;PARTSTAT=TENTATIVE;RSVP=TRUE;CN=Erin:htt
 p://njyp.org/profile/ErinSullivan
ATTENDEE;ROLE=REQ-PARTICIPANT;PARTSTAT=TENTATIVE;RSVP=TRUE;CN=Robert:h
 ttp://njyp.org/profile/Robert367
ATTENDEE;ROLE=REQ-PARTICIPANT;PARTSTAT=TENTATIVE;RSVP=TRUE;CN="Michell
 e V.":http://njyp.org/profile/Michelle
ATTENDEE;ROLE=REQ-PARTICIPANT;PARTSTAT=TENTATIVE;RSVP=TRUE;CN=Megan:ht
 tp://njyp.org/profile/Margaret107
ATTENDEE;ROLE=REQ-PARTICIPANT;PARTSTAT=TENTATIVE;RSVP=TRUE;CN=Michael:
 http://njyp.org/profile/Michael520
ATTENDEE;ROLE=REQ-PARTICIPANT;PARTSTAT=TENTATIVE;RSVP=TRUE;CN=Juli:htt
 p://njyp.org/profile/Juli
ATTENDEE;ROLE=REQ-PARTICIPANT;PARTSTAT=TENTATIVE;RSVP=TRUE;CN=Tamara:h
 ttp://njyp.org/profile/Tamara227
ATTENDEE;ROLE=REQ-PARTICIPANT;PARTSTAT=TENTATIVE;RSVP=TRUE;CN=Elizabet
 h:http://njyp.org/profile/Quirky3
ATTENDEE;ROLE=REQ-PARTICIPANT;PARTSTAT=TENTATIVE;RSVP=TRUE;CN="Lesley 
 Scheibner":http://njyp.org/profile/LesleyScheibner
ATTENDEE;ROLE=REQ-PARTICIPANT;PARTSTAT=TENTATIVE;RSVP=TRUE;CN=Hope:htt
 p://njyp.org/profile/Hope
ATTENDEE;ROLE=REQ-PARTICIPANT;PARTSTAT=TENTATIVE;RSVP=TRUE;CN=Jessica:
 http://njyp.org/profile/Jessica0707
ATTENDEE;ROLE=REQ-PARTICIPANT;PARTSTAT=TENTATIVE;RSVP=TRUE;CN="Marisa 
 Nogueira":http://njyp.org/profile/Marisa
ATTENDEE;ROLE=REQ-PARTICIPANT;PARTSTAT=TENTATIVE;RSVP=TRUE;CN=Patricia
 :http://njyp.org/profile/TrishaOSha
ATTENDEE;ROLE=REQ-PARTICIPANT;PARTSTAT=TENTATIVE;RSVP=TRUE;CN=Shaun:ht
 tp://njyp.org/profile/Shaun_R_Miller
ATTENDEE;ROLE=REQ-PARTICIPANT;PARTSTAT=TENTATIVE;RSVP=TRUE;CN=Sandy:ht
 tp://njyp.org/profile/Sandy
ATTENDEE;ROLE=REQ-PARTICIPANT;PARTSTAT=TENTATIVE;RSVP=TRUE;CN=Jess:htt
 p://njyp.org/profile/Jess
ATTENDEE;ROLE=REQ-PARTICIPANT;PARTSTAT=TENTATIVE;RSVP=TRUE;CN="Tara Bu
 rns":http://njyp.org/profile/TaraBurns
ATTENDEE;ROLE=REQ-PARTICIPANT;PARTSTAT=TENTATIVE;RSVP=TRUE;CN=James:ht
 tp://njyp.org/profile/JamesShow
ATTENDEE;ROLE=REQ-PARTICIPANT;PARTSTAT=TENTATIVE;RSVP=TRUE;CN="james m
 ikusi":http://njyp.org/profile/jimbox
ATTENDEE;ROLE=REQ-PARTICIPANT;PARTSTAT=TENTATIVE;RSVP=TRUE;CN="Jennife
 r Redmond":http://njyp.org/profile/JenniferRedmond
ATTENDEE;ROLE=REQ-PARTICIPANT;PARTSTAT=TENTATIVE;RSVP=TRUE;CN="Ann Vos
 s":http://njyp.org/profile/AnnVoss
ATTENDEE;ROLE=REQ-PARTICIPANT;PARTSTAT=TENTATIVE;RSVP=TRUE;CN=Ardavan:
 http://njyp.org/profile/Ardavan
ATTENDEE;ROLE=REQ-PARTICIPANT;PARTSTAT=TENTATIVE;RSVP=TRUE;CN="Sarah M
 iddleton":http://njyp.org/profile/SarahM
ATTENDEE;ROLE=REQ-PARTICIPANT;PARTSTAT=TENTATIVE;RSVP=TRUE;CN=Jennifer
 :http://njyp.org/profile/Jennifer234
ATTENDEE;ROLE=REQ-PARTICIPANT;PARTSTAT=TENTATIVE;RSVP=TRUE;CN=Luke:htt
 p://njyp.org/profile/Luke
ATTENDEE;ROLE=REQ-PARTICIPANT;PARTSTAT=TENTATIVE;RSVP=TRUE;CN=Jessica:
 http://njyp.org/profile/JessicaNatalizio
ATTENDEE;ROLE=REQ-PARTICIPANT;PARTSTAT=TENTATIVE;RSVP=TRUE;CN=Laavanya
 :http://njyp.org/profile/LaavanyaPasupuleti
ATTENDEE;ROLE=REQ-PARTICIPANT;PARTSTAT=TENTATIVE;RSVP=TRUE;CN=Keith:ht
 tp://njyp.org/profile/Keith
END:VEVENT
END:VCALENDAR
