BEGIN:VCALENDAR
PRODID:NingEventWidget-v1
VERSION:2.0
METHOD:PUBLISH
BEGIN:VTIMEZONE
TZID:America/New_York
X-LIC-LOCATION:America/New_York
BEGIN:DAYLIGHT
TZOFFSETFROM:-0500
TZOFFSETTO:-0400
TZNAME:EDT
DTSTART:19700308T020000
RRULE:FREQ=YEARLY;BYMONTH=3;BYDAY=2SU
END:DAYLIGHT
BEGIN:STANDARD
TZOFFSETFROM:-0400
TZOFFSETTO:-0500
TZNAME:EST
DTSTART:19701101T020000
RRULE:FREQ=YEARLY;BYMONTH=11;BYDAY=1SU
END:STANDARD
END:VTIMEZONE
BEGIN:VEVENT
UID:2938326:Event:367339
DTSTAMP:20260420T002358Z
SUMMARY:Hike: Schooley's Out for the Summer!
DESCRIPTION:Schooley's Mountain Park was once Camp Washington, Â a YMC
 A camp until the 1950's. Â Today, this Morris County park offers multi
 ple activities and beautiful scenery. Â We'll hike a 4 mile loop aroun
 d the park, taking in waterfalls and a lookout across the valley. Â Af
 terward, the group may go for a late lunch and drinks...totally option
 al but always fun!\nÂ \nMember Cost:\n$5 for the first 5\n$10 for the 
 next 6 to 25\n$20 at the door\nÂ \nNon-Member Cost:\n$20 online and at
  the door.\nÂ \nTickets:\nThere are a limited number of tickets for sa
 le. Tickets are not mailed, but your name will be kept at the door. Al
 l sales are final.\nÂ \nSpecs:\nThe hike is classified as moderate.\nL
 ength of the hike is about 4 miles long and we will walk at a moderate
  pace.Â \nThe hike should take about 2.5 hours. Â \nAs with all hikes 
 you must be in good, athletic shape.\nÂ \nSweeper:\nIf the group size 
 is large we are going to look for a volunteer to act as a sweeper. Swe
 epers will walk at the end of the hike line and will make sure the gro
 up stays together.\nÂ \nHike Leader:\nKeira will be leading this hike.
  She will make sure the hike starts on time so please arrive on time.\
 nÂ \nWhat to bring:\nWater (required).\nHiking boots and bug spray rec
 ommended.\nA light snack.\nÂ \nInclement Weather:\nHeavy precipitation
  will cancel this hike; drizzle will not. Please check your inbox for 
 updates and the NJYP.org calendar. Tickets will be refunded.\nÂ \nDire
 ctions:\nÂ \nFrom Southern Points: From I-287 North, take Exit 22B to 
 merger onto US 202/US 206 North toward Bedminster. Â In 1.3 miles, kee
 p left on US 206 North. Â Continue 8.8 miles on US 206 North into Ches
 ter. Â Turn left onto West Main Street/County Route 513 (formerly desi
 gnated as N.J. Route 24) and follow it for 4.5 miles. Â Turn right ont
 o Schooly's Mountain Road. Â Continue 0.8 miles on Schooley's Mountain
  Road, then turn right onto Camp Washington Road. Â Continue 0.7 miles
  on Camp Washington Road, then turn right onto East Springtown Road. Â
  The entrance to the park will be on the right in 0.3 miles. Â Continu
 e into the park to the farthest parking lot; the group will meet in th
 e southwest corner of the lot.\nÂ \nFrom Northern Points: Take I- 80 W
 est to Exit 27A and continue south on US Route 206 for 8.0 miles. Turn
  right onto County Route 513 (formerly designated as N.J. Route 24) an
 d follow the directions above.\nÂ \nGoogle Maps link:\nÂ  http://maps.
 google.com/maps?f=q&q=40.801888,-74.782246%20%28Electric%20Brook,%20Lo
 ng%20Valley,%20NJ%20%2007853,%20United%20States%29\n\nFor more informa
 tion visit http://njyp.org/events/hike-schooley-s-out-for-the-summer-1
DTSTART;TZID=America/New_York:20120624T103000
DTEND;TZID=America/New_York:20120624T130000
CATEGORIES:"morris county", athletic
LOCATION:Schooley's Mountain County Park
WEBSITE:
URL:
CONTACT:
ORGANIZER;CN="Brian and Mike":http://njyp.org/profile/BrianMike
ATTACH;FMTTYPE="image/jpeg":http://storage.ning.com/topology/rest/1.0/
 file/get/1088789471?profile=original
ATTENDEE;ROLE=REQ-PARTICIPANT;PARTSTAT=ACCEPTED;RSVP=TRUE;CN="Brian an
 d Mike":http://njyp.org/profile/BrianMike
END:VEVENT
END:VCALENDAR
