BEGIN:VCALENDAR
PRODID:NingEventWidget-v1
VERSION:2.0
METHOD:PUBLISH
BEGIN:VTIMEZONE
TZID:America/New_York
X-LIC-LOCATION:America/New_York
BEGIN:DAYLIGHT
TZOFFSETFROM:-0500
TZOFFSETTO:-0400
TZNAME:EDT
DTSTART:19700308T020000
RRULE:FREQ=YEARLY;BYMONTH=3;BYDAY=2SU
END:DAYLIGHT
BEGIN:STANDARD
TZOFFSETFROM:-0400
TZOFFSETTO:-0500
TZNAME:EST
DTSTART:19701101T020000
RRULE:FREQ=YEARLY;BYMONTH=11;BYDAY=1SU
END:STANDARD
END:VTIMEZONE
BEGIN:VEVENT
UID:2938326:Event:375680
DTSTAMP:20260420T021728Z
SUMMARY:Hike: Schunemunk Mountain 8 Mile
DESCRIPTION:Campmor has ranked it one of the top 10 hikes in the Nort
 heast.  Now is your chance to see if they are right. This challenging
  hike will take us 8 miles up, down, over, and across a breathtaking m
 ountain. Afterward the group will go out to eat up, drink up, and talk
  up the day's adventure.   Member Cost: $10 for the first 5 to buy a t
 icket $15 for the next 6 to 20 to buy a ticket $40 at the door (so ple
 ase register online)  Non-Member Cost: $40 online and at the door  Spe
 cs: The hike is classified as strenuous. Anyone attempting this hike s
 hould be in good physical shape - the first half mile contains a 500 f
 t ascent. Length of the hike is about 8 miles long and we will walk at
  a moderate pace. The hike should take about 5.5 - 6 hours. As with al
 l hikes you must be in good, athletic shape.  Sweeper: If the group si
 ze is large we are going to look for a volunteer to act as a sweeper. 
 Sweepers will walk at the end of the hike line and will make sure the 
 group stays together.  Hike Leader: Keira will be leading this hike. S
 he will make sure the hike starts on time so please arrive on time.  W
 hat to bring: A minimum of 2 liters of water (required). Hiking boots 
 are required. Bug spray and sun block are highly recommended. Bring lu
 nch - we will stop for a good break at the megaliths  midway through
  the hike.  Inclement Weather: Heavy precipitation will cancel this hi
 ke; drizzle will not. Please check your inbox for updates and the NJYP
 .org calendar. Tickets will be refunded.  Driving Directions Take the 
 New York State Thruway to Exit 16 (Harriman). Proceed west on N.Y. Rou
 te 17 to Exit 130, and continue north on N.Y. Route 208 for 2.7 miles.
  Just past the Blooming Grove Plaza shopping center, bear right at the
  fork onto Clove Road (County Route 27). In 4.4 miles, turn right onto
  Otterkill Road and proceed for 0.7 mile to a trailhead parking area o
 n the left side of the road.  Google Maps Link: Address (approximate) 
 is 250 Otterkill Road, New Windsor, NY. You’ll be a little east on t
 he road from the parking area if you put this in a GPS, so here’s a 
 more exact link.\nhttp://maps.google.com/maps/ms?msid=2006453495857376
 15825.000466e5f78b8acb5b9ae&msa=0&ll=41.425881%2C-74.100994&spn=0.0010
 92%2C0.002642&iwloc=000466e6129670256d1c8\n\nFor more information visi
 t http://njyp.org/events/hike-schunemunk-mountain-8-mile
DTSTART;TZID=America/New_York:20120908T103000
DTEND;TZID=America/New_York:20120908T163000
CATEGORIES:athletic
LOCATION:Schunemunk Mountain State Park
WEBSITE:http://maps.google.com/maps/ms?msid=200645349585737615825.0004
 66e5f78b8acb5b9ae&msa=0&ll=41.425881%2C-74.100994&spn=0.001092%2C0.002
 642&iwloc=000466e6129670256d1c8
URL:http://maps.google.com/maps/ms?msid=200645349585737615825.000466e5
 f78b8acb5b9ae&msa=0&ll=41.425881%2C-74.100994&spn=0.001092%2C0.002642&
 iwloc=000466e6129670256d1c8
CONTACT:
ORGANIZER;CN="Brian and Mike":http://njyp.org/profile/BrianMike
ATTACH;FMTTYPE="image/jpeg":http://storage.ning.com/topology/rest/1.0/
 file/get/1088800263?profile=original
ATTENDEE;ROLE=REQ-PARTICIPANT;PARTSTAT=ACCEPTED;RSVP=TRUE;CN=Jerry:htt
 p://njyp.org/profile/Jerry299
ATTENDEE;ROLE=REQ-PARTICIPANT;PARTSTAT=ACCEPTED;RSVP=TRUE;CN=Brian:htt
 p://njyp.org/profile/Brian905
ATTENDEE;ROLE=REQ-PARTICIPANT;PARTSTAT=ACCEPTED;RSVP=TRUE;CN=Patricia:
 http://njyp.org/profile/TrishaOSha
ATTENDEE;ROLE=REQ-PARTICIPANT;PARTSTAT=ACCEPTED;RSVP=TRUE;CN=Kiran:htt
 p://njyp.org/profile/Kiran
ATTENDEE;ROLE=REQ-PARTICIPANT;PARTSTAT=ACCEPTED;RSVP=TRUE;CN=Kristan:h
 ttp://njyp.org/profile/Kristan
ATTENDEE;ROLE=REQ-PARTICIPANT;PARTSTAT=ACCEPTED;RSVP=TRUE;CN=Lydia:htt
 p://njyp.org/profile/Lydia
ATTENDEE;ROLE=REQ-PARTICIPANT;PARTSTAT=ACCEPTED;RSVP=TRUE;CN=Amanda:ht
 tp://njyp.org/profile/Amanda560
ATTENDEE;ROLE=REQ-PARTICIPANT;PARTSTAT=ACCEPTED;RSVP=TRUE;CN="Jeff Kal
 ison":http://njyp.org/profile/JeffKalison
ATTENDEE;ROLE=REQ-PARTICIPANT;PARTSTAT=ACCEPTED;RSVP=TRUE;CN="Louis C.
  Hochman":http://njyp.org/profile/LouisCHochman
ATTENDEE;ROLE=REQ-PARTICIPANT;PARTSTAT=ACCEPTED;RSVP=TRUE;CN=Samhitha:
 http://njyp.org/profile/Samhitha
ATTENDEE;ROLE=REQ-PARTICIPANT;PARTSTAT=ACCEPTED;RSVP=TRUE;CN=Larry:htt
 p://njyp.org/profile/LarryYang
ATTENDEE;ROLE=REQ-PARTICIPANT;PARTSTAT=ACCEPTED;RSVP=TRUE;CN=Anagha:ht
 tp://njyp.org/profile/Anagha
ATTENDEE;ROLE=REQ-PARTICIPANT;PARTSTAT=ACCEPTED;RSVP=TRUE;CN=Colleen:h
 ttp://njyp.org/profile/Colleen
ATTENDEE;ROLE=REQ-PARTICIPANT;PARTSTAT=ACCEPTED;RSVP=TRUE;CN=Diana:htt
 p://njyp.org/profile/Diana19
ATTENDEE;ROLE=REQ-PARTICIPANT;PARTSTAT=ACCEPTED;RSVP=TRUE;CN=Keira:htt
 p://njyp.org/profile/Keira
ATTENDEE;ROLE=REQ-PARTICIPANT;PARTSTAT=ACCEPTED;RSVP=TRUE;CN=NorthNJDa
 vid:http://njyp.org/profile/NorthNJDavid
ATTENDEE;ROLE=REQ-PARTICIPANT;PARTSTAT=ACCEPTED;RSVP=TRUE;CN="Brian an
 d Mike":http://njyp.org/profile/BrianMike
ATTENDEE;ROLE=REQ-PARTICIPANT;PARTSTAT=TENTATIVE;RSVP=TRUE;CN=Amanda:h
 ttp://njyp.org/profile/Amanda710
ATTENDEE;ROLE=REQ-PARTICIPANT;PARTSTAT=TENTATIVE;RSVP=TRUE;CN="Kevin H
 aughwout":http://njyp.org/profile/KevinHaughwout
ATTENDEE;ROLE=REQ-PARTICIPANT;PARTSTAT=TENTATIVE;RSVP=TRUE;CN=Cassie:h
 ttp://njyp.org/profile/Cassie427
ATTENDEE;ROLE=REQ-PARTICIPANT;PARTSTAT=TENTATIVE;RSVP=TRUE;CN=Zee:http
 ://njyp.org/profile/Zee
ATTENDEE;ROLE=REQ-PARTICIPANT;PARTSTAT=TENTATIVE;RSVP=TRUE;CN=Brad:htt
 p://njyp.org/profile/Brad704
ATTENDEE;ROLE=REQ-PARTICIPANT;PARTSTAT=TENTATIVE;RSVP=TRUE;CN="rachel 
 irene":http://njyp.org/profile/rachel_irene
ATTENDEE;ROLE=REQ-PARTICIPANT;PARTSTAT=TENTATIVE;RSVP=TRUE;CN=Raj:http
 ://njyp.org/profile/Raj516
ATTENDEE;ROLE=REQ-PARTICIPANT;PARTSTAT=TENTATIVE;RSVP=TRUE;CN=Pooja:ht
 tp://njyp.org/profile/Pooja
END:VEVENT
END:VCALENDAR
