BEGIN:VCALENDAR
PRODID:NingEventWidget-v1
VERSION:2.0
METHOD:PUBLISH
BEGIN:VTIMEZONE
TZID:America/New_York
X-LIC-LOCATION:America/New_York
BEGIN:DAYLIGHT
TZOFFSETFROM:-0500
TZOFFSETTO:-0400
TZNAME:EDT
DTSTART:19700308T020000
RRULE:FREQ=YEARLY;BYMONTH=3;BYDAY=2SU
END:DAYLIGHT
BEGIN:STANDARD
TZOFFSETFROM:-0400
TZOFFSETTO:-0500
TZNAME:EST
DTSTART:19701101T020000
RRULE:FREQ=YEARLY;BYMONTH=11;BYDAY=1SU
END:STANDARD
END:VTIMEZONE
BEGIN:VEVENT
UID:2938326:Event:668
DTSTAMP:20260420T060046Z
SUMMARY:Hike: Skylands Hike and Tour
DESCRIPTION:This event will start with a short tour of the grounds sur
 rounding the Skylands Manor. We will then explore the lavish array of 
 flowers in the majestic NJ Botanical Gardens. After we have had our fi
 ll of the sweet aromas we will cross the lush fields and into the trai
 ls beyond. Our hike up to Bear Swamp lake will be about 6 miles and is
  suitable for beginners. It will, however, begin with a tough climb th
 at will bring us to an amazing view of the Skylands Estate with the Wa
 naque Reservoir and rolling mountains off in the distance. The hike do
 esn't end there but you'll have to attend to find out more.\n\n\nRSVP 
 (to the right) and we will let you know when tix are almost gone, when
  prices are going up, if there are any changes, etc.\n\nWho should att
 end:\nAll experience levels may attend but you must be in good, athlet
 ic shape.\nThe hike is classified as easy to moderate and is about 6 m
 iles long.\nThe entire event will last about 4 hours.\n\n*** 25 Ticket
 s Available ***\n\nBasic Member Cost:\n$10 in advance\n$20 at the door
  (only if there is space left)\n\nPremium Member Cost:\n$5 in advance\
 n$15 at the door (only if there is space left)\n\nTickets:\nThere are 
 a limited number of Tickets for sale.\nTickets are not mailed, but you
 r name will be kept at the door.\nActual hike is subject to change dep
 ending on weather conditions, fallen trees, etc.\nAll sales are final.
 \n\nSweeper:\nAt the hike we are going to look for 2 volunteers to act
  as sweepers if the group is large. Sweepers will walk at the end of t
 he hike line and will make sure the group stays together.\n\nHike Lead
 er:\nNoah will be leading this hike.\n\nWhat to bring:\nHiking boots a
 nd water (required).\nSnacks, a light lunch.\nA camera, sunglasses, su
 nscreen.\n\nInclement Weather:\nLight rain may not cancel this hike. P
 lease check your inbox for updates and the NJYP.org calendar. Tickets 
 will be refunded if there is heavy rain.\n\nDirections:\nClick Here\n\
 nParking:\nPark in Parking Lot A as seen on this map, Click Here.\n\nH
 ow to find the group:\nMeet in Parking Lot A. If Lot A is full park in
  another lot and walk over to A.\n\nFor more information visit http://
 njyp.org/events/hike-skylands-hike-and-tour
DTSTART;TZID=America/New_York:20090516T103000
DTEND;TZID=America/New_York:20090516T150000
CATEGORIES:"passaic county", athletic
LOCATION:Skylands Manor and Botanical Gardens
WEBSITE:http://www.njbg.org/pdf/NJBG-map-0703.pdf
URL:http://www.njbg.org/pdf/NJBG-map-0703.pdf
CONTACT:
ORGANIZER;CN="Brian and Mike":http://njyp.org/profile/BrianMike
ATTACH;FMTTYPE="image/jpeg":http://storage.ning.com/topology/rest/1.0/
 file/get/1088520047?profile=original
ATTENDEE;ROLE=REQ-PARTICIPANT;PARTSTAT=ACCEPTED;RSVP=TRUE;CN="Joshua C
 hermak":http://njyp.org/profile/JoshuaChermak
ATTENDEE;ROLE=REQ-PARTICIPANT;PARTSTAT=ACCEPTED;RSVP=TRUE;CN="Olga Ch"
 :http://njyp.org/profile/OlgaChaban
ATTENDEE;ROLE=REQ-PARTICIPANT;PARTSTAT=ACCEPTED;RSVP=TRUE;CN=Paul:http
 ://njyp.org/profile/Paul
ATTENDEE;ROLE=REQ-PARTICIPANT;PARTSTAT=ACCEPTED;RSVP=TRUE;CN="Christop
 her Dingman":http://njyp.org/profile/ChristopherDingman
ATTENDEE;ROLE=REQ-PARTICIPANT;PARTSTAT=TENTATIVE;RSVP=TRUE;CN="Dave B"
 :http://njyp.org/profile/daveb
ATTENDEE;ROLE=REQ-PARTICIPANT;PARTSTAT=TENTATIVE;RSVP=TRUE;CN=Lizzie:h
 ttp://njyp.org/profile/ElizabethKuhns
ATTENDEE;ROLE=REQ-PARTICIPANT;PARTSTAT=TENTATIVE;RSVP=TRUE;CN=Kirsten:
 http://njyp.org/profile/KirstenSwanson
ATTENDEE;ROLE=REQ-PARTICIPANT;PARTSTAT=TENTATIVE;RSVP=TRUE;CN="Tony Pa
 nariello":http://njyp.org/profile/TonyPanariello
END:VEVENT
END:VCALENDAR
