BEGIN:VCALENDAR
PRODID:NingEventWidget-v1
VERSION:2.0
METHOD:PUBLISH
BEGIN:VTIMEZONE
TZID:America/New_York
X-LIC-LOCATION:America/New_York
BEGIN:DAYLIGHT
TZOFFSETFROM:-0500
TZOFFSETTO:-0400
TZNAME:EDT
DTSTART:19700308T020000
RRULE:FREQ=YEARLY;BYMONTH=3;BYDAY=2SU
END:DAYLIGHT
BEGIN:STANDARD
TZOFFSETFROM:-0400
TZOFFSETTO:-0500
TZNAME:EST
DTSTART:19701101T020000
RRULE:FREQ=YEARLY;BYMONTH=11;BYDAY=1SU
END:STANDARD
END:VTIMEZONE
BEGIN:VEVENT
UID:2938326:Event:330737
DTSTAMP:20260420T021622Z
SUMMARY:Hike: South Mountain Climb
DESCRIPTION:In the heart of Suburbia lies a beautiful piece of land se
 t aside for us to explore.  While it is in the middle of Millburn, We
 st Orange and South Orange, you would never know after just a few minu
 tes of hiking within!  Witness 2 waterfalls, giant Rhododendrons and 
 a pretty riverside walk as part of the adventure. Afterward those who 
 have worked up an appetite will head out for lunch together.  Specs: T
 he hike is classified as moderate with some uphill and downhill parts.
  Total length is 5 miles and will take about 3 hours. Pace will be mod
 erate. As with all hikes you must be in reasonable athletic shape.\n \
 n Member Cost: $5 for the first 5 $10 for the next 6 to 25 $20 at the 
 door  Non-Member Cost: $20 online and at the door.  Tickets: There are
  a limited number of Tickets for sale. Tickets are not mailed, but you
 r name will be kept at the door. Actual hike is subject to change depe
 nding on weather conditions, fallen trees, etc. All sales are final.  
 Sweeper: If the group is large we are going to look for 2 volunteers t
 o act as sweepers. Sweepers will walk at the end of the hike line and 
 will make sure the group stays together.  Hike Leader: David will be l
 eading this hike.  What to bring: Hiking boots or sneakers 2 Liters of
  Water (required). Snacks, a light lunch, etc. Toilet paper, tissues, 
 plastic bags for garbage, etc.  Inclement Weather: Most heavy precipit
 ation will cancel this hike; drizzle may not. Please check your inbox 
 for updates. Tickets will be refunded.  Directions: Take 280 West unti
 l exit 10 (West Orange / Northfield Ave). At the end of the ramp, make
  a left onto Northfield Ave. Follow for approx 2.4 miles and bear righ
 t just past the dunkin donuts on the right hand side (you’ll see a s
 ign that shows an arrow pointing to right saying Verona, and it’s a 
 1 way street).  Follow that 1 way to the end and make a left.    T
 hat will put you on Cherry Lane.  Follow that for almost a mile and t
 hen look for the Tulip Springs parking area sign on the left hand side
  of the road.  Pull into the 2nd parking area, about 200 feet to the 
 right after you turn in.  http://maps.google.com/maps?q=40.756181,-74.
 291525&num=1&sll=40.757756,-74.291723&sspn=0.006295,0.006295&ie=UTF8&l
 l=40.757756,-74.291723&spn=0.012044,0.014141&z=16&iwloc=A  How to find
  the group: Meet in the 2nd parking lot.  When you turn off the main 
 road into the Tulip Springs parking area, the 2nd lot is to the right 
 about 200 ft. We will not wait for latecomers.\n\nFor more information
  visit http://njyp.org/events/hike-south-mountain-climb-1
DTSTART;TZID=America/New_York:20120407T103000
DTEND;TZID=America/New_York:20120407T133000
CATEGORIES:"essex county", athletic, bbc
LOCATION:South Mountain
WEBSITE:http://maps.google.com/maps?q=40.756181,-74.291525&num=1&sll=4
 0.757756,-74.291723&sspn=0.006295,0.006295&ie=UTF8&ll=40.757756,-74.29
 1723&spn=0.012044,0.014141&z=16&iwloc=A
URL:http://maps.google.com/maps?q=40.756181,-74.291525&num=1&sll=40.75
 7756,-74.291723&sspn=0.006295,0.006295&ie=UTF8&ll=40.757756,-74.291723
 &spn=0.012044,0.014141&z=16&iwloc=A
CONTACT:
ORGANIZER;CN="Brian and Mike":http://njyp.org/profile/BrianMike
ATTACH;FMTTYPE="image/jpeg":http://storage.ning.com/topology/rest/1.0/
 file/get/1088704526?profile=original
ATTENDEE;ROLE=REQ-PARTICIPANT;PARTSTAT=ACCEPTED;RSVP=TRUE;CN=Diana:htt
 p://njyp.org/profile/Diana19
ATTENDEE;ROLE=REQ-PARTICIPANT;PARTSTAT=ACCEPTED;RSVP=TRUE;CN=Larry:htt
 p://njyp.org/profile/LarryYang
ATTENDEE;ROLE=REQ-PARTICIPANT;PARTSTAT=ACCEPTED;RSVP=TRUE;CN=Karen:htt
 p://njyp.org/profile/Karen367
ATTENDEE;ROLE=REQ-PARTICIPANT;PARTSTAT=ACCEPTED;RSVP=TRUE;CN="Samir A.
  Shah":http://njyp.org/profile/SamirAShah
ATTENDEE;ROLE=REQ-PARTICIPANT;PARTSTAT=ACCEPTED;RSVP=TRUE;CN=Eric:http
 ://njyp.org/profile/Eric980
ATTENDEE;ROLE=REQ-PARTICIPANT;PARTSTAT=ACCEPTED;RSVP=TRUE;CN=Phillip:h
 ttp://njyp.org/profile/Phillip725
ATTENDEE;ROLE=REQ-PARTICIPANT;PARTSTAT=ACCEPTED;RSVP=TRUE;CN=Jen:http:
 //njyp.org/profile/Jen438
ATTENDEE;ROLE=REQ-PARTICIPANT;PARTSTAT=ACCEPTED;RSVP=TRUE;CN=Brianna:h
 ttp://njyp.org/profile/Brianna
ATTENDEE;ROLE=REQ-PARTICIPANT;PARTSTAT=ACCEPTED;RSVP=TRUE;CN=Faris:htt
 p://njyp.org/profile/Faris
ATTENDEE;ROLE=REQ-PARTICIPANT;PARTSTAT=ACCEPTED;RSVP=TRUE;CN="Gregory 
 Egan":http://njyp.org/profile/GregoryEgan
ATTENDEE;ROLE=REQ-PARTICIPANT;PARTSTAT=ACCEPTED;RSVP=TRUE;CN=Pamela:ht
 tp://njyp.org/profile/Pamela791
ATTENDEE;ROLE=REQ-PARTICIPANT;PARTSTAT=ACCEPTED;RSVP=TRUE;CN=Diana:htt
 p://njyp.org/profile/Diana437
ATTENDEE;ROLE=REQ-PARTICIPANT;PARTSTAT=ACCEPTED;RSVP=TRUE;CN=Peter:htt
 p://njyp.org/profile/PeterMcDonnell
ATTENDEE;ROLE=REQ-PARTICIPANT;PARTSTAT=ACCEPTED;RSVP=TRUE;CN=Dejan:htt
 p://njyp.org/profile/Dejan
ATTENDEE;ROLE=REQ-PARTICIPANT;PARTSTAT=ACCEPTED;RSVP=TRUE;CN=Amanda:ht
 tp://njyp.org/profile/Amanda710
ATTENDEE;ROLE=REQ-PARTICIPANT;PARTSTAT=ACCEPTED;RSVP=TRUE;CN=NorthNJDa
 vid:http://njyp.org/profile/NorthNJDavid
ATTENDEE;ROLE=REQ-PARTICIPANT;PARTSTAT=ACCEPTED;RSVP=TRUE;CN="Brian an
 d Mike":http://njyp.org/profile/BrianMike
ATTENDEE;ROLE=REQ-PARTICIPANT;PARTSTAT=TENTATIVE;RSVP=TRUE;CN=Kevin:ht
 tp://njyp.org/profile/Kevin84
ATTENDEE;ROLE=REQ-PARTICIPANT;PARTSTAT=TENTATIVE;RSVP=TRUE;CN=Matthew:
 http://njyp.org/profile/Matthew32
ATTENDEE;ROLE=REQ-PARTICIPANT;PARTSTAT=TENTATIVE;RSVP=TRUE;CN=Avi:http
 ://njyp.org/profile/Avi556
ATTENDEE;ROLE=REQ-PARTICIPANT;PARTSTAT=TENTATIVE;RSVP=TRUE;CN="Hermeli
 nda Saez":http://njyp.org/profile/HermelindaSaez
ATTENDEE;ROLE=REQ-PARTICIPANT;PARTSTAT=TENTATIVE;RSVP=TRUE;CN=Maxine:h
 ttp://njyp.org/profile/Maxine
ATTENDEE;ROLE=REQ-PARTICIPANT;PARTSTAT=TENTATIVE;RSVP=TRUE;CN="Jessica
  Gill":http://njyp.org/profile/JessicaGill
ATTENDEE;ROLE=REQ-PARTICIPANT;PARTSTAT=TENTATIVE;RSVP=TRUE;CN="Mike Ma
 s":http://njyp.org/profile/MikeMas
ATTENDEE;ROLE=REQ-PARTICIPANT;PARTSTAT=TENTATIVE;RSVP=TRUE;CN=John:htt
 p://njyp.org/profile/JohnE
ATTENDEE;ROLE=REQ-PARTICIPANT;PARTSTAT=TENTATIVE;RSVP=TRUE;CN=Mike:htt
 p://njyp.org/profile/Mike220
ATTENDEE;ROLE=REQ-PARTICIPANT;PARTSTAT=TENTATIVE;RSVP=TRUE;CN=Jennifer
 :http://njyp.org/profile/Jennifer234
ATTENDEE;ROLE=REQ-PARTICIPANT;PARTSTAT=TENTATIVE;RSVP=TRUE;CN="Nelly G
 alan":http://njyp.org/profile/NellyGalan
END:VEVENT
END:VCALENDAR
