BEGIN:VCALENDAR
PRODID:NingEventWidget-v1
VERSION:2.0
METHOD:PUBLISH
BEGIN:VTIMEZONE
TZID:America/New_York
X-LIC-LOCATION:America/New_York
BEGIN:DAYLIGHT
TZOFFSETFROM:-0500
TZOFFSETTO:-0400
TZNAME:EDT
DTSTART:19700308T020000
RRULE:FREQ=YEARLY;BYMONTH=3;BYDAY=2SU
END:DAYLIGHT
BEGIN:STANDARD
TZOFFSETFROM:-0400
TZOFFSETTO:-0500
TZNAME:EST
DTSTART:19701101T020000
RRULE:FREQ=YEARLY;BYMONTH=11;BYDAY=1SU
END:STANDARD
END:VTIMEZONE
BEGIN:VEVENT
UID:2938326:Event:423407
DTSTAMP:20260420T222913Z
SUMMARY:Hike: South Mountain Climb
DESCRIPTION:In the heart of Suburbia lies a beautiful piece of land se
 t aside for us to explore.  While it is in the middle of Millburn, We
 st Orange and South Orange, you would never know after just a few minu
 tes of hiking within!  Witness 2 waterfalls, giant Rhododendrons and 
 a pretty riverside walk as part of the adventure. Afterward those who 
 have worked up an appetite will head out for lunch together. Specs: Th
 e hike is classified as moderate with some uphill and downhill parts. 
 Total length is 5 miles and will take about 3 hours. Pace will be mode
 rate. As with all hikes you must be in reasonable athletic shape.\n Me
 mber Cost: $5 for the first 5 $10 for the next 6 to 25 $20 at the door
  Non-Member Cost: $20 online and at the door.\n \nAre you a Sideliner
  or Player? Go here for ticket discount info,http://www.njyp.org/group
 /the-better-body-challenge-2013\n Tickets: There are a limited number 
 of Tickets for sale. Tickets are not mailed, but your name will be kep
 t at the door. Actual hike is subject to change depending on weather c
 onditions, fallen trees, etc. All sales are final. Sweeper: If the gro
 up is large we are going to look for 2 volunteers to act as sweepers. 
 Sweepers will walk at the end of the hike line and will make sure the 
 group stays together. Hike Leader: David will be leading this hike. Wh
 at to bring: Hiking boots or sneakers 2 Liters of Water (required). Sn
 acks, a light lunch, etc. Toilet paper, tissues, plastic bags for garb
 age, etc. Inclement Weather: Most heavy precipitation will cancel this
  hike; drizzle may not. Please check your inbox for updates. Tickets w
 ill be refunded. Directions: Take 280 West until exit 10 (West Orange 
 / Northfield Ave). At the end of the ramp, make a left onto Northfield
  Ave. Follow for approx 2.4 miles and bear right just past the dunkin 
 donuts on the right hand side (you’ll see a sign that shows an arrow
  pointing to right saying Verona, and it’s a 1 way street).  Follow
  that 1 way to the end and make a left.    That will put you on Che
 rry Lane.  Follow that for almost a mile and then look for the Tulip 
 Springs parking area sign on the left hand side of the road.  Pull in
 to the 2nd parking area, about 200 feet to the right after you turn in
 . http://maps.google.com/maps?q=40.756181,-74.291525&num=1&sll=40.7577
 56,-74.291723&sspn=0.006295,0.006295&ie=UTF8&ll=40.757756,-74.291723&s
 pn=0.012044,0.014141&z=16&iwloc=A How to find the group: Meet in the 2
 nd parking lot.  When you turn off the main road into the Tulip Sprin
 gs parking area, the 2nd lot is to the right about 200 ft. We will not
  wait for latecomers.\n\nFor more information visit http://njyp.org/ev
 ents/hike-south-mountain-climb-2
DTSTART;TZID=America/New_York:20130407T103000
DTEND;TZID=America/New_York:20130407T133000
CATEGORIES:"essex county", athletic, bbc
LOCATION:South Mountain
WEBSITE:http://maps.google.com/maps?q=40.756181,-74.291525&num=1&sll=4
 0.757756,-74.291723&sspn=0.006295,0.006295&ie=UTF8&ll=40.757756,-74.29
 1723&spn=0.012044,0.014141&z=16&iwloc=A
URL:http://maps.google.com/maps?q=40.756181,-74.291525&num=1&sll=40.75
 7756,-74.291723&sspn=0.006295,0.006295&ie=UTF8&ll=40.757756,-74.291723
 &spn=0.012044,0.014141&z=16&iwloc=A
CONTACT:
ORGANIZER;CN="Brian and Mike":http://njyp.org/profile/BrianMike
ATTACH;FMTTYPE="image/jpeg":http://storage.ning.com/topology/rest/1.0/
 file/get/1088704526?profile=original
ATTENDEE;ROLE=REQ-PARTICIPANT;PARTSTAT=ACCEPTED;RSVP=TRUE;CN=Amy:http:
 //njyp.org/profile/Amy665
ATTENDEE;ROLE=REQ-PARTICIPANT;PARTSTAT=ACCEPTED;RSVP=TRUE;CN=Marcus:ht
 tp://njyp.org/profile/MGarf
ATTENDEE;ROLE=REQ-PARTICIPANT;PARTSTAT=ACCEPTED;RSVP=TRUE;CN=Sau:http:
 //njyp.org/profile/Sau
ATTENDEE;ROLE=REQ-PARTICIPANT;PARTSTAT=ACCEPTED;RSVP=TRUE;CN=Tara:http
 ://njyp.org/profile/Tara158
ATTENDEE;ROLE=REQ-PARTICIPANT;PARTSTAT=ACCEPTED;RSVP=TRUE;CN=Matt:http
 ://njyp.org/profile/Matt841
ATTENDEE;ROLE=REQ-PARTICIPANT;PARTSTAT=ACCEPTED;RSVP=TRUE;CN=Larry:htt
 p://njyp.org/profile/LarryYang
ATTENDEE;ROLE=REQ-PARTICIPANT;PARTSTAT=ACCEPTED;RSVP=TRUE;CN=Kalie:htt
 p://njyp.org/profile/Kalie
ATTENDEE;ROLE=REQ-PARTICIPANT;PARTSTAT=ACCEPTED;RSVP=TRUE;CN="Roxy Alo
 nzo":http://njyp.org/profile/RoxyAlonzo
ATTENDEE;ROLE=REQ-PARTICIPANT;PARTSTAT=ACCEPTED;RSVP=TRUE;CN="Dave B":
 http://njyp.org/profile/daveb
ATTENDEE;ROLE=REQ-PARTICIPANT;PARTSTAT=ACCEPTED;RSVP=TRUE;CN=Sara:http
 ://njyp.org/profile/Sara409
ATTENDEE;ROLE=REQ-PARTICIPANT;PARTSTAT=ACCEPTED;RSVP=TRUE;CN="Samir A.
  Shah":http://njyp.org/profile/SamirAShah
ATTENDEE;ROLE=REQ-PARTICIPANT;PARTSTAT=ACCEPTED;RSVP=TRUE;CN=Katie:htt
 p://njyp.org/profile/Katie261
ATTENDEE;ROLE=REQ-PARTICIPANT;PARTSTAT=ACCEPTED;RSVP=TRUE;CN=Katrina:h
 ttp://njyp.org/profile/Katrina
ATTENDEE;ROLE=REQ-PARTICIPANT;PARTSTAT=ACCEPTED;RSVP=TRUE;CN=Meri:http
 ://njyp.org/profile/Meri
ATTENDEE;ROLE=REQ-PARTICIPANT;PARTSTAT=ACCEPTED;RSVP=TRUE;CN=Adam:http
 ://njyp.org/profile/Adam212
ATTENDEE;ROLE=REQ-PARTICIPANT;PARTSTAT=ACCEPTED;RSVP=TRUE;CN=Carline:h
 ttp://njyp.org/profile/Carline
ATTENDEE;ROLE=REQ-PARTICIPANT;PARTSTAT=ACCEPTED;RSVP=TRUE;CN="Gregory 
 Egan":http://njyp.org/profile/GregoryEgan
ATTENDEE;ROLE=REQ-PARTICIPANT;PARTSTAT=ACCEPTED;RSVP=TRUE;CN="Louis C.
  Hochman":http://njyp.org/profile/LouisCHochman
ATTENDEE;ROLE=REQ-PARTICIPANT;PARTSTAT=ACCEPTED;RSVP=TRUE;CN=Cesarina:
 http://njyp.org/profile/Cesarina
ATTENDEE;ROLE=REQ-PARTICIPANT;PARTSTAT=ACCEPTED;RSVP=TRUE;CN="Lisa E":
 http://njyp.org/profile/Lisa816
ATTENDEE;ROLE=REQ-PARTICIPANT;PARTSTAT=ACCEPTED;RSVP=TRUE;CN="Kevin Ha
 ughwout":http://njyp.org/profile/KevinHaughwout
ATTENDEE;ROLE=REQ-PARTICIPANT;PARTSTAT=ACCEPTED;RSVP=TRUE;CN=Kevin:htt
 p://njyp.org/profile/Kevin84
ATTENDEE;ROLE=REQ-PARTICIPANT;PARTSTAT=ACCEPTED;RSVP=TRUE;CN=NorthNJDa
 vid:http://njyp.org/profile/NorthNJDavid
ATTENDEE;ROLE=REQ-PARTICIPANT;PARTSTAT=ACCEPTED;RSVP=TRUE;CN="Brian an
 d Mike":http://njyp.org/profile/BrianMike
ATTENDEE;ROLE=REQ-PARTICIPANT;PARTSTAT=TENTATIVE;RSVP=TRUE;CN=Amanda:h
 ttp://njyp.org/profile/Amanda710
ATTENDEE;ROLE=REQ-PARTICIPANT;PARTSTAT=TENTATIVE;RSVP=TRUE;CN=Unnati:h
 ttp://njyp.org/profile/Unnati
ATTENDEE;ROLE=REQ-PARTICIPANT;PARTSTAT=TENTATIVE;RSVP=TRUE;CN=Vinodh:h
 ttp://njyp.org/profile/Vinodh
ATTENDEE;ROLE=REQ-PARTICIPANT;PARTSTAT=TENTATIVE;RSVP=TRUE;CN=Vanessa:
 http://njyp.org/profile/Vanessa505
ATTENDEE;ROLE=REQ-PARTICIPANT;PARTSTAT=TENTATIVE;RSVP=TRUE;CN=Michael:
 http://njyp.org/profile/Michael857
ATTENDEE;ROLE=REQ-PARTICIPANT;PARTSTAT=TENTATIVE;RSVP=TRUE;CN=Janene:h
 ttp://njyp.org/profile/Janene
ATTENDEE;ROLE=REQ-PARTICIPANT;PARTSTAT=TENTATIVE;RSVP=TRUE;CN=Vivian:h
 ttp://njyp.org/profile/Vivian168
ATTENDEE;ROLE=REQ-PARTICIPANT;PARTSTAT=TENTATIVE;RSVP=TRUE;CN=Vishal:h
 ttp://njyp.org/profile/Vishal
ATTENDEE;ROLE=REQ-PARTICIPANT;PARTSTAT=TENTATIVE;RSVP=TRUE;CN=Carina:h
 ttp://njyp.org/profile/Carina
ATTENDEE;ROLE=REQ-PARTICIPANT;PARTSTAT=TENTATIVE;RSVP=TRUE;CN=Robert:h
 ttp://njyp.org/profile/Robert882
ATTENDEE;ROLE=REQ-PARTICIPANT;PARTSTAT=TENTATIVE;RSVP=TRUE;CN=Jen:http
 ://njyp.org/profile/Jen264
END:VEVENT
END:VCALENDAR
