BEGIN:VCALENDAR
PRODID:NingEventWidget-v1
VERSION:2.0
METHOD:PUBLISH
BEGIN:VTIMEZONE
TZID:America/New_York
X-LIC-LOCATION:America/New_York
BEGIN:DAYLIGHT
TZOFFSETFROM:-0500
TZOFFSETTO:-0400
TZNAME:EDT
DTSTART:19700308T020000
RRULE:FREQ=YEARLY;BYMONTH=3;BYDAY=2SU
END:DAYLIGHT
BEGIN:STANDARD
TZOFFSETFROM:-0400
TZOFFSETTO:-0500
TZNAME:EST
DTSTART:19701101T020000
RRULE:FREQ=YEARLY;BYMONTH=11;BYDAY=1SU
END:STANDARD
END:VTIMEZONE
BEGIN:VEVENT
UID:2938326:Event:716027
DTSTAMP:20260422T101619Z
SUMMARY:Hike: South Mountain Climb
DESCRIPTION:This Hike was postponed from 4/9 to 4/16 because of weathe
 r.\n\nIn the heart of Suburbia lies a beautiful piece of land set asid
 e for us to explore.  While it is in the middle of Millburn, West Ora
 nge and South Orange, you would never know after just a few minutes of
  hiking within!  Witness 2 waterfalls, giant Rhododendrons and a pret
 ty riverside walk as part of the adventure. Afterward those who have w
 orked up an appetite will head out for lunch together.  Specs: Diffic
 ulty level is 2.5, http://www.njyp.org/page/hike-ratings 5 miles and 
 will take about 3 hours. As with all hikes you must be in reasonable 
 athletic shape.\nMember Cost: $7 online (first 5), $10 online, $20 a
 t the door (so please register online)\nNon-Member Cost: $15 online, 
 $20 at the door\n Tickets: There are a limited number of Tickets for 
 sale. Tickets are not mailed, but your name will be kept at the door. 
 Actual hike is subject to change depending on weather conditions, fall
 en trees, etc. All sales are final.  Sweeper: If the group is large w
 e are going to look for 2 volunteers to act as sweepers. Sweepers will
  walk at the end of the hike line and will make sure the group stays t
 ogether.  Hike Leader: DAVID will be leading this hike.  What to brin
 g: Hiking boots or sneakers 2 Liters of Water (required). Snacks, a li
 ght lunch, etc. Toilet paper, tissues, plastic bags for garbage, etc. 
  Inclement Weather: Most heavy precipitation will cancel this hike; d
 rizzle may not. Please check your inbox for updates. Tickets will be r
 efunded.  Directions: Take 280 West until exit 10 (West Orange / North
 field Ave). At the end of the ramp, make a left onto Northfield Ave. F
 ollow for approx 2.4 miles and bear right just past the dunkin donuts 
 on the right hand side (you’ll see a sign that shows an arrow pointi
 ng to right saying Verona, and it’s a 1 way street).  Follow that 1
  way to the end and make a left.    That will put you on Cherry Lan
 e.  Follow that for almost a mile and then look for the Tulip Springs
  parking area sign on the left hand side of the road.  Pull into the 
 2nd parking area, about 200 feet to the right after you turn in.  http
 ://maps.google.com/maps?q=40.756181,-74.291525&num=1&sll=40.757756,-74
 .291723&sspn=0.006295,0.006295&ie=UTF8&ll=40.757756,-74.291723&spn=0.0
 12044,0.014141&z=16&iwloc=A  How to find the group: Meet in the 2nd pa
 rking lot.  When you turn off the main road into the Tulip Springs pa
 rking area, the 2nd lot is to the right about 200 ft. We will not wait
  for latecomers.\n\nFor more information visit http://njyp.org/events/
 hike-south-mountain-climb-7
DTSTART;TZID=America/New_York:20160416T103000
DTEND;TZID=America/New_York:20160416T133000
CATEGORIES:"essex county", athletic, hike, outdoors
LOCATION:South Mountain
WEBSITE:http://maps.google.com/maps?q=40.756181,-74.291525&num=1&sll=4
 0.757756,-74.291723&sspn=0.006295,0.006295&ie=UTF8&ll=40.757756,-74.29
 1723&spn=0.012044,0.014141&z=16&iwloc=A
URL:http://maps.google.com/maps?q=40.756181,-74.291525&num=1&sll=40.75
 7756,-74.291723&sspn=0.006295,0.006295&ie=UTF8&ll=40.757756,-74.291723
 &spn=0.012044,0.014141&z=16&iwloc=A
CONTACT:Michael Park
ORGANIZER;CN="Brian Melnick":http://njyp.org/profile/Brian1218
ATTACH;FMTTYPE="image/jpeg":http://storage.ning.com/topology/rest/1.0/
 file/get/1088704526?profile=original
ATTENDEE;ROLE=REQ-PARTICIPANT;PARTSTAT=ACCEPTED;RSVP=TRUE;CN="Eric Lon
 genecker":http://njyp.org/profile/EricLongenecker
ATTENDEE;ROLE=REQ-PARTICIPANT;PARTSTAT=ACCEPTED;RSVP=TRUE;CN=Dave:http
 ://njyp.org/profile/Dave791
ATTENDEE;ROLE=REQ-PARTICIPANT;PARTSTAT=ACCEPTED;RSVP=TRUE;CN=Keith:htt
 p://njyp.org/profile/Keith873
ATTENDEE;ROLE=REQ-PARTICIPANT;PARTSTAT=ACCEPTED;RSVP=TRUE;CN=Katrina:h
 ttp://njyp.org/profile/Katrina
ATTENDEE;ROLE=REQ-PARTICIPANT;PARTSTAT=ACCEPTED;RSVP=TRUE;CN="Venus Lu
 ":http://njyp.org/profile/VenusLu
ATTENDEE;ROLE=REQ-PARTICIPANT;PARTSTAT=ACCEPTED;RSVP=TRUE;CN=Jarrell:h
 ttp://njyp.org/profile/Jarrell
ATTENDEE;ROLE=REQ-PARTICIPANT;PARTSTAT=ACCEPTED;RSVP=TRUE;CN=Nicole:ht
 tp://njyp.org/profile/Nicole204
ATTENDEE;ROLE=REQ-PARTICIPANT;PARTSTAT=ACCEPTED;RSVP=TRUE;CN=Jessica:h
 ttp://njyp.org/profile/Jessica275
ATTENDEE;ROLE=REQ-PARTICIPANT;PARTSTAT=ACCEPTED;RSVP=TRUE;CN=Jentora:h
 ttp://njyp.org/profile/Jentora
ATTENDEE;ROLE=REQ-PARTICIPANT;PARTSTAT=ACCEPTED;RSVP=TRUE;CN=NorthNJDa
 vid:http://njyp.org/profile/NorthNJDavid
ATTENDEE;ROLE=REQ-PARTICIPANT;PARTSTAT=ACCEPTED;RSVP=TRUE;CN=Damien:ht
 tp://njyp.org/profile/DamienCaillault
ATTENDEE;ROLE=REQ-PARTICIPANT;PARTSTAT=ACCEPTED;RSVP=TRUE;CN="Michael 
 Park":http://njyp.org/profile/MichaelPark
ATTENDEE;ROLE=REQ-PARTICIPANT;PARTSTAT=ACCEPTED;RSVP=TRUE;CN="Brian Me
 lnick":http://njyp.org/profile/Brian1218
ATTENDEE;ROLE=REQ-PARTICIPANT;PARTSTAT=TENTATIVE;RSVP=TRUE;CN=Michael:
 http://njyp.org/profile/Michael858
ATTENDEE;ROLE=REQ-PARTICIPANT;PARTSTAT=TENTATIVE;RSVP=TRUE;CN=Robert:h
 ttp://njyp.org/profile/Robert882
ATTENDEE;ROLE=REQ-PARTICIPANT;PARTSTAT=TENTATIVE;RSVP=TRUE;CN=Stefanie
 :http://njyp.org/profile/Stefanie47
ATTENDEE;ROLE=REQ-PARTICIPANT;PARTSTAT=TENTATIVE;RSVP=TRUE;CN="Jeffrey
  Key":http://njyp.org/profile/JeffreyKey
ATTENDEE;ROLE=REQ-PARTICIPANT;PARTSTAT=TENTATIVE;RSVP=TRUE;CN=Diane:ht
 tp://njyp.org/profile/DianePineda
END:VEVENT
END:VCALENDAR
