BEGIN:VCALENDAR
PRODID:NingEventWidget-v1
VERSION:2.0
METHOD:PUBLISH
BEGIN:VTIMEZONE
TZID:America/New_York
X-LIC-LOCATION:America/New_York
BEGIN:DAYLIGHT
TZOFFSETFROM:-0500
TZOFFSETTO:-0400
TZNAME:EDT
DTSTART:19700308T020000
RRULE:FREQ=YEARLY;BYMONTH=3;BYDAY=2SU
END:DAYLIGHT
BEGIN:STANDARD
TZOFFSETFROM:-0400
TZOFFSETTO:-0500
TZNAME:EST
DTSTART:19701101T020000
RRULE:FREQ=YEARLY;BYMONTH=11;BYDAY=1SU
END:STANDARD
END:VTIMEZONE
BEGIN:VEVENT
UID:2938326:Event:244066
DTSTAMP:20260422T082250Z
SUMMARY:Hike: South Mountain Climb
DESCRIPTION:In the heart of Suburbia lies a beautiful piece of land se
 t aside for us to explore.  While it is in the middle of Millburn, We
 st Orange and South Orange, you would never know after just a few minu
 tes of hiking within!  Witness 2 waterfalls, giant Rhododendrons and 
 a pretty riverside walk as part of the adventure. Afterward those who 
 have worked up an appetite will head out for lunch together.Specs:The 
 hike is classified as moderate with some uphill and downhill parts.Tot
 al length is 5 miles and will take about 3 hours.Pace will be moderate
 .As with all hikes you must be in reasonable athletic shape.\n\n\nMemb
 er Cost:$5 for the first 5$10 for the next 6 to 25$20 at the doorNon-M
 ember Cost:$20 online and at the door.Tickets:There are a limited numb
 er of Tickets for sale. Tickets are not mailed, but your name will be 
 kept at the door. Actual hike is subject to change depending on weathe
 r conditions, fallen trees, etc. All sales are final.Sweeper:If the gr
 oup is large we are going to look for 2 volunteers to act as sweepers.
  Sweepers will walk at the end of the hike line and will make sure the
  group stays together.Hike Leader:David will be leading this hike.What
  to bring:Hiking boots or sneakers2 Liters of Water (required).Snacks,
  a light lunch, etc.Toilet paper, tissues, plastic bags for garbage, e
 tc.Inclement Weather:Most heavy precipitation will cancel this hike; d
 rizzle may not. Please check your inbox for updates. Tickets will be r
 efunded. Directions:Take 280 West until exit 10 (West Orange / Northfi
 eld Ave). At the end of the ramp, make a left onto Northfield Ave. Fol
 low for approx 2.4 miles and bear right just past the dunkin donuts on
  the right hand side (you’ll see a sign that shows an arrow pointing
  to right saying Verona, and it’s a 1 way street).  Follow that 1 w
 ay to the end and make a left.    That will put you on Cherry Lane.
   Follow that for almost a mile and then look for the Tulip Springs p
 arking area sign on the left hand side of the road.  Pull into the 2n
 d parking area, about 200 feet to the right after you turn in.http://m
 aps.google.com/maps?q=40.756181,-74.291525&num=1&sll=40.757756,-74.291
 723&sspn=0.006295,0.006295&ie=UTF8&ll=40.757756,-74.291723&spn=0.01204
 4,0.014141&z=16&iwloc=AHow to find the group:Meet in the 2nd parking l
 ot.  When you turn off the main road into the Tulip Springs parking a
 rea, the 2nd lot is to the right about 200 ft.  We will not wait for 
 latecomers.\n\nFor more information visit http://njyp.org/events/hike-
 south-mountain-climb
DTSTART;TZID=America/New_York:20110917T103000
DTEND;TZID=America/New_York:20110917T133000
CATEGORIES:"essex county", athletic
LOCATION:South Mountain
WEBSITE:http://maps.google.com/maps?q=40.756181,-74.291525&num=1&sll=4
 0.757756,-74.291723&sspn=0.006295,0.006295&ie=UTF8&ll=40.757756,-74.29
 1723&spn=0.012044,0.014141&z=16&iwloc=A
URL:http://maps.google.com/maps?q=40.756181,-74.291525&num=1&sll=40.75
 7756,-74.291723&sspn=0.006295,0.006295&ie=UTF8&ll=40.757756,-74.291723
 &spn=0.012044,0.014141&z=16&iwloc=A
CONTACT:
ORGANIZER;CN="Brian and Mike":http://njyp.org/profile/BrianMike
ATTACH;FMTTYPE="image/jpeg":http://storage.ning.com/topology/rest/1.0/
 file/get/1088704526?profile=original
ATTENDEE;ROLE=REQ-PARTICIPANT;PARTSTAT=ACCEPTED;RSVP=TRUE;CN=Marco:htt
 p://njyp.org/profile/MarcoFranco
ATTENDEE;ROLE=REQ-PARTICIPANT;PARTSTAT=ACCEPTED;RSVP=TRUE;CN=Jamie:htt
 p://njyp.org/profile/JamieKohl
ATTENDEE;ROLE=REQ-PARTICIPANT;PARTSTAT=ACCEPTED;RSVP=TRUE;CN="Nelly Ga
 lan":http://njyp.org/profile/NellyGalan
ATTENDEE;ROLE=REQ-PARTICIPANT;PARTSTAT=ACCEPTED;RSVP=TRUE;CN=Joe:http:
 //njyp.org/profile/Joe776
ATTENDEE;ROLE=REQ-PARTICIPANT;PARTSTAT=ACCEPTED;RSVP=TRUE;CN=Joanna:ht
 tp://njyp.org/profile/JoaKez
ATTENDEE;ROLE=REQ-PARTICIPANT;PARTSTAT=ACCEPTED;RSVP=TRUE;CN=Dylan:htt
 p://njyp.org/profile/Dylan
ATTENDEE;ROLE=REQ-PARTICIPANT;PARTSTAT=ACCEPTED;RSVP=TRUE;CN=John:http
 ://njyp.org/profile/JohnE
ATTENDEE;ROLE=REQ-PARTICIPANT;PARTSTAT=ACCEPTED;RSVP=TRUE;CN=Shweta:ht
 tp://njyp.org/profile/Shweta
ATTENDEE;ROLE=REQ-PARTICIPANT;PARTSTAT=ACCEPTED;RSVP=TRUE;CN=Ataa:http
 ://njyp.org/profile/AtaaAddo
ATTENDEE;ROLE=REQ-PARTICIPANT;PARTSTAT=ACCEPTED;RSVP=TRUE;CN=Stacey:ht
 tp://njyp.org/profile/Stacey63
ATTENDEE;ROLE=REQ-PARTICIPANT;PARTSTAT=ACCEPTED;RSVP=TRUE;CN=Carline:h
 ttp://njyp.org/profile/Carline
ATTENDEE;ROLE=REQ-PARTICIPANT;PARTSTAT=ACCEPTED;RSVP=TRUE;CN=Keri:http
 ://njyp.org/profile/Keri690
ATTENDEE;ROLE=REQ-PARTICIPANT;PARTSTAT=ACCEPTED;RSVP=TRUE;CN=Robert:ht
 tp://njyp.org/profile/Robert67
ATTENDEE;ROLE=REQ-PARTICIPANT;PARTSTAT=ACCEPTED;RSVP=TRUE;CN=Cheryl:ht
 tp://njyp.org/profile/Cheryl258
ATTENDEE;ROLE=REQ-PARTICIPANT;PARTSTAT=ACCEPTED;RSVP=TRUE;CN=Larry:htt
 p://njyp.org/profile/LarryYang
ATTENDEE;ROLE=REQ-PARTICIPANT;PARTSTAT=ACCEPTED;RSVP=TRUE;CN=Cyrielle:
 http://njyp.org/profile/Cyrielle
ATTENDEE;ROLE=REQ-PARTICIPANT;PARTSTAT=ACCEPTED;RSVP=TRUE;CN=NorthNJDa
 vid:http://njyp.org/profile/NorthNJDavid
ATTENDEE;ROLE=REQ-PARTICIPANT;PARTSTAT=ACCEPTED;RSVP=TRUE;CN="Brian an
 d Mike":http://njyp.org/profile/BrianMike
ATTENDEE;ROLE=REQ-PARTICIPANT;PARTSTAT=TENTATIVE;RSVP=TRUE;CN=nicole:h
 ttp://njyp.org/profile/nicole16
ATTENDEE;ROLE=REQ-PARTICIPANT;PARTSTAT=TENTATIVE;RSVP=TRUE;CN=Keira:ht
 tp://njyp.org/profile/Keira
ATTENDEE;ROLE=REQ-PARTICIPANT;PARTSTAT=TENTATIVE;RSVP=TRUE;CN=Vinodh:h
 ttp://njyp.org/profile/Vinodh
ATTENDEE;ROLE=REQ-PARTICIPANT;PARTSTAT=TENTATIVE;RSVP=TRUE;CN=Anita:ht
 tp://njyp.org/profile/Anita
ATTENDEE;ROLE=REQ-PARTICIPANT;PARTSTAT=TENTATIVE;RSVP=TRUE;CN=Peter:ht
 tp://njyp.org/profile/PeterMcDonnell
ATTENDEE;ROLE=REQ-PARTICIPANT;PARTSTAT=TENTATIVE;RSVP=TRUE;CN=Amanda:h
 ttp://njyp.org/profile/Amanda710
ATTENDEE;ROLE=REQ-PARTICIPANT;PARTSTAT=TENTATIVE;RSVP=TRUE;CN=Danielle
 :http://njyp.org/profile/Danielle818
ATTENDEE;ROLE=REQ-PARTICIPANT;PARTSTAT=TENTATIVE;RSVP=TRUE;CN=Rebecca:
 http://njyp.org/profile/Rebecca
ATTENDEE;ROLE=REQ-PARTICIPANT;PARTSTAT=TENTATIVE;RSVP=TRUE;CN="Ines Lo
 pes":http://njyp.org/profile/Inesl
ATTENDEE;ROLE=REQ-PARTICIPANT;PARTSTAT=TENTATIVE;RSVP=TRUE;CN="Kevin H
 aughwout":http://njyp.org/profile/KevinHaughwout
ATTENDEE;ROLE=REQ-PARTICIPANT;PARTSTAT=TENTATIVE;RSVP=TRUE;CN="Devika 
 Bakhshi":http://njyp.org/profile/Devika
ATTENDEE;ROLE=REQ-PARTICIPANT;PARTSTAT=TENTATIVE;RSVP=TRUE;CN="Jeff Ka
 lison":http://njyp.org/profile/JeffKalison
END:VEVENT
END:VCALENDAR
