BEGIN:VCALENDAR
PRODID:NingEventWidget-v1
VERSION:2.0
METHOD:PUBLISH
BEGIN:VTIMEZONE
TZID:America/New_York
X-LIC-LOCATION:America/New_York
BEGIN:DAYLIGHT
TZOFFSETFROM:-0500
TZOFFSETTO:-0400
TZNAME:EDT
DTSTART:19700308T020000
RRULE:FREQ=YEARLY;BYMONTH=3;BYDAY=2SU
END:DAYLIGHT
BEGIN:STANDARD
TZOFFSETFROM:-0400
TZOFFSETTO:-0500
TZNAME:EST
DTSTART:19701101T020000
RRULE:FREQ=YEARLY;BYMONTH=11;BYDAY=1SU
END:STANDARD
END:VTIMEZONE
BEGIN:VEVENT
UID:2938326:Event:363081
DTSTAMP:20260422T132025Z
SUMMARY:Hike: Summer Swim
DESCRIPTION:The Terrace Pond hike AND SWIM is back! This loop hike is 
 unique in that it will include a stop off at a beautiful spring fed la
 ke that you can actually take a swim in or just relax next to. Along t
 he way we will also pass by cool cliffs, neat rock formations, glacial
  erratics and rock scrambles. Pack a light lunch, extra water, a bathi
 ng suit, water shoes, and a towel!    Member Cost: $5 for the first 5 
 $10 for the next 6 to 25 $20 at the door  Non-Member Cost: $20 online 
 and at the door.  Tickets: There are a limited number of Tickets for s
 ale. Tickets are not mailed, but your name will be kept at the door. A
 ll sales are final.  Specs: The hike is classified as moderate and is 
 about 4.5 miles long. The hike should take 2-3 hours. As with all hike
 s you must be in good, athletic shape.  Sweeper: If the group is large
  we are going to look for 2 volunteers to act as sweepers. Sweepers wi
 ll walk at the end of the hike line and will make sure the group stays
  together.  Hike Leader: David will be leading this hike.  What to bri
 ng: Bathing suit, water shoes, and a towel (all optional). Hiking boot
 s and water (required). Snacks, a light lunch, etc. Toilet paper, tiss
 ues, plastic bags for garbage, etc.  Inclement Weather: Precipitation 
 may cancel this hike. Please check your inbox for updates and the NJYP
 .org calendar. Tickets will be refunded. Extreme heat may also cancel 
 this hike.  Directions: From 287 North or South (or the Wayne NJ area)
  take rt. 23 North into West Milford.  From the 287 intersection, go 
 approx. 9.6 miles and make a right onto Clinton Rd. Follow Clinton Rd 
 for about 7.8 miles. You will pass Clinton Reservoir and beautiful, th
 ick woods.  The trail head parking is on the left side of Clinton Rd 
 and is an unpaved lot. There are 2 lots close to each other. Using the
 se directions, it is the 2nd (and larger) dirt lot.  If you pass the 
 gas pipeline and start seeing lots of civilization, you went just a li
 ttle too far!  Don't get lost on Clinton Rd though, because it is sup
 posedly haunted!\nhttps://maps.google.com/maps?daddr=41.146551,-74.403
 641&hl=en&ll=41.146636,-74.402171&spn=0.007005,0.016512&sll=41.14468,-
 74.40541&sspn=0.007005,0.016512&geocode=FbfYcwIdx7CQ-w&t=h&mra=mr&z=17
 \n\nFor more information visit http://njyp.org/events/hike-summer-swim
 -1
DTSTART;TZID=America/New_York:20120728T103000
DTEND;TZID=America/New_York:20120728T133000
CATEGORIES:"passaic county", athletic
LOCATION:Bearfort Mt Natural Area
WEBSITE:https://maps.google.com/maps?daddr=41.146551,-74.403641&hl=en&
 ll=41.146636,-74.402171&spn=0.007005,0.016512&sll=41.14468,-74.40541&s
 spn=0.007005,0.016512&geocode=FbfYcwIdx7CQ-w&t=h&mra=mr&z=17
URL:https://maps.google.com/maps?daddr=41.146551,-74.403641&hl=en&ll=4
 1.146636,-74.402171&spn=0.007005,0.016512&sll=41.14468,-74.40541&sspn=
 0.007005,0.016512&geocode=FbfYcwIdx7CQ-w&t=h&mra=mr&z=17
CONTACT:
ORGANIZER;CN="Brian and Mike":http://njyp.org/profile/BrianMike
ATTACH;FMTTYPE="image/jpeg":http://storage.ning.com/topology/rest/1.0/
 file/get/1088701094?profile=original
ATTENDEE;ROLE=REQ-PARTICIPANT;PARTSTAT=ACCEPTED;RSVP=TRUE;CN=Diana:htt
 p://njyp.org/profile/Diana19
ATTENDEE;ROLE=REQ-PARTICIPANT;PARTSTAT=ACCEPTED;RSVP=TRUE;CN="Bruce Sh
 apiro":http://njyp.org/profile/BruceShapiro
ATTENDEE;ROLE=REQ-PARTICIPANT;PARTSTAT=ACCEPTED;RSVP=TRUE;CN=frank:htt
 p://njyp.org/profile/frank682
ATTENDEE;ROLE=REQ-PARTICIPANT;PARTSTAT=ACCEPTED;RSVP=TRUE;CN=Christine
 :http://njyp.org/profile/Christine248
ATTENDEE;ROLE=REQ-PARTICIPANT;PARTSTAT=ACCEPTED;RSVP=TRUE;CN=Katie:htt
 p://njyp.org/profile/Katie261
ATTENDEE;ROLE=REQ-PARTICIPANT;PARTSTAT=ACCEPTED;RSVP=TRUE;CN=Keri:http
 ://njyp.org/profile/Keri690
ATTENDEE;ROLE=REQ-PARTICIPANT;PARTSTAT=ACCEPTED;RSVP=TRUE;CN=Jessica:h
 ttp://njyp.org/profile/upsidedownhotel
ATTENDEE;ROLE=REQ-PARTICIPANT;PARTSTAT=ACCEPTED;RSVP=TRUE;CN=Patricia:
 http://njyp.org/profile/TrishaOSha
ATTENDEE;ROLE=REQ-PARTICIPANT;PARTSTAT=ACCEPTED;RSVP=TRUE;CN="Brian an
 d Mike":http://njyp.org/profile/BrianMike
ATTENDEE;ROLE=REQ-PARTICIPANT;PARTSTAT=ACCEPTED;RSVP=TRUE;CN=NorthNJDa
 vid:http://njyp.org/profile/NorthNJDavid
ATTENDEE;ROLE=REQ-PARTICIPANT;PARTSTAT=TENTATIVE;RSVP=TRUE;CN=Zenon:ht
 tp://njyp.org/profile/Zenon
ATTENDEE;ROLE=REQ-PARTICIPANT;PARTSTAT=TENTATIVE;RSVP=TRUE;CN=Pooja:ht
 tp://njyp.org/profile/Pooja
ATTENDEE;ROLE=REQ-PARTICIPANT;PARTSTAT=TENTATIVE;RSVP=TRUE;CN="rachel 
 irene":http://njyp.org/profile/rachel_irene
ATTENDEE;ROLE=REQ-PARTICIPANT;PARTSTAT=TENTATIVE;RSVP=TRUE;CN=Diana:ht
 tp://njyp.org/profile/Diana437
ATTENDEE;ROLE=REQ-PARTICIPANT;PARTSTAT=TENTATIVE;RSVP=TRUE;CN=Danielle
 :http://njyp.org/profile/Danielle472
ATTENDEE;ROLE=REQ-PARTICIPANT;PARTSTAT=TENTATIVE;RSVP=TRUE;CN=Kaitlin:
 http://njyp.org/profile/Kaitlin447
ATTENDEE;ROLE=REQ-PARTICIPANT;PARTSTAT=TENTATIVE;RSVP=TRUE;CN=Pamela:h
 ttp://njyp.org/profile/Pamela791
ATTENDEE;ROLE=REQ-PARTICIPANT;PARTSTAT=TENTATIVE;RSVP=TRUE;CN=Amanda:h
 ttp://njyp.org/profile/Amanda710
ATTENDEE;ROLE=REQ-PARTICIPANT;PARTSTAT=TENTATIVE;RSVP=TRUE;CN=David:ht
 tp://njyp.org/profile/David16
ATTENDEE;ROLE=REQ-PARTICIPANT;PARTSTAT=TENTATIVE;RSVP=TRUE;CN=Jennifer
 :http://njyp.org/profile/Jennifer234
ATTENDEE;ROLE=REQ-PARTICIPANT;PARTSTAT=TENTATIVE;RSVP=TRUE;CN=Kevin:ht
 tp://njyp.org/profile/Kevin84
ATTENDEE;ROLE=REQ-PARTICIPANT;PARTSTAT=TENTATIVE;RSVP=TRUE;CN=Victoria
 :http://njyp.org/profile/Victoria727
ATTENDEE;ROLE=REQ-PARTICIPANT;PARTSTAT=TENTATIVE;RSVP=TRUE;CN=Lizzie:h
 ttp://njyp.org/profile/ElizabethKuhns
END:VEVENT
END:VCALENDAR
