BEGIN:VCALENDAR
PRODID:NingEventWidget-v1
VERSION:2.0
METHOD:PUBLISH
BEGIN:VTIMEZONE
TZID:America/New_York
X-LIC-LOCATION:America/New_York
BEGIN:DAYLIGHT
TZOFFSETFROM:-0500
TZOFFSETTO:-0400
TZNAME:EDT
DTSTART:19700308T020000
RRULE:FREQ=YEARLY;BYMONTH=3;BYDAY=2SU
END:DAYLIGHT
BEGIN:STANDARD
TZOFFSETFROM:-0400
TZOFFSETTO:-0500
TZNAME:EST
DTSTART:19701101T020000
RRULE:FREQ=YEARLY;BYMONTH=11;BYDAY=1SU
END:STANDARD
END:VTIMEZONE
BEGIN:VEVENT
UID:2938326:Event:567199
DTSTAMP:20260420T021605Z
SUMMARY:Hike: Summer Swim
DESCRIPTION:The Terrace Pond hike AND SWIM is back! This loop hike is 
 unique in that it will include a stop off at a beautiful spring fed la
 ke that you can actually take a swim in or just relax next to. Along t
 he way we will also pass by cool cliffs, neat rock formations, glacial
  erratics and rock scrambles. Pack a light lunch, extra water, a bathi
 ng suit, water shoes, and a towel!\n\n\nMember Cost: $10 online $20 at
  the door  Non-Member Cost: $20 online and at the door.  Tickets: Ther
 e are a limited number of Tickets for sale. Tickets are not mailed, bu
 t your name will be kept at the door. All sales are final.  Specs: Dif
 ficulty level is 3.0, http://www.njyp.org/page/hike-ratings The hike 
 should take 2-3 hours and cover 4.5 miles. As with all hikes you must 
 be in good, athletic shape.  Sweeper: If the group is large we are goi
 ng to look for 2 volunteers to act as sweepers. Sweepers will walk at 
 the end of the hike line and will make sure the group stays together. 
  Hike Leader: David will be leading this hike.  What to bring: Bathing
  suit, water shoes, and a towel (all optional). Hiking boots and water
  (required). Snacks, a light lunch, etc. Toilet paper, tissues, plasti
 c bags for garbage, etc.  Inclement Weather: Precipitation may cancel 
 this hike. Please check your inbox for updates and the NJYP.org calend
 ar. Tickets will be refunded. Extreme heat may also cancel this hike. 
  Directions: From 287 North or South (or the Wayne NJ area) take rt. 2
 3 North into West Milford.  From the 287 intersection, go approx. 9.6
  miles and make a right onto Clinton Rd. Follow Clinton Rd for about 7
 .8 miles. You will pass Clinton Reservoir and beautiful, thick woods. 
  The trail head parking is on the left side of Clinton Rd and is an u
 npaved lot. There are 2 lots close to each other. Using these directio
 ns, it is the 2nd (and larger) dirt lot.  If you pass the gas pipelin
 e and start seeing lots of civilization, you went just a little too fa
 r!  Don't get lost on Clinton Rd though, because it is supposedly hau
 nted!\nhttps://goo.gl/maps/imjsY\n\nFor more information visit http://
 njyp.org/events/hike-summer-swim-3
DTSTART;TZID=America/New_York:20140720T103000
DTEND;TZID=America/New_York:20140720T133000
CATEGORIES:"passaic county", athletic
LOCATION:Bearfort Mt Natural Area
WEBSITE:https://goo.gl/maps/imjsY
URL:https://goo.gl/maps/imjsY
CONTACT:
ORGANIZER;CN="Brian and Mike":http://njyp.org/profile/BrianMike
ATTACH;FMTTYPE="image/jpeg":http://storage.ning.com/topology/rest/1.0/
 file/get/1088701094?profile=original
ATTENDEE;ROLE=REQ-PARTICIPANT;PARTSTAT=ACCEPTED;RSVP=TRUE;CN=Frankie:h
 ttp://njyp.org/profile/FRANKIE232
ATTENDEE;ROLE=REQ-PARTICIPANT;PARTSTAT=ACCEPTED;RSVP=TRUE;CN=John:http
 ://njyp.org/profile/JohnE
ATTENDEE;ROLE=REQ-PARTICIPANT;PARTSTAT=ACCEPTED;RSVP=TRUE;CN=Keira:htt
 p://njyp.org/profile/Keira
ATTENDEE;ROLE=REQ-PARTICIPANT;PARTSTAT=ACCEPTED;RSVP=TRUE;CN=Olga:http
 ://njyp.org/profile/Olga121
ATTENDEE;ROLE=REQ-PARTICIPANT;PARTSTAT=ACCEPTED;RSVP=TRUE;CN=Melissa:h
 ttp://njyp.org/profile/MelissaF
ATTENDEE;ROLE=REQ-PARTICIPANT;PARTSTAT=ACCEPTED;RSVP=TRUE;CN="Brian an
 d Mike":http://njyp.org/profile/BrianMike
ATTENDEE;ROLE=REQ-PARTICIPANT;PARTSTAT=ACCEPTED;RSVP=TRUE;CN=NorthNJDa
 vid:http://njyp.org/profile/NorthNJDavid
ATTENDEE;ROLE=REQ-PARTICIPANT;PARTSTAT=TENTATIVE;RSVP=TRUE;CN=Codjo:ht
 tp://njyp.org/profile/Joe709
ATTENDEE;ROLE=REQ-PARTICIPANT;PARTSTAT=TENTATIVE;RSVP=TRUE;CN=Amy:http
 ://njyp.org/profile/Amy665
ATTENDEE;ROLE=REQ-PARTICIPANT;PARTSTAT=TENTATIVE;RSVP=TRUE;CN=Rhiannon
 :http://njyp.org/profile/Rhiannon
ATTENDEE;ROLE=REQ-PARTICIPANT;PARTSTAT=TENTATIVE;RSVP=TRUE;CN=Dave:htt
 p://njyp.org/profile/Dave791
ATTENDEE;ROLE=REQ-PARTICIPANT;PARTSTAT=TENTATIVE;RSVP=TRUE;CN=Zhenya:h
 ttp://njyp.org/profile/ZhenyaKucsma
ATTENDEE;ROLE=REQ-PARTICIPANT;PARTSTAT=TENTATIVE;RSVP=TRUE;CN=Pamela:h
 ttp://njyp.org/profile/Pamela791
ATTENDEE;ROLE=REQ-PARTICIPANT;PARTSTAT=TENTATIVE;RSVP=TRUE;CN=Caela:ht
 tp://njyp.org/profile/Caela
ATTENDEE;ROLE=REQ-PARTICIPANT;PARTSTAT=TENTATIVE;RSVP=TRUE;CN=Kavita:h
 ttp://njyp.org/profile/Kavita
ATTENDEE;ROLE=REQ-PARTICIPANT;PARTSTAT=TENTATIVE;RSVP=TRUE;CN=Jentora:
 http://njyp.org/profile/Jentora
ATTENDEE;ROLE=REQ-PARTICIPANT;PARTSTAT=TENTATIVE;RSVP=TRUE;CN=Melanie:
 http://njyp.org/profile/Melanie124
END:VEVENT
END:VCALENDAR
