BEGIN:VCALENDAR
PRODID:NingEventWidget-v1
VERSION:2.0
METHOD:PUBLISH
BEGIN:VTIMEZONE
TZID:America/New_York
X-LIC-LOCATION:America/New_York
BEGIN:DAYLIGHT
TZOFFSETFROM:-0500
TZOFFSETTO:-0400
TZNAME:EDT
DTSTART:19700308T020000
RRULE:FREQ=YEARLY;BYMONTH=3;BYDAY=2SU
END:DAYLIGHT
BEGIN:STANDARD
TZOFFSETFROM:-0400
TZOFFSETTO:-0500
TZNAME:EST
DTSTART:19701101T020000
RRULE:FREQ=YEARLY;BYMONTH=11;BYDAY=1SU
END:STANDARD
END:VTIMEZONE
BEGIN:VEVENT
UID:2938326:Event:80536
DTSTAMP:20260421T022127Z
SUMMARY:Hike: Terrace Pond with Swim for Women Only
DESCRIPTION:This hike has been canceled due to pending thunderstorms.\
 n\nOur female only hikes are for women and lead by women! Expand your 
 girlfriend circle by meeting up with local, young women who enjoy the 
 outdoors.\n\nThe Terrace Pond hike AND SWIM is back! This loop hike is
  unique in that it will include a stop off at a beautiful spring fed l
 ake that you can actually take a swim in or just relax next to. Along 
 the way we will also pass by cool cliffs, neat rock formations, glacia
 l erratics and rock scrambles. Pack a light lunch, extra water, a bath
 ing suit, water shoes, and a towel!\n\n\n\nMember Cost:\n$5 for the fi
 rst 5\n$10 for the next 6 to 25\n$20 at the door\n\nNon-Member Cost:\n
 $20 online and at the door.\n\nTickets:\nThere are a limited number of
  Tickets for sale. Tickets are not mailed, but your name will be kept 
 at the door. All sales are final.\n\nSpecs:\nThe hike is classified as
  moderate and is about 4.3 miles long.\nThe hike should take 2-3 hours
 .\nAs with all hikes you must be in good, athletic shape.\n\nSweeper:\
 nIf the group is large we are going to look for 2 volunteers to act as
  sweepers. Sweepers will walk at the end of the hike line and will mak
 e sure the group stays together.\n\nHike Leader:\nBibi will be leading
  this hike.\n\nWhat to bring:\nBathing suit, water shoes, and a towel 
 (all optional).\nHiking boots and water (required).\nSnacks, a light l
 unch, etc.\nToilet paper, tissues, plastic bags for garbage, etc.\n\nI
 nclement Weather:\nPrecipitation may cancel this hike. Please check yo
 ur inbox for updates and the NJYP.org calendar. Tickets will be refund
 ed. Extreme heat may also cancel this hike.\n\nDirections:\nFrom Wayne
  NJ take rt. 23 North into West Milford. Make a right onto Clinton Rd.
  Be careful Clinton Rd is suppose to be haunted. Follow Clinton Rd pas
 t Clinton Reservoir. Trail head and parking is on the left on Clinton 
 Rd. Just before pipe Line and close to the end of the road. If you go 
 to Warwick Turnpike you went too far. (Lat:41.14257 Lon:-74.4072)\n\nF
 or more information visit http://njyp.org/events/hike-terrace-pond-wit
 h-swim
DTSTART;TZID=America/New_York:20100710T103000
DTEND;TZID=America/New_York:20100710T133000
CATEGORIES:"passaic county", athletic, "women only"
LOCATION:Bearfort Mt Natural Area
WEBSITE:
URL:
CONTACT:
ORGANIZER;CN="Brian and Mike":http://njyp.org/profile/BrianMike
ATTACH;FMTTYPE="image/jpeg":http://storage.ning.com/topology/rest/1.0/
 file/get/1088623999?profile=original
ATTENDEE;ROLE=REQ-PARTICIPANT;PARTSTAT=ACCEPTED;RSVP=TRUE;CN="Lauren S
 eabrooks":http://njyp.org/profile/LaurenSeabrooks
ATTENDEE;ROLE=REQ-PARTICIPANT;PARTSTAT=ACCEPTED;RSVP=TRUE;CN="Brian an
 d Mike":http://njyp.org/profile/BrianMike
ATTENDEE;ROLE=REQ-PARTICIPANT;PARTSTAT=TENTATIVE;RSVP=TRUE;CN="Jenny S
 immons":http://njyp.org/profile/JennySimmons
ATTENDEE;ROLE=REQ-PARTICIPANT;PARTSTAT=TENTATIVE;RSVP=TRUE;CN=Jamie:ht
 tp://njyp.org/profile/Jamie
ATTENDEE;ROLE=REQ-PARTICIPANT;PARTSTAT=TENTATIVE;RSVP=TRUE;CN=Alexandr
 a:http://njyp.org/profile/Alexandra689
ATTENDEE;ROLE=REQ-PARTICIPANT;PARTSTAT=TENTATIVE;RSVP=TRUE;CN="Noelle 
 Stary":http://njyp.org/profile/NoelleStary
ATTENDEE;ROLE=REQ-PARTICIPANT;PARTSTAT=TENTATIVE;RSVP=TRUE;CN=Katherin
 e:http://njyp.org/profile/Katherine
ATTENDEE;ROLE=REQ-PARTICIPANT;PARTSTAT=TENTATIVE;RSVP=TRUE;CN=Diana:ht
 tp://njyp.org/profile/Diana
ATTENDEE;ROLE=REQ-PARTICIPANT;PARTSTAT=TENTATIVE;RSVP=TRUE;CN="Tara Bu
 rns":http://njyp.org/profile/TaraBurns
ATTENDEE;ROLE=REQ-PARTICIPANT;PARTSTAT=TENTATIVE;RSVP=TRUE;CN=Jessica:
 http://njyp.org/profile/JessicaNatalizio
END:VEVENT
END:VCALENDAR
