BEGIN:VCALENDAR
PRODID:NingEventWidget-v1
VERSION:2.0
METHOD:PUBLISH
BEGIN:VTIMEZONE
TZID:America/New_York
X-LIC-LOCATION:America/New_York
BEGIN:DAYLIGHT
TZOFFSETFROM:-0500
TZOFFSETTO:-0400
TZNAME:EDT
DTSTART:19700308T020000
RRULE:FREQ=YEARLY;BYMONTH=3;BYDAY=2SU
END:DAYLIGHT
BEGIN:STANDARD
TZOFFSETFROM:-0400
TZOFFSETTO:-0500
TZNAME:EST
DTSTART:19701101T020000
RRULE:FREQ=YEARLY;BYMONTH=11;BYDAY=1SU
END:STANDARD
END:VTIMEZONE
BEGIN:VEVENT
UID:2938326:Event:108046
DTSTAMP:20260421T131142Z
SUMMARY:Hike: The Harriman Challenge
DESCRIPTION:Are you ready for a late fall challenge? Then meet up with
  other NJYPers at Harriman State Park as we follow a path that will ta
 ke us past old growth green forests, pristine vistas and beautiful ove
 rlooks of lush valleys and distant cities. Together we will explore th
 is vast, beautiful place while getting in a workout. After the hike we
  may go out for a late lunch and hot drinks so bring cash and get read
 y to work up an appetite.\n\n\n\nMember Cost:\n$5 for the first 5 to b
 uy a ticket\n$10 for the next 6-25 to buy a ticket\n$20 at the door (s
 o please register online)\n\nNon-Member Cost:\n$20 online and at the d
 oor\n\nTickets:\nLimited tickets are available. All sales are final. Y
 our name will be at the door if you buy a ticket.\n\nHike Leader:\nDav
 id will be leading this hike. David will not be waiting for late peopl
 e. In fairness to those who arrive on time, the hike will start on tim
 e.\n\nHike Specs:\nClassified as moderately strenuous with a lot of up
 hill and downhill.\n7 miles long and we will walk at a moderate pace.\
 n4 hours from start to finish, depending on how people feel.\nAs with 
 all hikes you must be in good, athletic shape. This is NOT suitable fo
 r beginners.\n\nSweeper:\nIf the group size is larger than 10, we are 
 going to look for a volunteer to act as a sweeper. Sweepers will walk 
 at the end of the hike line and will make sure the group stays togethe
 r.\n\nWhat to bring:\nHiking boots and 3 liters of water (required).\n
 Also recommended is non cotton clothing. Cotton holds in moisture and 
 will make you feel cold if you start sweating.\nWe recommend sunscreen
  and a light snack or a small lunch if you do not want to go out to ea
 t afterwards.\n\nInclement Weather:\nHeavy precipitation will cancel t
 his hike; drizzle will not. Extreme cold will cancel this hike. Please
  check your inbox for updates. Tickets will be refunded.\n\nDirections
 :\nHead north on I-287. Follow I-287 until the NY State border and fol
 low the signs for I-87 North (also known as NY State Thruway). Take ex
 it 15A and make a left at the end of the exit ramp onto RT 17 North. F
 ollow that for 2.5 miles and make a right turn onto Seven Lakes Drive.
  Follow Seven Lakes Drive for 1.5 miles and you will see the visitorâ€
 ™s center to the right. There is little parking so you may have to par
 k on the street with other vehicles (thatâ€™s not a problem, but just 
 be aware and keep your tires behind the white line).\n\nObey the speed
  limit! 25mph as you approach the park and they mean it.\n\nGoogle Map
 s Link:\nhttp://maps.google.com/maps?f=d&source=s_d&saddr=&daddr=41.17
 4132,-74.16883&geocode=&hl=en&mra=dme&mrcr=0&mrsp=1&sz=15&sll=41.17232
 3,-74.163895&sspn=0.023872,0.031028&ie=UTF8&ll=41.167412,-74.174795&sp
 n=0.047749,0.062056&z=14\n\n\nHow to find the group:\nMeet by the park
 ing lot next to the visitorâ€™s center building.\n\nFor more informati
 on visit http://njyp.org/events/hike-the-harriman-challenge
DTSTART;TZID=America/New_York:20101114T103000
DTEND;TZID=America/New_York:20101114T143000
CATEGORIES:"bergen county", athletic
LOCATION:Harriman State Park -  Visitor's Center
WEBSITE:
URL:
CONTACT:
ORGANIZER;CN="Brian and Mike":http://njyp.org/profile/BrianMike
ATTACH;FMTTYPE="image/jpeg":http://storage.ning.com/topology/rest/1.0/
 file/get/1088649572?profile=original
ATTENDEE;ROLE=REQ-PARTICIPANT;PARTSTAT=ACCEPTED;RSVP=TRUE;CN="Brian Ph
 illips":http://njyp.org/profile/BrianPhillips
ATTENDEE;ROLE=REQ-PARTICIPANT;PARTSTAT=ACCEPTED;RSVP=TRUE;CN=Jenn:http
 ://njyp.org/profile/Jenn231
ATTENDEE;ROLE=REQ-PARTICIPANT;PARTSTAT=ACCEPTED;RSVP=TRUE;CN=Douglas:h
 ttp://njyp.org/profile/Douglas657
ATTENDEE;ROLE=REQ-PARTICIPANT;PARTSTAT=ACCEPTED;RSVP=TRUE;CN="Jay Shah
 ":http://njyp.org/profile/JayShah
ATTENDEE;ROLE=REQ-PARTICIPANT;PARTSTAT=ACCEPTED;RSVP=TRUE;CN=Elizabeth
 :http://njyp.org/profile/Quirky3
ATTENDEE;ROLE=REQ-PARTICIPANT;PARTSTAT=ACCEPTED;RSVP=TRUE;CN=Larry:htt
 p://njyp.org/profile/LarryYang
ATTENDEE;ROLE=REQ-PARTICIPANT;PARTSTAT=ACCEPTED;RSVP=TRUE;CN=Shannon:h
 ttp://njyp.org/profile/Shannon24
ATTENDEE;ROLE=REQ-PARTICIPANT;PARTSTAT=ACCEPTED;RSVP=TRUE;CN=Jessica:h
 ttp://njyp.org/profile/JessicaNatalizio
ATTENDEE;ROLE=REQ-PARTICIPANT;PARTSTAT=ACCEPTED;RSVP=TRUE;CN=NorthNJDa
 vid:http://njyp.org/profile/NorthNJDavid
ATTENDEE;ROLE=REQ-PARTICIPANT;PARTSTAT=ACCEPTED;RSVP=TRUE;CN="Brian an
 d Mike":http://njyp.org/profile/BrianMike
ATTENDEE;ROLE=REQ-PARTICIPANT;PARTSTAT=TENTATIVE;RSVP=TRUE;CN=Amy:http
 ://njyp.org/profile/Amy688
ATTENDEE;ROLE=REQ-PARTICIPANT;PARTSTAT=TENTATIVE;RSVP=TRUE;CN=Carmela:
 http://njyp.org/profile/Carmela
ATTENDEE;ROLE=REQ-PARTICIPANT;PARTSTAT=TENTATIVE;RSVP=TRUE;CN="Anthony
  Bonassisa":http://njyp.org/profile/AnthonyBonassisa
ATTENDEE;ROLE=REQ-PARTICIPANT;PARTSTAT=TENTATIVE;RSVP=TRUE;CN=Rebecca:
 http://njyp.org/profile/Rebecca
ATTENDEE;ROLE=REQ-PARTICIPANT;PARTSTAT=TENTATIVE;RSVP=TRUE;CN=Stefanie
 :http://njyp.org/profile/Stefanie
ATTENDEE;ROLE=REQ-PARTICIPANT;PARTSTAT=TENTATIVE;RSVP=TRUE;CN=Lizzie:h
 ttp://njyp.org/profile/ElizabethKuhns
ATTENDEE;ROLE=REQ-PARTICIPANT;PARTSTAT=TENTATIVE;RSVP=TRUE;CN="Jenny M
 ":http://njyp.org/profile/JennyMulcahy
ATTENDEE;ROLE=REQ-PARTICIPANT;PARTSTAT=TENTATIVE;RSVP=TRUE;CN="Tara Bu
 rns":http://njyp.org/profile/TaraBurns
ATTENDEE;ROLE=REQ-PARTICIPANT;PARTSTAT=TENTATIVE;RSVP=TRUE;CN="rachel 
 irene":http://njyp.org/profile/rachel_irene
END:VEVENT
END:VCALENDAR
