BEGIN:VCALENDAR
PRODID:NingEventWidget-v1
VERSION:2.0
METHOD:PUBLISH
BEGIN:VTIMEZONE
TZID:America/New_York
X-LIC-LOCATION:America/New_York
BEGIN:DAYLIGHT
TZOFFSETFROM:-0500
TZOFFSETTO:-0400
TZNAME:EDT
DTSTART:19700308T020000
RRULE:FREQ=YEARLY;BYMONTH=3;BYDAY=2SU
END:DAYLIGHT
BEGIN:STANDARD
TZOFFSETFROM:-0400
TZOFFSETTO:-0500
TZNAME:EST
DTSTART:19701101T020000
RRULE:FREQ=YEARLY;BYMONTH=11;BYDAY=1SU
END:STANDARD
END:VTIMEZONE
BEGIN:VEVENT
UID:2938326:Event:106972
DTSTAMP:20260420T140541Z
SUMMARY:Hike: The Mt Tammany Challenge
DESCRIPTION:Are you ready to be blown away? The Mount Tammany Hike is 
 one of the most famous in all of New Jersey. The views are spectacular
  and at one point there is even a 1300 foot drop off to the Delaware R
 iver below! The hike starts off at around 200 ft above sea level and c
 limbs to 1527ft above all in about 2 miles. The terrain is very rocky 
 so ankle support is important. Along the hike you will find beautiful 
 streams, quaint waterfalls, and an abundance of unique foliage. So, if
  you are in good physical shape and are ready for a challenge, join us
  this Sunday morning!\n\n\n\nSpecs:\nThe hike is classified as strenuo
 us and is about 3.5 miles long.\nThe hike should take 3-4 hours.\nThis
  is not a hike for \"first timers\". You must be in good, athletic sha
 pe.\nGroup will stop to eat lunch along the trail. BYOLunch.\n\nMember
  Cost:\n$5 for the first 5 to buy a ticket\n$10 for the next 6-25 to b
 uy a ticket\n$20 at the door (so please register online)\n\nNon-Member
  Cost:\n$20 online and at the door\n\nTickets:\nThere are a limited nu
 mber of Tickets for sale. Tickets are not mailed, but your name will b
 e kept at the door. Actual hike is subject to change depending on weat
 her conditions, fallen trees, etc. All sales are final.\n\nSweeper:\nI
 f the group is large we are going to look for 2 volunteers to act as s
 weepers. Sweepers will walk at the end of the hike line and will make 
 sure the group stays together.\n\nHike Leader:\nNoah will be leading t
 his hike. It is one of his favorites!\n\nWhat to bring:\nHiking boots 
 and water (both required).\nSnacks, a lunch, layers of clothing, etc.\
 nToilet paper, tissues, plastic bags for garbage, etc.\nDo NOT wear sn
 eakers.\n\nInclement Weather:\nPrecipitation might cancel this hike bu
 t we often walk in light rain. Please check your inbox for updates and
  the NJYP.org calendar. Tickets will be refunded.\n\nDirections:\nTake
  Interstate Route 80 west towards the Delaware Water Gap. Immediately 
 beyond milepost 1, take the exit for the \"picnic area\" and bear left
  at the fork. Continue past the underpass to the left and turn right i
 nto a parking area at a sign for \"Dunnfield Creek Natural Area.\" (If
  you miss the exit from Route 80, take Exit 1, turn left at the end of
  the ramp, and continue on the service road parallel to Route 80 past 
 the visitor center. Turn left at the underpass, go under Route 80, tur
 n left again, and turn right at the \"Dunnfield Creek Natural Area\" s
 ign.\n\nIt is almost impossible to use an online mapping system as the
 re is no street address for the Dunnfield Creek Natural Area. The park
  is right outside of Columbia NJ, off route 80 (past exit 4 but before
  exit 1).\n\nHere is the actual Mount Tammany hike with directions.\n\
 nFor more information visit http://njyp.org/events/hike-the-mt-tammany
 -challenge
DTSTART;TZID=America/New_York:20101024T103000
DTEND;TZID=America/New_York:20101024T143000
CATEGORIES:"warren county", "morris county", "somerset county", athlet
 ic
LOCATION:Worthington State Forest
WEBSITE:http://www.nynjtc.org/hike/blue-dotred-dot-loop-summit-mount-t
 ammany
URL:http://www.nynjtc.org/hike/blue-dotred-dot-loop-summit-mount-tamma
 ny
CONTACT:
ORGANIZER;CN="Brian and Mike":http://njyp.org/profile/BrianMike
ATTACH;FMTTYPE="image/jpeg":http://storage.ning.com/topology/rest/1.0/
 file/get/1088646156?profile=original
ATTENDEE;ROLE=REQ-PARTICIPANT;PARTSTAT=ACCEPTED;RSVP=TRUE;CN=Janel:htt
 p://njyp.org/profile/Janel
ATTENDEE;ROLE=REQ-PARTICIPANT;PARTSTAT=ACCEPTED;RSVP=TRUE;CN=Carmela:h
 ttp://njyp.org/profile/Carmela
ATTENDEE;ROLE=REQ-PARTICIPANT;PARTSTAT=ACCEPTED;RSVP=TRUE;CN=Keira:htt
 p://njyp.org/profile/Keira
ATTENDEE;ROLE=REQ-PARTICIPANT;PARTSTAT=ACCEPTED;RSVP=TRUE;CN=Larry:htt
 p://njyp.org/profile/LarryYang
ATTENDEE;ROLE=REQ-PARTICIPANT;PARTSTAT=ACCEPTED;RSVP=TRUE;CN="Chris G"
 :http://njyp.org/profile/ChrisG
ATTENDEE;ROLE=REQ-PARTICIPANT;PARTSTAT=ACCEPTED;RSVP=TRUE;CN=Simon:htt
 p://njyp.org/profile/Simon
ATTENDEE;ROLE=REQ-PARTICIPANT;PARTSTAT=ACCEPTED;RSVP=TRUE;CN=David:htt
 p://njyp.org/profile/David847
ATTENDEE;ROLE=REQ-PARTICIPANT;PARTSTAT=ACCEPTED;RSVP=TRUE;CN=Lizzie:ht
 tp://njyp.org/profile/ElizabethKuhns
ATTENDEE;ROLE=REQ-PARTICIPANT;PARTSTAT=ACCEPTED;RSVP=TRUE;CN=Lena:http
 ://njyp.org/profile/Lena493
ATTENDEE;ROLE=REQ-PARTICIPANT;PARTSTAT=ACCEPTED;RSVP=TRUE;CN="Dave Don
 io":http://njyp.org/profile/DaveDonio
ATTENDEE;ROLE=REQ-PARTICIPANT;PARTSTAT=ACCEPTED;RSVP=TRUE;CN="Tara Bur
 ns":http://njyp.org/profile/TaraBurns
ATTENDEE;ROLE=REQ-PARTICIPANT;PARTSTAT=ACCEPTED;RSVP=TRUE;CN=Noah:http
 ://njyp.org/profile/NoahFine
ATTENDEE;ROLE=REQ-PARTICIPANT;PARTSTAT=ACCEPTED;RSVP=TRUE;CN="Jenny M"
 :http://njyp.org/profile/JennyMulcahy
ATTENDEE;ROLE=REQ-PARTICIPANT;PARTSTAT=ACCEPTED;RSVP=TRUE;CN="Jose G."
 :http://njyp.org/profile/MrG
ATTENDEE;ROLE=REQ-PARTICIPANT;PARTSTAT=ACCEPTED;RSVP=TRUE;CN="Heather 
 Sears":http://njyp.org/profile/HeatherSears
ATTENDEE;ROLE=REQ-PARTICIPANT;PARTSTAT=ACCEPTED;RSVP=TRUE;CN="Brian an
 d Mike":http://njyp.org/profile/BrianMike
ATTENDEE;ROLE=REQ-PARTICIPANT;PARTSTAT=TENTATIVE;RSVP=TRUE;CN=Justin:h
 ttp://njyp.org/profile/Justin788
ATTENDEE;ROLE=REQ-PARTICIPANT;PARTSTAT=TENTATIVE;RSVP=TRUE;CN=David:ht
 tp://njyp.org/profile/DavidCollins
ATTENDEE;ROLE=REQ-PARTICIPANT;PARTSTAT=TENTATIVE;RSVP=TRUE;CN="Lillian
  T.":http://njyp.org/profile/LillianT
ATTENDEE;ROLE=REQ-PARTICIPANT;PARTSTAT=TENTATIVE;RSVP=TRUE;CN=Tanya:ht
 tp://njyp.org/profile/something
ATTENDEE;ROLE=REQ-PARTICIPANT;PARTSTAT=TENTATIVE;RSVP=TRUE;CN=Joseph:h
 ttp://njyp.org/profile/Joseph739
ATTENDEE;ROLE=REQ-PARTICIPANT;PARTSTAT=TENTATIVE;RSVP=TRUE;CN="Jeffrey
  Rieske":http://njyp.org/profile/jwr
ATTENDEE;ROLE=REQ-PARTICIPANT;PARTSTAT=TENTATIVE;RSVP=TRUE;CN=Dar:http
 ://njyp.org/profile/Darlene
ATTENDEE;ROLE=REQ-PARTICIPANT;PARTSTAT=TENTATIVE;RSVP=TRUE;CN=Robert:h
 ttp://njyp.org/profile/Robert367
ATTENDEE;ROLE=REQ-PARTICIPANT;PARTSTAT=TENTATIVE;RSVP=TRUE;CN=Laavanya
 :http://njyp.org/profile/LaavanyaPasupuleti
ATTENDEE;ROLE=REQ-PARTICIPANT;PARTSTAT=TENTATIVE;RSVP=TRUE;CN="Jennife
 r Giannone":http://njyp.org/profile/JenniferGiannone
END:VEVENT
END:VCALENDAR
